BEGIN:VCALENDAR
VERSION:2.0
PRODID:-//Info Stargard - ECPv6.15.20//NONSGML v1.0//EN
CALSCALE:GREGORIAN
METHOD:PUBLISH
X-WR-CALNAME:Info Stargard
X-ORIGINAL-URL:https://infostargard.pl
X-WR-CALDESC:Wydarzenia dla Info Stargard
REFRESH-INTERVAL;VALUE=DURATION:PT1H
X-Robots-Tag:noindex
X-PUBLISHED-TTL:PT1H
BEGIN:VTIMEZONE
TZID:Europe/Helsinki
BEGIN:DAYLIGHT
TZOFFSETFROM:+0200
TZOFFSETTO:+0300
TZNAME:EEST
DTSTART:20250330T010000
END:DAYLIGHT
BEGIN:STANDARD
TZOFFSETFROM:+0300
TZOFFSETTO:+0200
TZNAME:EET
DTSTART:20251026T010000
END:STANDARD
BEGIN:DAYLIGHT
TZOFFSETFROM:+0200
TZOFFSETTO:+0300
TZNAME:EEST
DTSTART:20260329T010000
END:DAYLIGHT
BEGIN:STANDARD
TZOFFSETFROM:+0300
TZOFFSETTO:+0200
TZNAME:EET
DTSTART:20261025T010000
END:STANDARD
BEGIN:DAYLIGHT
TZOFFSETFROM:+0200
TZOFFSETTO:+0300
TZNAME:EEST
DTSTART:20270328T010000
END:DAYLIGHT
BEGIN:STANDARD
TZOFFSETFROM:+0300
TZOFFSETTO:+0200
TZNAME:EET
DTSTART:20271031T010000
END:STANDARD
END:VTIMEZONE
BEGIN:VEVENT
DTSTART;TZID=Europe/Helsinki:20260307T170000
DTEND;TZID=Europe/Helsinki:20260307T170000
DTSTAMP:20260421T190716
CREATED:20260303T130552Z
LAST-MODIFIED:20260304T091751Z
UID:39996-1772902800-1772902800@infostargard.pl
SUMMARY:Między barwą a formą - wystawa grupy Malachit w DKK i koncert Być Może
DESCRIPTION:7 marca o godz. 17 w Domu Kultury Kolejarza odbędzie się wyjątkowe spotkanie ze sztuką.  \nWystawa malarstwa grupy Malachit to coś więcej niż prezentacja prac – to podróż przez emocje\, odważne decyzje twórcze i dojrzałość budowaną latami. Różne drogi artystyczne\, różne techniki\, jedna wspólna pasja. Kolor spotyka formę. Ekspresja spotyka wrażliwość. To przestrzeń\, w której można zatrzymać się na chwilę i pozwolić sztuce mówić własnym językiem. \nTen wyjątkowy wieczór dopełni koncert zespołu „Być Może”. Subtelne brzmienia\, akustyczna energia i klimat\, który sprawi\, że obrazy zabrzmią jeszcze mocniej\, a muzyka nabierze barw. Pozwól\, by sztuka i muzyka opowiedziały Ci swoją historię. \nInf. organizatora
URL:https://infostargard.pl/event/miedzy-barwa-a-forma-wystawa-grupy-malachit-w-dkk-i-koncert-byc-moze/
LOCATION:Dom Kultury Kolejarza w Stargardzie
END:VEVENT
END:VCALENDAR