BEGIN:VCALENDAR
VERSION:2.0
PRODID:-//Info Stargard - ECPv6.15.20//NONSGML v1.0//EN
CALSCALE:GREGORIAN
METHOD:PUBLISH
X-WR-CALNAME:Info Stargard
X-ORIGINAL-URL:https://infostargard.pl
X-WR-CALDESC:Wydarzenia dla Info Stargard
REFRESH-INTERVAL;VALUE=DURATION:PT1H
X-Robots-Tag:noindex
X-PUBLISHED-TTL:PT1H
BEGIN:VTIMEZONE
TZID:Europe/Helsinki
BEGIN:DAYLIGHT
TZOFFSETFROM:+0200
TZOFFSETTO:+0300
TZNAME:EEST
DTSTART:20250330T010000
END:DAYLIGHT
BEGIN:STANDARD
TZOFFSETFROM:+0300
TZOFFSETTO:+0200
TZNAME:EET
DTSTART:20251026T010000
END:STANDARD
BEGIN:DAYLIGHT
TZOFFSETFROM:+0200
TZOFFSETTO:+0300
TZNAME:EEST
DTSTART:20260329T010000
END:DAYLIGHT
BEGIN:STANDARD
TZOFFSETFROM:+0300
TZOFFSETTO:+0200
TZNAME:EET
DTSTART:20261025T010000
END:STANDARD
BEGIN:DAYLIGHT
TZOFFSETFROM:+0200
TZOFFSETTO:+0300
TZNAME:EEST
DTSTART:20270328T010000
END:DAYLIGHT
BEGIN:STANDARD
TZOFFSETFROM:+0300
TZOFFSETTO:+0200
TZNAME:EET
DTSTART:20271031T010000
END:STANDARD
END:VTIMEZONE
BEGIN:VEVENT
DTSTART;TZID=Europe/Helsinki:20260124T110000
DTEND;TZID=Europe/Helsinki:20260124T130000
DTSTAMP:20260420T063403
CREATED:20260122T115828Z
LAST-MODIFIED:20260122T115905Z
UID:35978-1769252400-1769259600@infostargard.pl
SUMMARY:Turniej Piłki Nożnej Halowej w Chociwlu
DESCRIPTION:
URL:https://infostargard.pl/event/turniej-pilki-noznej-halowej-w-chociwlu/
LOCATION:Hala Widowiskowo-Sportowa w Chociwlu
END:VEVENT
BEGIN:VEVENT
DTSTART;TZID=Europe/Helsinki:20260124T120000
DTEND;TZID=Europe/Helsinki:20260124T120000
DTSTAMP:20260420T063403
CREATED:20260122T115522Z
LAST-MODIFIED:20260122T115531Z
UID:35975-1769256000-1769256000@infostargard.pl
SUMMARY:Bieg i marsz dla WOŚP w Chociwlu
DESCRIPTION:
URL:https://infostargard.pl/event/bieg-i-marsz-dla-wosp-w-chociwlu/
LOCATION:Hala Widowiskowo-Sportowa w Chociwlu
END:VEVENT
END:VCALENDAR