BEGIN:VCALENDAR
VERSION:2.0
PRODID:-//Info Stargard - ECPv6.15.20//NONSGML v1.0//EN
CALSCALE:GREGORIAN
METHOD:PUBLISH
X-ORIGINAL-URL:https://infostargard.pl
X-WR-CALDESC:Wydarzenia dla Info Stargard
REFRESH-INTERVAL;VALUE=DURATION:PT1H
X-Robots-Tag:noindex
X-PUBLISHED-TTL:PT1H
BEGIN:VTIMEZONE
TZID:Europe/Helsinki
BEGIN:DAYLIGHT
TZOFFSETFROM:+0200
TZOFFSETTO:+0300
TZNAME:EEST
DTSTART:20250330T010000
END:DAYLIGHT
BEGIN:STANDARD
TZOFFSETFROM:+0300
TZOFFSETTO:+0200
TZNAME:EET
DTSTART:20251026T010000
END:STANDARD
BEGIN:DAYLIGHT
TZOFFSETFROM:+0200
TZOFFSETTO:+0300
TZNAME:EEST
DTSTART:20260329T010000
END:DAYLIGHT
BEGIN:STANDARD
TZOFFSETFROM:+0300
TZOFFSETTO:+0200
TZNAME:EET
DTSTART:20261025T010000
END:STANDARD
BEGIN:DAYLIGHT
TZOFFSETFROM:+0200
TZOFFSETTO:+0300
TZNAME:EEST
DTSTART:20270328T010000
END:DAYLIGHT
BEGIN:STANDARD
TZOFFSETFROM:+0300
TZOFFSETTO:+0200
TZNAME:EET
DTSTART:20271031T010000
END:STANDARD
END:VTIMEZONE
BEGIN:VEVENT
DTSTART;TZID=Europe/Helsinki:20260124T110000
DTEND;TZID=Europe/Helsinki:20260124T130000
DTSTAMP:20260420T035600
CREATED:20260122T115828Z
LAST-MODIFIED:20260122T115905Z
UID:35978-1769252400-1769259600@infostargard.pl
SUMMARY:Turniej Piłki Nożnej Halowej w Chociwlu
DESCRIPTION:
URL:https://infostargard.pl/event/turniej-pilki-noznej-halowej-w-chociwlu/
LOCATION:Hala Widowiskowo-Sportowa w Chociwlu
END:VEVENT
BEGIN:VEVENT
DTSTART;TZID=Europe/Helsinki:20260124T120000
DTEND;TZID=Europe/Helsinki:20260124T120000
DTSTAMP:20260420T035600
CREATED:20260122T115522Z
LAST-MODIFIED:20260122T115531Z
UID:35975-1769256000-1769256000@infostargard.pl
SUMMARY:Bieg i marsz dla WOŚP w Chociwlu
DESCRIPTION:
URL:https://infostargard.pl/event/bieg-i-marsz-dla-wosp-w-chociwlu/
LOCATION:Hala Widowiskowo-Sportowa w Chociwlu
END:VEVENT
BEGIN:VEVENT
DTSTART;TZID=Europe/Helsinki:20260125T100000
DTEND;TZID=Europe/Helsinki:20260125T130000
DTSTAMP:20260420T035600
CREATED:20260109T073839Z
LAST-MODIFIED:20260115T094914Z
UID:34634-1769335200-1769346000@infostargard.pl
SUMMARY:10. Bieg dla Orkiestry
DESCRIPTION:25 stycznia na Miejskim Stadionie Lekkoatletycznym przy ul. Sportowej 1\, odbędzie się 10. Bieg dla Orkiestry.  \nCelem wydarzenia jest wsparcie Wielkiej Orkiestry Świątecznej Pomocy a także promocja aktywnego i zdrowego stylu życia i sportowa integracja mieszkańców Stargardu i powiatu. \nProgram:\n09:00 – otwarcie biura zawodów (zapisy\, wydawanie pakietów)\n10:00 – wspólny start\n13:00 – zakończenie biegu \nZapisy:\nwyłącznie w dniu zawodów\, od godz. 9:00\nbrak wcześniejszych zapisów onlinelimit 150 uczestników – kto pierwszy\, ten biegnie! \nCegiełka:\nminimum 60 zł od osoby\npłatność gotówką do puszki WOŚP lub kartą w biurze zawodów\n100% środków trafia na WOŚP \nForma udziału:\nbieg\, marsz lub nordic walking\ndystans dowolny\nsugerowane: 34 minuty aktywności / 34 okrążenia (symbol 34. Finału WOŚP)\npomiar czasu i dystansu – we własnym zakresie \nDla kogo?\nwydarzenie otwarte – dorośli i dzieci\nosoby niepełnoletnie: obecność lub pisemna zgoda opiekuna \nW pakiecie dla uczestników:\nnumer startowy + serce WOŚP\npamiątkowy medal i podziękowanie\ngadżet (do wyboru)\nkalendarz trójdzielny 2026\npoczęstunek i napoje. \nInf. organizatora
URL:https://infostargard.pl/event/10-bieg-dla-orkiestry/
LOCATION:Stadion lekkoatletyczny przy ul. Sportowej
END:VEVENT
BEGIN:VEVENT
DTSTART;TZID=Europe/Helsinki:20260125T110000
DTEND;TZID=Europe/Helsinki:20260125T200000
DTSTAMP:20260420T035600
CREATED:20260122T114144Z
LAST-MODIFIED:20260124T133105Z
UID:35967-1769338800-1769371200@infostargard.pl
SUMMARY:34. Finał WOŚP w Gminnym Centrum Kultury w Dolicach
DESCRIPTION:W niedzielę\, 25 stycznia o godz. 11 w Gminnym Centrum Kultury w Dolicach rozpocznie się 34. Finał WOŚP. \nOd godz. 11 rozpocznie się sprzedaż ciast.  O godz. 15 otwarcie 34. Finału WOŚP.  W programie m.in. występy lokalnych wykonawców\, dania na ciepło\, wata cukrowa\, popcorn\, licytacje. O godz. 20 światełko do nieba. Kilka wybranych licytacji: \n\n4 godziny w fotelu wójta Pawła Nowakowskiego\nkolacja z wójtem\nbon na paliwo\nobiad z dwóch dań z deserem na 10 osób\ngadżety WOŚP\nbon na swojskie wędzonki.
URL:https://infostargard.pl/event/34-final-wosp-w-gminnym-centrum-kultury-w-dolicach/
LOCATION:Gminne Centrum Kultury w Dolicach
END:VEVENT
BEGIN:VEVENT
DTSTART;TZID=Europe/Helsinki:20260125T113000
DTEND;TZID=Europe/Helsinki:20260125T113000
DTSTAMP:20260420T035600
CREATED:20260122T114920Z
LAST-MODIFIED:20260122T115158Z
UID:35970-1769340600-1769340600@infostargard.pl
SUMMARY:34. Finał WOŚP w Chociwlu
DESCRIPTION:
URL:https://infostargard.pl/event/34-final-wosp-w-chociwlu/
LOCATION:Hala Widowiskowo-Sportowa w Chociwlu
END:VEVENT
BEGIN:VEVENT
DTSTART;TZID=Europe/Helsinki:20260125T130000
DTEND;TZID=Europe/Helsinki:20260125T130000
DTSTAMP:20260420T035600
CREATED:20260115T101614Z
LAST-MODIFIED:20260115T101627Z
UID:35191-1769346000-1769346000@infostargard.pl
SUMMARY:Turniej ping-ponga w Starej Dąbrowie
DESCRIPTION:Gmina Stara Dąbrowa zaprasza mieszkańców do udziału w amatorskim turnieju ping-ponga o Puchar Wójta Gminy Stara Dąbrowa\, który odbędzie się w niedzielę\, 25 stycznia o godz. 13\, w szkole w Starej Dąbrowie.   \nTurniej rozegrany zostanie w ramach gminnego 34. Finału Wielkiej Orkiestry Świątecznej Pomocy. \nRywalizacja przewidziana jest w dwóch kategoriach: \n\njunior – do 14 roku życia-\nsenior – powyżej 14 roku życia\n\nZapisy prowadzone są do 23 stycznia pod numerem telefonu 660 163 362. \n– Nie zwklekajcie z zapisami. Ilość miejsc w turnieju jest ograniczona – informuje Tomasz Ogonowski\, wójt gminy Stara Dąbrowa. – Zachęcam do udziału i wspólnego grania dla WOŚP.
URL:https://infostargard.pl/event/turniej-ping-ponga-w-starej-dabrowie/
LOCATION:Hala w Starej Dąbrowie
END:VEVENT
BEGIN:VEVENT
DTSTART;TZID=Europe/Helsinki:20260125T140000
DTEND;TZID=Europe/Helsinki:20260125T140000
DTSTAMP:20260420T035600
CREATED:20260122T122039Z
LAST-MODIFIED:20260122T122052Z
UID:35985-1769349600-1769349600@infostargard.pl
SUMMARY:Warsztaty walentynkowe w Starej Dąbrowie
DESCRIPTION:
URL:https://infostargard.pl/event/warsztaty-walentynkowe-w-starej-dabrowie/
LOCATION:Hala Sportowa w Starej Dąbrowie
END:VEVENT
BEGIN:VEVENT
DTSTART;TZID=Europe/Helsinki:20260125T153000
DTEND;TZID=Europe/Helsinki:20260125T153000
DTSTAMP:20260420T035600
CREATED:20260114T072220Z
LAST-MODIFIED:20260115T095611Z
UID:35051-1769355000-1769355000@infostargard.pl
SUMMARY:Morsowanie na Rynku Staromiejskim - WOŚP
DESCRIPTION:Na Rynku Staromiejskim w Stargardzie\, w niedzielę 25 stycznia\, podczas 34. Finału WOŚP\, tradycyjnie już\, stargardzkie morsy zaliczą zimną kąpiel w basenie. Zapraszają wszystkich chętnych do udziału.  \n– Nasz kolega Krzysztof Cęcak\, wspólnie ze strażakami z OSP Żarowo\, przygotują basen strażacki\, do którego – ku uciesze mieszkańców – wskoczymy na żywo\, w samym sercu miasta – informują Miedwianie – Stargardzki Klub Morsów.  \nPlan kąpieli: \n15:30 – start imprezy\n15.45 – rozgrzewka i wejście do basenu. \nZapraszamy wszystkich chętnych – także nowe osoby! Nie trzeba mieć doświadczenia – wystarczą chęci i dobry humor. A woda? Z sieci miejskiej… czyli „delikatnie cieplejsza” niż w Miedwiu czy Bałtyku. Jako klub będziemy również kwestować na rzecz WOŚP – gramy razem do końca świata i jeden dzień dłużej! \nOrganizatorem wydarzeń na rynku jest Stargardzkie Centrum Kultury\, w programie m.in.: \n\nlicytacje\nwystępy lokalnych zespołów\nkoncert rapera Soboty\nkoncert zespołu Loka\noraz tradycyjne „Światełko do nieba”\n\nWięcej szczegółów o wydarzeniach na Rynku Staromiejskim podczas 34. Finału WOPŚP znajdziesz  tutaj \nO Biegu dla Orkiestry\, wydarzeniu organizowanym przez OSiR\, pisaliśmy  tutaj 
URL:https://infostargard.pl/event/morsowanie-podczas-finalu-wosp-na-rynku-staromiejskim/
LOCATION:Rynek Staromiejski w Stargardzie
END:VEVENT
BEGIN:VEVENT
DTSTART;TZID=Europe/Helsinki:20260125T160000
DTEND;TZID=Europe/Helsinki:20260125T200000
DTSTAMP:20260420T035600
CREATED:20260122T104921Z
LAST-MODIFIED:20260122T104930Z
UID:35934-1769356800-1769371200@infostargard.pl
SUMMARY:34 finał WOŚP - Gmina Kobylanka
DESCRIPTION:W niedzielę\, 25 stycznia o godz. 16 w Gminie Kobylanka rozpocznie się 34. Finał WOŚP.  \nW programie: Świetlica Reptowo – muzyka na żywo\, licytacje\, występy solo\, kiełbaski z grilla\, wata cukrowa\, popcorn\, kącik słodkości\, kiermasz rozmaitości i wiele innych atrakcji dla dzieci i dorosłych. O godz. 20 światełko do nieba. \nW programie: CKiR Kobylanka – występy artystyczne\, licytacje\, pokaz iluzjonisty\, warsztaty\, malowanie buzi\, pokazy\, zabawy\, kawiarenka\, ciepły posiłek. O godz. 20 światełko do nieba na placu przy CKiR. \n– Zapraszamy wszystkich – małych i dużych\, którzy chcą dorzucić swoją cegiełkę do tego wyjątkowego\, szczytnego celu – zachęcają organizatorzy. – Gramy razem\, bo WOŚP to coś więcej niż koncert – to wspólne pomaganie\, które łączy ludzi.  \nWOŚP można wesprzeć z dowolnego miejsca na świecie. Możliwość wpłaty na e-skarbonke: https://eskarbonka.wosp.org.pl/beninyjywy \nWszelkie informacje pod numerem telefonu 693 876 538.
URL:https://infostargard.pl/event/34-final-wosp-gmina-kobylanka/
LOCATION:świetlica wiejska w Reptowie\, CKiR Kobylanka
END:VEVENT
END:VCALENDAR