BEGIN:VCALENDAR
VERSION:2.0
PRODID:-//Info Stargard - ECPv6.15.20//NONSGML v1.0//EN
CALSCALE:GREGORIAN
METHOD:PUBLISH
X-WR-CALNAME:Info Stargard
X-ORIGINAL-URL:https://infostargard.pl
X-WR-CALDESC:Wydarzenia dla Info Stargard
REFRESH-INTERVAL;VALUE=DURATION:PT1H
X-Robots-Tag:noindex
X-PUBLISHED-TTL:PT1H
BEGIN:VTIMEZONE
TZID:Europe/Helsinki
BEGIN:DAYLIGHT
TZOFFSETFROM:+0200
TZOFFSETTO:+0300
TZNAME:EEST
DTSTART:20240331T010000
END:DAYLIGHT
BEGIN:STANDARD
TZOFFSETFROM:+0300
TZOFFSETTO:+0200
TZNAME:EET
DTSTART:20241027T010000
END:STANDARD
BEGIN:DAYLIGHT
TZOFFSETFROM:+0200
TZOFFSETTO:+0300
TZNAME:EEST
DTSTART:20250330T010000
END:DAYLIGHT
BEGIN:STANDARD
TZOFFSETFROM:+0300
TZOFFSETTO:+0200
TZNAME:EET
DTSTART:20251026T010000
END:STANDARD
BEGIN:DAYLIGHT
TZOFFSETFROM:+0200
TZOFFSETTO:+0300
TZNAME:EEST
DTSTART:20260329T010000
END:DAYLIGHT
BEGIN:STANDARD
TZOFFSETFROM:+0300
TZOFFSETTO:+0200
TZNAME:EET
DTSTART:20261025T010000
END:STANDARD
END:VTIMEZONE
BEGIN:VEVENT
DTSTART;TZID=Europe/Helsinki:20250427T193000
DTEND;TZID=Europe/Helsinki:20250427T193000
DTSTAMP:20260421T215551
CREATED:20250414T140336Z
LAST-MODIFIED:20250421T182605Z
UID:6819-1745782200-1745782200@infostargard.pl
SUMMARY:Koncert Wielkanocny w kościele Miłosierdzia Bożego
DESCRIPTION:Koncert Wielkanocny odbędzie się 27 kwietnia w Parafii Bożego Miłosierdzia w Stargardzie.\n\n– Przed koncertem zapraszamy na msze świętą o godzinie 18:30\, którą uroczyście oprawimy\, a po mszy o godzinie 19:30 wykonamy kilka wielkanocno-gospelowych utworów – zaprasza Chór Cantore Gospel. – Przyjdź\, bądź z nami tego dnia!
URL:https://infostargard.pl/event/koncert-wielkanocny-w-kosciele-milosierdzia-bozego/
LOCATION:Parafia Miłosierdzia Bożego os. Zachód
END:VEVENT
END:VCALENDAR