BEGIN:VCALENDAR
VERSION:2.0
PRODID:-//Info Stargard - ECPv6.15.20//NONSGML v1.0//EN
CALSCALE:GREGORIAN
METHOD:PUBLISH
X-WR-CALNAME:Info Stargard
X-ORIGINAL-URL:https://infostargard.pl
X-WR-CALDESC:Wydarzenia dla Info Stargard
REFRESH-INTERVAL;VALUE=DURATION:PT1H
X-Robots-Tag:noindex
X-PUBLISHED-TTL:PT1H
BEGIN:VTIMEZONE
TZID:Europe/Helsinki
BEGIN:DAYLIGHT
TZOFFSETFROM:+0200
TZOFFSETTO:+0300
TZNAME:EEST
DTSTART:20250330T010000
END:DAYLIGHT
BEGIN:STANDARD
TZOFFSETFROM:+0300
TZOFFSETTO:+0200
TZNAME:EET
DTSTART:20251026T010000
END:STANDARD
BEGIN:DAYLIGHT
TZOFFSETFROM:+0200
TZOFFSETTO:+0300
TZNAME:EEST
DTSTART:20260329T010000
END:DAYLIGHT
BEGIN:STANDARD
TZOFFSETFROM:+0300
TZOFFSETTO:+0200
TZNAME:EET
DTSTART:20261025T010000
END:STANDARD
BEGIN:DAYLIGHT
TZOFFSETFROM:+0200
TZOFFSETTO:+0300
TZNAME:EEST
DTSTART:20270328T010000
END:DAYLIGHT
BEGIN:STANDARD
TZOFFSETFROM:+0300
TZOFFSETTO:+0200
TZNAME:EET
DTSTART:20271031T010000
END:STANDARD
END:VTIMEZONE
BEGIN:VEVENT
DTSTART;TZID=Europe/Helsinki:20260212T110000
DTEND;TZID=Europe/Helsinki:20260212T110000
DTSTAMP:20260419T191452
CREATED:20260210T195715Z
LAST-MODIFIED:20260210T195838Z
UID:38164-1770894000-1770894000@infostargard.pl
SUMMARY:EKO Warsztaty w Chociwlu
DESCRIPTION:Na zakończenie ferii gmina Chociwel zaprasza wszystkich miłośników przyrody na EKO warsztaty pn. „ODPADY SEGREGUJESZ – SUROWCE ODZYSKUJESZ”\, łączące edukacje ekologiczną z kreatywną zabawą.  \nZajęcia odbędą się w czwartek\, 12 lutego o godz. 11\, w Miejsko-Gminnej Bibliotece Publicznej w Chociwlu.
URL:https://infostargard.pl/event/eko-warsztaty-w-chociwlu/
LOCATION:Miejsko-Gminna Biblioteka Publiczna w Chociwlu
END:VEVENT
END:VCALENDAR