BEGIN:VCALENDAR
VERSION:2.0
PRODID:-//Info Stargard - ECPv6.15.20//NONSGML v1.0//EN
CALSCALE:GREGORIAN
METHOD:PUBLISH
X-WR-CALNAME:Info Stargard
X-ORIGINAL-URL:https://infostargard.pl
X-WR-CALDESC:Wydarzenia dla Info Stargard
REFRESH-INTERVAL;VALUE=DURATION:PT1H
X-Robots-Tag:noindex
X-PUBLISHED-TTL:PT1H
BEGIN:VTIMEZONE
TZID:Europe/Helsinki
BEGIN:DAYLIGHT
TZOFFSETFROM:+0200
TZOFFSETTO:+0300
TZNAME:EEST
DTSTART:20240331T010000
END:DAYLIGHT
BEGIN:STANDARD
TZOFFSETFROM:+0300
TZOFFSETTO:+0200
TZNAME:EET
DTSTART:20241027T010000
END:STANDARD
BEGIN:DAYLIGHT
TZOFFSETFROM:+0200
TZOFFSETTO:+0300
TZNAME:EEST
DTSTART:20250330T010000
END:DAYLIGHT
BEGIN:STANDARD
TZOFFSETFROM:+0300
TZOFFSETTO:+0200
TZNAME:EET
DTSTART:20251026T010000
END:STANDARD
BEGIN:DAYLIGHT
TZOFFSETFROM:+0200
TZOFFSETTO:+0300
TZNAME:EEST
DTSTART:20260329T010000
END:DAYLIGHT
BEGIN:STANDARD
TZOFFSETFROM:+0300
TZOFFSETTO:+0200
TZNAME:EET
DTSTART:20261025T010000
END:STANDARD
END:VTIMEZONE
BEGIN:VEVENT
DTSTART;TZID=Europe/Helsinki:20250703T080000
DTEND;TZID=Europe/Helsinki:20250706T170000
DTSTAMP:20260420T083413
CREATED:20250620T101503Z
LAST-MODIFIED:20250703T104640Z
UID:15161-1751529600-1751821200@infostargard.pl
SUMMARY:Warsztaty Gospel
DESCRIPTION:Warsztaty muzyki Gospel: 3 – 6 lipca 2025r. \nZa udział w warsztatach pobierana jest jednorazowa opłata: \n\nwarsztaty wokalne dla młodzieży i dorosłych – koszt 40 zł/os (preferowana płatność przelewem na konto stowarzyszenia)\nwarsztaty dziecięce – koszt 20 zł/os (preferowana płatność przelewem na konto stowarzyszenia)\ndodatkowe warsztaty bębniarskie – koszt 40  zł/os (preferowana płatność gotówką na miejscu)\n\nZapisy u pani Marii Pyry pod nr telefonu: 600 885 913. \nWarsztaty odbywać się będą na małej scenie w Stargardzkim Centrum Kultury\, przy ul. Piłsudzkiego 105. Wejście od ul. Wojska Polskiego\, od strony Sądu. \nUdział w festiwalu jest otwarty dla wszystkich chętnych. Jak informują organizatorzy\, zaproszeni są do współpracy także osoby indywidualne\, chóry oraz muzycy.
URL:https://infostargard.pl/event/warsztaty-gospel/
LOCATION:SCK
END:VEVENT
BEGIN:VEVENT
DTSTART;TZID=Europe/Helsinki:20250718T160000
DTEND;TZID=Europe/Helsinki:20250718T160000
DTSTAMP:20260420T083413
CREATED:20250716T075515Z
LAST-MODIFIED:20250716T075652Z
UID:17626-1752854400-1752854400@infostargard.pl
SUMMARY:Warsztaty "Pociąg do recyklingu" w Ińsku
DESCRIPTION:Stowarzyszenie Miłośników Kolei Wąskotorowych Semafor zaprasza na warsztaty pn.”Pociąg do recyklingu”. \nWydarzenie odbędzie się już w najbliższy piątek o godz. 16\, na terenie przy Izbie Pamięci w Ińsku. W programie renowacja pociągu ogrodowego i wykonanie miejsca do odpoczynku. \nProgram Społecznik to program zainicjowany przez Marszałka Województwa Zachodniopomorskiego Pana Olgierda Geblewicza.
URL:https://infostargard.pl/event/17626/
LOCATION:Teren przy Izbie Pamięci w Ińsku
END:VEVENT
BEGIN:VEVENT
DTSTART;TZID=Europe/Helsinki:20250724T190000
DTEND;TZID=Europe/Helsinki:20250724T190000
DTSTAMP:20260420T083413
CREATED:20250709T093420Z
LAST-MODIFIED:20250709T093420Z
UID:17123-1753383600-1753383600@infostargard.pl
SUMMARY:Spotkania Męskiego Kręgu - warsztaty rozwojowe dla mężczyzn
DESCRIPTION:Męski Krąg to cykliczne spotkania dla wszystkich tych\, którzy chcą się wygadać\, posłuchać innych mężczyzn i poznać ich punkt widzenia. To męskie rozmowy o życiu\, codzienności\, problemach i emocjach. Na neutralnym gruncie\, z osobami o różnych życiorysach. \nWarsztaty rozwojowe odbędą się w czwartek\, 24 lipca w godz. 19-21\, przy ul. Gdańskiej 1 w Stargardzie. \nProwadzący warsztatów to trener\, psychoterapeuta\, socjoterapeuta – Tomasz Drabik. \nCzego można się spodziewać na spotkaniach? \n\natmosfery wsparcia i zaufania\,\nakceptacji\nmożliwości dzielenia się z innymi swoimi emocjami\, trudnościami i przeżyciami\,\notwartości\,\nrozmów na tematy\, które są dla Ciebie ważne\,\npoznania różnych punktów widzenia\,\nwsparcia\, zrozumienia i konstruktywnej krytyki\,\npoznania nowych osób.\n\nZapisy telefoniczne pod nr tel. 602 832 055 lub emailowo: fundacja.pracownia@gmail.com. \n 
URL:https://infostargard.pl/event/spotkania-meskiego-kregu-warsztaty-rozwojowe-dla-mezczyzn/
LOCATION:ul. Gdańska 1\, Stargard
END:VEVENT
BEGIN:VEVENT
DTSTART;TZID=Europe/Helsinki:20250727T110000
DTEND;TZID=Europe/Helsinki:20250727T140000
DTSTAMP:20260420T083413
CREATED:20250716T083304Z
LAST-MODIFIED:20250716T083304Z
UID:17633-1753614000-1753624800@infostargard.pl
SUMMARY:Warsztatowy Spacer Ziołowy w Stargardzie
DESCRIPTION:W niedzielę\, 27 lipca w godz. 11 – 14 w Stargardzie\, odbędzie się warsztatowy Spacer Ziołowy. Koszt udziału to 150 zł. \nZapisy pod nr tel. 786 183 513 lub w wiadomości prywatnej: gloria z natury. Liczba miejsc jest ograniczona. W razie niesprzyjającej pogody możliwa będzie zmiana terminu. \nGloria z Natury – Wiktoria Gloria Orzechowska jest zielarką i fitoterapeutką. Z miłością uczy o ziołach\, tworzy naturalne preparaty i kosmetyki. dzieli się wiedzą podczas warsztatów\, spacerów i wykładów. Gloria ukończyła towaroznawstwo zielarskie w Instytucie Zielarstwa Polskiego i Terapii Naturalnych w Warszawie. Stworzyła piękny zielnik i napisała pracę dyplomową pt. „Wybrane rośliny wspomagające wytwarzanie laktacji”. Ukończyła roczny kurs u dr Henryka Różańskiego pt. „Polskie rośliny w medycynie ekstremalnej i w okresie głodu”. \nPodczas spaceru na uczestników czeka m.in.: \n\nnauka rozpoznawania dzikich roślin jadalnych i leczniczych oraz ich właściwości\,\ndoświadczanie ziół wszystkimi zmysłami\,\nwiedza na temat bezpiecznego i etycznego zbierania\, przetwarzania i wykorzystywania roślin\,\nproste\, sezonowe przepisy kulinarne z dzikimi roślinami\nnauka przygotowania podstawowych preparatów ziołowych.\n\nNa zakończenie każdy uczestnik otrzyma zilustrowany\, autorski e-book o dziesięciu roślinach letnich. \n– Spacer pozwoli Ci się zrelaksować\, dotlenić i naładować energią – zachęca organizatorka. – To nie będzie zwykły spacer. To warsztatowy spacer ziołowy – pogłębiona\, praktyczna podróż do świata roślin. \nKażdy z uczestników wyjdzie z warsztatów z własnym maceratem olejowym. przygotowanym na bazie świeżo poznanych ziół. \nCo warto zabrać ze sobą? \n\nwiklinowy kosz lub torby papierowe\,\nnotatnik i długopis\,\nbuty terenowe\,\notwarty umył i serce\,\nopcjonalnie – nożyce do ziół\, rękawiczki.
URL:https://infostargard.pl/event/warsztatowy-spacer-ziolowy-w-stargardzie/
LOCATION:Stargard
END:VEVENT
END:VCALENDAR