BEGIN:VCALENDAR
VERSION:2.0
PRODID:-//Info Stargard - ECPv6.15.20//NONSGML v1.0//EN
CALSCALE:GREGORIAN
METHOD:PUBLISH
X-WR-CALNAME:Info Stargard
X-ORIGINAL-URL:https://infostargard.pl
X-WR-CALDESC:Wydarzenia dla Info Stargard
REFRESH-INTERVAL;VALUE=DURATION:PT1H
X-Robots-Tag:noindex
X-PUBLISHED-TTL:PT1H
BEGIN:VTIMEZONE
TZID:Europe/Helsinki
BEGIN:DAYLIGHT
TZOFFSETFROM:+0200
TZOFFSETTO:+0300
TZNAME:EEST
DTSTART:20250330T010000
END:DAYLIGHT
BEGIN:STANDARD
TZOFFSETFROM:+0300
TZOFFSETTO:+0200
TZNAME:EET
DTSTART:20251026T010000
END:STANDARD
BEGIN:DAYLIGHT
TZOFFSETFROM:+0200
TZOFFSETTO:+0300
TZNAME:EEST
DTSTART:20260329T010000
END:DAYLIGHT
BEGIN:STANDARD
TZOFFSETFROM:+0300
TZOFFSETTO:+0200
TZNAME:EET
DTSTART:20261025T010000
END:STANDARD
BEGIN:DAYLIGHT
TZOFFSETFROM:+0200
TZOFFSETTO:+0300
TZNAME:EEST
DTSTART:20270328T010000
END:DAYLIGHT
BEGIN:STANDARD
TZOFFSETFROM:+0300
TZOFFSETTO:+0200
TZNAME:EET
DTSTART:20271031T010000
END:STANDARD
END:VTIMEZONE
BEGIN:VEVENT
DTSTART;TZID=Europe/Helsinki:20260215T120000
DTEND;TZID=Europe/Helsinki:20260215T120000
DTSTAMP:20260420T000134
CREATED:20260209T220518Z
LAST-MODIFIED:20260209T220602Z
UID:38055-1771156800-1771156800@infostargard.pl
SUMMARY:Kinomaniaki: Ozi: głos deszczowego lasu
DESCRIPTION:Stargardzkie Centrum Kultury zaprasza na film przygodowy pt. „Ozi: głos deszczowego lasu” w ramach wspólnej inicjatywy Prezydenta Stargardu i SCK – Stargardzkie Dzieciaki Kinomaniaki.  \nRaz w miesiącu\, w niedzielę o 12\, wyświetlany jest specjalny seans dla dzieci z biletami dla każdego za 1 zł. Bilety do kupienia wyłącznie w kasie kina SCK na dwie godziny przed seansem. \nSeans odbędzie się 15 lutego. \nWyprodukowana przez Leonardo DiCaprio pełna gwiazd animacja przygodowa z ekologicznym przesłaniem. Chwytająca za serce opowieść o małej orangutance\, która\, by powstrzymać postępujące zniszczenie dżungli\, wpada na pomysł niezwykłej influencerskiej akcji. Czy łącząc siły i zaskakujące talenty z innymi dzielnymi zwierzakami zdoła osiągnąć to\, czego nie potrafią ludzie? Przekonacie się\, oglądając tę zjawiskową\, pełną humoru\, efektów i kolorów produkcję twórców „Zaplątanych” i „Iniemamocnych”. Wyprodukowany za 40 milionów dolarów\, „Ozi: Głos deszczowego lasu”\, to projekt dedykowany małym obrońcom przyrody i ich świadomym ekologicznie rodzicom projekt\, czynnie wspierający globalną inicjatywę klimatyczną #ShowYourStripes. \nOrangutanka Ozi wiedzie błogie życie\, mieszkając wraz z rodzicami na czubku palmy w deszczowym lesie. Niestety\, jej rodzinne szczęście zostaje zburzone\, kiedy zła korporacja\, producent oleju GreenZar\, zaczyna wycinkę dżungli. Pozbawiona domu i oddzielona od bliskich\, Ozi zostaje uratowana przez Kirani i Roberta\, właścicieli sanktuarium dla osieroconych orangutanów. Początkowo przestraszona i zdezorientowana\, z czasem – dzięki życzliwości i zachęcie opiekunów – zadomawia się w nowym miejscu. A dzięki językowi migowemu uczy się komunikowania ze światem i świeżo poznanymi przyjaciółmi. Wkrótce niezwykłe zdolności małej Ozi staną się kluczem do naprawdę wielkich rzeczy. I dadzą początek akcji\, która zadziwi świat. \nInf. organizatora
URL:https://infostargard.pl/event/kinomaniaki-ozi-glos-deszczowego-lasu/
LOCATION:Duża Scena SCK
END:VEVENT
END:VCALENDAR