BEGIN:VCALENDAR
VERSION:2.0
PRODID:-//Info Stargard - ECPv6.15.20//NONSGML v1.0//EN
CALSCALE:GREGORIAN
METHOD:PUBLISH
X-WR-CALNAME:Info Stargard
X-ORIGINAL-URL:https://infostargard.pl
X-WR-CALDESC:Wydarzenia dla Info Stargard
REFRESH-INTERVAL;VALUE=DURATION:PT1H
X-Robots-Tag:noindex
X-PUBLISHED-TTL:PT1H
BEGIN:VTIMEZONE
TZID:Europe/Helsinki
BEGIN:DAYLIGHT
TZOFFSETFROM:+0200
TZOFFSETTO:+0300
TZNAME:EEST
DTSTART:20240331T010000
END:DAYLIGHT
BEGIN:STANDARD
TZOFFSETFROM:+0300
TZOFFSETTO:+0200
TZNAME:EET
DTSTART:20241027T010000
END:STANDARD
BEGIN:DAYLIGHT
TZOFFSETFROM:+0200
TZOFFSETTO:+0300
TZNAME:EEST
DTSTART:20250330T010000
END:DAYLIGHT
BEGIN:STANDARD
TZOFFSETFROM:+0300
TZOFFSETTO:+0200
TZNAME:EET
DTSTART:20251026T010000
END:STANDARD
BEGIN:DAYLIGHT
TZOFFSETFROM:+0200
TZOFFSETTO:+0300
TZNAME:EEST
DTSTART:20260329T010000
END:DAYLIGHT
BEGIN:STANDARD
TZOFFSETFROM:+0300
TZOFFSETTO:+0200
TZNAME:EET
DTSTART:20261025T010000
END:STANDARD
END:VTIMEZONE
BEGIN:VEVENT
DTSTART;TZID=Europe/Helsinki:20251004T140000
DTEND;TZID=Europe/Helsinki:20251004T200000
DTSTAMP:20260420T075105
CREATED:20250925T085745Z
LAST-MODIFIED:20250925T085755Z
UID:24073-1759586400-1759608000@infostargard.pl
SUMMARY:Start sezonu z Miedwianami
DESCRIPTION:Miedwianie – Stargardzki Klub Morsów zapraszają w sobotę\, 4 października nad Jezioro Miedwie do Morzyczyna na wielkie otwarcie nowego sezonu morsowego.  \nW programie m.in.: \n\nbieg i marsz „Morsy na start”\nwspólne morsowanie inauguracyjne\npokaz ratownictwa wodnego i pierwszej pomocy\ngry\, animacje\, ognisko i integracja przy muzyce DJ-a\nakcja charytatywna – zbiórka karmy dla schroniska dla zwierząt.\n\nRozpoczęciu sezonu towarzyszą także warsztaty z pierwszej pomocy\, warsztaty z języka migowego\, prelekcja z Wydziałem Zarządzania Kryzysowego i akcja ekologiczna „Sprzątamy Miedwie”. \n– To czas pełen energii\, zdrowia i wspólnej zabawy dla dzieci\, dorosłych\, seniorów i całych rodzin! – zachęcają organizatorzy. – Zapraszamy! \nWydarzenie jest realizowane w ramach projektu „Zimna woda\, gorące serca – razem w kryzysie! Start sezonu z Miedwianami”\, dofinansowanego ze środków Programu Moc Małych Społeczności\, współfinansowanego przez Narodowy Instytut Wolności – CRSO.
URL:https://infostargard.pl/event/start-sezonu-z-miedwianami/
LOCATION:Amfiteatr Morzyczyn
END:VEVENT
END:VCALENDAR