BEGIN:VCALENDAR
VERSION:2.0
PRODID:-//Info Stargard - ECPv6.15.20//NONSGML v1.0//EN
CALSCALE:GREGORIAN
METHOD:PUBLISH
X-WR-CALNAME:Info Stargard
X-ORIGINAL-URL:https://infostargard.pl
X-WR-CALDESC:Wydarzenia dla Info Stargard
REFRESH-INTERVAL;VALUE=DURATION:PT1H
X-Robots-Tag:noindex
X-PUBLISHED-TTL:PT1H
BEGIN:VTIMEZONE
TZID:Europe/Helsinki
BEGIN:DAYLIGHT
TZOFFSETFROM:+0200
TZOFFSETTO:+0300
TZNAME:EEST
DTSTART:20240331T010000
END:DAYLIGHT
BEGIN:STANDARD
TZOFFSETFROM:+0300
TZOFFSETTO:+0200
TZNAME:EET
DTSTART:20241027T010000
END:STANDARD
BEGIN:DAYLIGHT
TZOFFSETFROM:+0200
TZOFFSETTO:+0300
TZNAME:EEST
DTSTART:20250330T010000
END:DAYLIGHT
BEGIN:STANDARD
TZOFFSETFROM:+0300
TZOFFSETTO:+0200
TZNAME:EET
DTSTART:20251026T010000
END:STANDARD
BEGIN:DAYLIGHT
TZOFFSETFROM:+0200
TZOFFSETTO:+0300
TZNAME:EEST
DTSTART:20260329T010000
END:DAYLIGHT
BEGIN:STANDARD
TZOFFSETFROM:+0300
TZOFFSETTO:+0200
TZNAME:EET
DTSTART:20261025T010000
END:STANDARD
END:VTIMEZONE
BEGIN:VEVENT
DTSTART;TZID=Europe/Helsinki:20250425T180000
DTEND;TZID=Europe/Helsinki:20250425T180000
DTSTAMP:20260421T124122
CREATED:20250417T073824Z
LAST-MODIFIED:20250417T074221Z
UID:7143-1745604000-1745604000@infostargard.pl
SUMMARY:Spotkanie z podróżnikiem
DESCRIPTION:Spotkanie z podróżnikiem i autorem przewodnika „Kocham Zachodniopomorskie” odbędzie się 25 kwietnia o godz. 18 w Fit Cake Stargard.\n\n\n\n– Zapraszamy na wyjątkowe spotkanie z Adamem Dzieleckim\, pasjonatem podróży\, twórcą popularnej grupy Dzielas Podróże Małe i Duże\, autorem przewodnika po naszym regionie oraz youtuberem\, którego filmy obejrzało już ponad 170 tysięcy osób! – informuje organizator. – Tym razem będzie nietypowo o nietypowych miejscach w Zachodniopomorskiem. Dowiecie się\, gdzie warto się wybrać\, by odkryć mniej znane\, ale fascynujące zakątki naszego województwa.\n\n\n\nWstęp wolny! Liczba miejsc jest ograniczona\, obowiązują zapisy!\n\n\nMożna zgłaszać się: osobiście w kawiarni\, przez Facebook/Instagram lub telefonicznie: 573 396 806.
URL:https://infostargard.pl/event/spotkanie-z-podroznikiem/
LOCATION:Fit Cake Stargard
END:VEVENT
END:VCALENDAR