BEGIN:VCALENDAR
VERSION:2.0
PRODID:-//Info Stargard - ECPv6.15.20//NONSGML v1.0//EN
CALSCALE:GREGORIAN
METHOD:PUBLISH
X-WR-CALNAME:Info Stargard
X-ORIGINAL-URL:https://infostargard.pl
X-WR-CALDESC:Wydarzenia dla Info Stargard
REFRESH-INTERVAL;VALUE=DURATION:PT1H
X-Robots-Tag:noindex
X-PUBLISHED-TTL:PT1H
BEGIN:VTIMEZONE
TZID:Europe/Helsinki
BEGIN:DAYLIGHT
TZOFFSETFROM:+0200
TZOFFSETTO:+0300
TZNAME:EEST
DTSTART:20240331T010000
END:DAYLIGHT
BEGIN:STANDARD
TZOFFSETFROM:+0300
TZOFFSETTO:+0200
TZNAME:EET
DTSTART:20241027T010000
END:STANDARD
BEGIN:DAYLIGHT
TZOFFSETFROM:+0200
TZOFFSETTO:+0300
TZNAME:EEST
DTSTART:20250330T010000
END:DAYLIGHT
BEGIN:STANDARD
TZOFFSETFROM:+0300
TZOFFSETTO:+0200
TZNAME:EET
DTSTART:20251026T010000
END:STANDARD
BEGIN:DAYLIGHT
TZOFFSETFROM:+0200
TZOFFSETTO:+0300
TZNAME:EEST
DTSTART:20260329T010000
END:DAYLIGHT
BEGIN:STANDARD
TZOFFSETFROM:+0300
TZOFFSETTO:+0200
TZNAME:EET
DTSTART:20261025T010000
END:STANDARD
END:VTIMEZONE
BEGIN:VEVENT
DTSTART;TZID=Europe/Helsinki:20250424T170000
DTEND;TZID=Europe/Helsinki:20250424T170000
DTSTAMP:20260421T124020
CREATED:20250410T060201Z
LAST-MODIFIED:20250417T074339Z
UID:6268-1745514000-1745514000@infostargard.pl
SUMMARY:Spotkanie z Michałem Gierke
DESCRIPTION:Spotkanie z cyklu „Stargardiana” odbędzie się w Książnicy Stargardzkiej. \n– Naszym gościem\, a zarazem autorem kolejnego wykładu\, zatytułowanego „Niezwykli użytkownicy i fundatorzy ksiąg o proweniencji stargardzkiej”\,  jest dr Michał Gierke\, rękopiśmiennik z Książnicy Pomorskiej – informuje KS. – Przybliży on interesujący zbiór\, który w kolekcji stargardzkich druków XVI wieku stanowią książki ufundowane przez cechy rzemieślnicze miasta nad Iną. Poszczególne egzemplarze tej kolekcji zwracają uwagę  obszernymi rękopiśmiennymi dedykacjami\, ozdobionymi niekiedy dodatkowo znakami cechowymi. Podczas wykładu przedstawiona zostanie treść tychże wpisów oraz funkcja\, którą mogły pełnić w książkach. Słuchacze dowiedzą się ponadto na czym polegają badania proweniencyjne zabytkowych księgozbiorów i jakie jest ich znaczenie w studiach nad dawną książką. Zapraszamy do Sali Projekcyjnej 24 kwietnia 2025 o godz. 17. 
URL:https://infostargard.pl/event/spotkanie-z-michalem-gierke/
END:VEVENT
BEGIN:VEVENT
DTSTART;TZID=Europe/Helsinki:20250424T170000
DTEND;TZID=Europe/Helsinki:20250424T170000
DTSTAMP:20260421T124020
CREATED:20250413T173037Z
LAST-MODIFIED:20250417T074319Z
UID:6653-1745514000-1745514000@infostargard.pl
SUMMARY:Spotkanie mieszkańców starówki z prezydentem
DESCRIPTION:W czwartek (24.04) o 17 prezydent Rafał Zając wraz ze swoimi współpracownikami spotka się z mieszkańcami Starego Miasta w Szkole Muzycznej (ul. Kazimierza Wielkiego 13). Każdy może przyjść\, zadać pytanie\, przedstawić swój punkt widzenia i dowiedzieć się o planach na rozwój tej części Stargardu. \n– Ruszamy w miasto\, żeby jeszcze lepiej poznać i zrozumieć oczekiwania stargardzian\, na dobry początek starówka – informuje Urząd Miejski w Stargaerdzie. \nW dzisiejszych czasach swoje zdanie często wyrażamy w internecie. Jednak żadna facebookowa dyskusja albo prywatny czat nie zastąpią rozmowy na żywo. Stargardzianie wielokrotnie pokazują\, że są zainteresowani sprawami miasta i chcą mieć czynny udział w kształtowaniu swojej – bliższej i dalszej – okolicy. Warto wziąć udział w spotkaniu w swojej dzielnicy. O kolejnych terminach i miejscach będziemy informować na www.stargard.eu. \n  \n.
URL:https://infostargard.pl/event/spotkanie-mieszkancow-starowki-z-prezydentem/
LOCATION:Szkoła Muzyczna w Stargardzie
END:VEVENT
END:VCALENDAR