BEGIN:VCALENDAR
VERSION:2.0
PRODID:-//Info Stargard - ECPv6.15.20//NONSGML v1.0//EN
CALSCALE:GREGORIAN
METHOD:PUBLISH
X-WR-CALNAME:Info Stargard
X-ORIGINAL-URL:https://infostargard.pl
X-WR-CALDESC:Wydarzenia dla Info Stargard
REFRESH-INTERVAL;VALUE=DURATION:PT1H
X-Robots-Tag:noindex
X-PUBLISHED-TTL:PT1H
BEGIN:VTIMEZONE
TZID:Europe/Helsinki
BEGIN:DAYLIGHT
TZOFFSETFROM:+0200
TZOFFSETTO:+0300
TZNAME:EEST
DTSTART:20250330T010000
END:DAYLIGHT
BEGIN:STANDARD
TZOFFSETFROM:+0300
TZOFFSETTO:+0200
TZNAME:EET
DTSTART:20251026T010000
END:STANDARD
BEGIN:DAYLIGHT
TZOFFSETFROM:+0200
TZOFFSETTO:+0300
TZNAME:EEST
DTSTART:20260329T010000
END:DAYLIGHT
BEGIN:STANDARD
TZOFFSETFROM:+0300
TZOFFSETTO:+0200
TZNAME:EET
DTSTART:20261025T010000
END:STANDARD
BEGIN:DAYLIGHT
TZOFFSETFROM:+0200
TZOFFSETTO:+0300
TZNAME:EEST
DTSTART:20270328T010000
END:DAYLIGHT
BEGIN:STANDARD
TZOFFSETFROM:+0300
TZOFFSETTO:+0200
TZNAME:EET
DTSTART:20271031T010000
END:STANDARD
END:VTIMEZONE
BEGIN:VEVENT
DTSTART;TZID=Europe/Helsinki:20260310T080000
DTEND;TZID=Europe/Helsinki:20260310T080000
DTSTAMP:20260419T161440
CREATED:20260303T081622Z
LAST-MODIFIED:20260304T101555Z
UID:39922-1773129600-1773129600@infostargard.pl
SUMMARY:Zwyczajne Wakacje - seans dla szkół
DESCRIPTION:#MmW to zespół młodych ludzi między 16 a 20 rokiem życia\, którego celem jest pokazywanie\, że młodzi ludzie mogą realizować duże i ambitne projekty już w młodym wieku. Przez ostatnie miesiące nagrywaliśmy 30-minutowy film krótkometrażowy\, który w połączeniu z wydarzeniem #MmW jest idealną okazją na szkolne wyjście do kina\, podczas którego młodzi ludzie będą mieli okazje porozmawiać o pasji\, rozwoju i sile oraz poczuciu wartości jakie daje nam pasja \nNa samą produkcję poświęciliśmy około 400 godzin pracy około 20-osobowego zespołu\, a to tylko początek ciekawych liczb jakie możemy przedstawić! Nasza produkcja zawiera także wątki i prelekcje przygotowane we współpracy z Zachodniopomorskim Instytutem Psychoterapii. Jeśli jesteście zainteresowani naszym wydarzeniem lub macie jakieś pytania piszcie do nas na maila:\nmlodzi.moga.wiecej.mmw@gmail.com \nOBECNIE DZIAŁAMY NA TERENIE STARGARDU\, W NAJBLIŻSZYCH MIESIĄCACH NASZE DZIAŁANIA POSZERZYMY O SZCZECIN I KOŁOBRZEG. Więcej na https://mlodzimogawiecej.myportfolio.com/ \nInf. organizatora
URL:https://infostargard.pl/event/zwyczajne-wakacje-seans-dla-szkol/
LOCATION:Stargardzkie Centrum Kultury
END:VEVENT
END:VCALENDAR