BEGIN:VCALENDAR
VERSION:2.0
PRODID:-//Info Stargard - ECPv6.15.20//NONSGML v1.0//EN
CALSCALE:GREGORIAN
METHOD:PUBLISH
X-WR-CALNAME:Info Stargard
X-ORIGINAL-URL:https://infostargard.pl
X-WR-CALDESC:Wydarzenia dla Info Stargard
REFRESH-INTERVAL;VALUE=DURATION:PT1H
X-Robots-Tag:noindex
X-PUBLISHED-TTL:PT1H
BEGIN:VTIMEZONE
TZID:Europe/Helsinki
BEGIN:DAYLIGHT
TZOFFSETFROM:+0200
TZOFFSETTO:+0300
TZNAME:EEST
DTSTART:20240331T010000
END:DAYLIGHT
BEGIN:STANDARD
TZOFFSETFROM:+0300
TZOFFSETTO:+0200
TZNAME:EET
DTSTART:20241027T010000
END:STANDARD
BEGIN:DAYLIGHT
TZOFFSETFROM:+0200
TZOFFSETTO:+0300
TZNAME:EEST
DTSTART:20250330T010000
END:DAYLIGHT
BEGIN:STANDARD
TZOFFSETFROM:+0300
TZOFFSETTO:+0200
TZNAME:EET
DTSTART:20251026T010000
END:STANDARD
BEGIN:DAYLIGHT
TZOFFSETFROM:+0200
TZOFFSETTO:+0300
TZNAME:EEST
DTSTART:20260329T010000
END:DAYLIGHT
BEGIN:STANDARD
TZOFFSETFROM:+0300
TZOFFSETTO:+0200
TZNAME:EET
DTSTART:20261025T010000
END:STANDARD
END:VTIMEZONE
BEGIN:VEVENT
DTSTART;TZID=Europe/Helsinki:20250801T170000
DTEND;TZID=Europe/Helsinki:20250801T170000
DTSTAMP:20260420T045255
CREATED:20250729T060809Z
LAST-MODIFIED:20250802T052219Z
UID:18692-1754067600-1754067600@infostargard.pl
SUMMARY:Narodowy Dzień Pamięci Powstania Warszawskiego
DESCRIPTION:W piątek (1.08) będziemy obchodzony będzie Narodowy Dzień Pamięci Powstania Warszawskiego.  \n– W Stargardzie spotykamy się przy pomniku patriotycznym o godz. 17\, czyli w symboliczną godzinę „W” – informuje Urząd Miejski w Stargardzie. – W całym mieście usłyszymy wtedy syreny alarmowe. Będzie również msza święta w kolegiacie. \nW piątek pod pomnikiem „Stargardzianie Ojczyźnie – w setną rocznicę odzyskania niepodległości” złożone zostaną kwiaty. Będzie też odczyt historyczny i program muzyczny. O g. 18 w kolegiacie rozpocznie się uroczysta msza święta w intencji Ojczyzny i ofiar Powstania Warszawskiego.
URL:https://infostargard.pl/event/narodowy-dzien-pamieci-powstania-warszawskiego/
LOCATION:Pomnik patriotyczny
END:VEVENT
BEGIN:VEVENT
DTSTART;TZID=Europe/Helsinki:20250804T073000
DTEND;TZID=Europe/Helsinki:20250804T153000
DTSTAMP:20260420T045255
CREATED:20250713T190829Z
LAST-MODIFIED:20250802T051641Z
UID:17411-1754292600-1754321400@infostargard.pl
SUMMARY:VII Rajd Rowerowy Szlakiem Pamięci st. chor. Łukasza Sroczyńskiego
DESCRIPTION:
URL:https://infostargard.pl/event/vii-rajd-rowerowy-szlakiem-pamieci-st-chor-lukasza-sroczynskiego/
LOCATION:ul. Wojska Polskiego 250 Szczecin – zbiórka
END:VEVENT
END:VCALENDAR