BEGIN:VCALENDAR
VERSION:2.0
PRODID:-//Info Stargard - ECPv6.15.20//NONSGML v1.0//EN
CALSCALE:GREGORIAN
METHOD:PUBLISH
X-ORIGINAL-URL:https://infostargard.pl
X-WR-CALDESC:Wydarzenia dla Info Stargard
REFRESH-INTERVAL;VALUE=DURATION:PT1H
X-Robots-Tag:noindex
X-PUBLISHED-TTL:PT1H
BEGIN:VTIMEZONE
TZID:Europe/Helsinki
BEGIN:DAYLIGHT
TZOFFSETFROM:+0200
TZOFFSETTO:+0300
TZNAME:EEST
DTSTART:20250330T010000
END:DAYLIGHT
BEGIN:STANDARD
TZOFFSETFROM:+0300
TZOFFSETTO:+0200
TZNAME:EET
DTSTART:20251026T010000
END:STANDARD
BEGIN:DAYLIGHT
TZOFFSETFROM:+0200
TZOFFSETTO:+0300
TZNAME:EEST
DTSTART:20260329T010000
END:DAYLIGHT
BEGIN:STANDARD
TZOFFSETFROM:+0300
TZOFFSETTO:+0200
TZNAME:EET
DTSTART:20261025T010000
END:STANDARD
BEGIN:DAYLIGHT
TZOFFSETFROM:+0200
TZOFFSETTO:+0300
TZNAME:EEST
DTSTART:20270328T010000
END:DAYLIGHT
BEGIN:STANDARD
TZOFFSETFROM:+0300
TZOFFSETTO:+0200
TZNAME:EET
DTSTART:20271031T010000
END:STANDARD
END:VTIMEZONE
BEGIN:VEVENT
DTSTART;TZID=Europe/Helsinki:20260306T190000
DTEND;TZID=Europe/Helsinki:20260306T190000
DTSTAMP:20260419T173646
CREATED:20260219T103626Z
LAST-MODIFIED:20260219T103724Z
UID:38835-1772823600-1772823600@infostargard.pl
SUMMARY:Muzyczny Dzień Kobiet w Stargardzie. Retro Gitary z repertuarem Osieckiej i Krajewskiego
DESCRIPTION:W piątkowy wieczór\, 6 marca w Domu Kultury Kolejarza zabrzmią utwory Agnieszki Osieckiej i Seweryna Krajewskiego w wyjątkowym koncercie „Osiecka z Krajewskim – Życie to bal”. \nNa scenie wystąpi zespół Retro Gitary\, który zapowiada nastrojową podróż przez jedne z najpiękniejszych tekstów i melodii polskiej piosenki. \nWydarzenie organizowane z okazji Dnia Kobiet ma być hołdem dla wrażliwości\, poetyckiej lekkości i ponadczasowych kompozycji\, które od lat towarzyszą kolejnym pokoleniom słuchaczy. Jak zapowiadają organizatorzy\, nie zabraknie zarówno dobrze znanych przebojów\, jak i mniej oczywistych perełek. \nKoncert rozpocznie się o godz. 19. Bilety w cenie 70 zł dostępne są online na stronie kiupbilecik.pl\, a dla grup zorganizowanych i seniorów przewidziano specjalną ofertę. Kontakt pod nr tel. 723 783 420.
URL:https://infostargard.pl/event/muzyczny-dzien-kobiet-w-stargardzie-retro-gitary-z-repertuarem-osieckiej-i-krajewskiego/
LOCATION:Dom Kultury Kolejarza w Stargardzie
END:VEVENT
END:VCALENDAR