BEGIN:VCALENDAR
VERSION:2.0
PRODID:-//Info Stargard - ECPv6.15.20//NONSGML v1.0//EN
CALSCALE:GREGORIAN
METHOD:PUBLISH
X-WR-CALNAME:Info Stargard
X-ORIGINAL-URL:https://infostargard.pl
X-WR-CALDESC:Wydarzenia dla Info Stargard
REFRESH-INTERVAL;VALUE=DURATION:PT1H
X-Robots-Tag:noindex
X-PUBLISHED-TTL:PT1H
BEGIN:VTIMEZONE
TZID:Europe/Helsinki
BEGIN:DAYLIGHT
TZOFFSETFROM:+0200
TZOFFSETTO:+0300
TZNAME:EEST
DTSTART:20250330T010000
END:DAYLIGHT
BEGIN:STANDARD
TZOFFSETFROM:+0300
TZOFFSETTO:+0200
TZNAME:EET
DTSTART:20251026T010000
END:STANDARD
BEGIN:DAYLIGHT
TZOFFSETFROM:+0200
TZOFFSETTO:+0300
TZNAME:EEST
DTSTART:20260329T010000
END:DAYLIGHT
BEGIN:STANDARD
TZOFFSETFROM:+0300
TZOFFSETTO:+0200
TZNAME:EET
DTSTART:20261025T010000
END:STANDARD
BEGIN:DAYLIGHT
TZOFFSETFROM:+0200
TZOFFSETTO:+0300
TZNAME:EEST
DTSTART:20270328T010000
END:DAYLIGHT
BEGIN:STANDARD
TZOFFSETFROM:+0300
TZOFFSETTO:+0200
TZNAME:EET
DTSTART:20271031T010000
END:STANDARD
END:VTIMEZONE
BEGIN:VEVENT
DTSTART;TZID=Europe/Helsinki:20260422T190000
DTEND;TZID=Europe/Helsinki:20260422T190000
DTSTAMP:20260419T175310
CREATED:20260204T192129Z
LAST-MODIFIED:20260211T092308Z
UID:37646-1776884400-1776884400@infostargard.pl
SUMMARY:Koncert fortepianowy The Music of Ludovico Einaudi w SCK
DESCRIPTION:Stargardzkie Centrum Kultury zaprasza na recital fortepianowy do muzyki włoskiego pianisty i kompozytora w wykonaniu Aleksandra Starego.  \nKoncert odbędzie się w środę\, 22 kwietnia o godz. 19\, na Dużej Scenie SCK. Bilety od 129 zł dostępne na stronie kupbilecik.pl. \nEinaudi jest znany ze swoich prostych\, lecz przejmująco pięknych minimalistycznych dzieł na fortepian oraz zachwycającej muzyki filmowej. Przez prawie trzydzieści lat swojej działalności wydał szereg albumów\, które trafiły na czołowe miejsca w rankingach słuchalności\, wyprzedaje najbardziej prestiżowe sale koncertowe na całym świecie\, a jego muzyka pojawiła się w wielu słynnych filmach (Nietykalni\, Doktor Żywago\, To jest Anglia\, Nomadland i inne). \nTen wyjątkowy koncert zaoferuje znacznie więcej niż tylko muzykę. Setki migoczących świec rozświetlą całą przestrzeń\, nadając wieczorowi mistyczną i magiczną atmosferę. Każda z nich przyczyni się do stworzenia magicznego otoczenia\, które doskonale wzmocni całe muzyczne doświadczenie. \nInf. organizatora
URL:https://infostargard.pl/event/koncert-ludovico-einaudi-w-sck/
LOCATION:Duża Scena SCK
END:VEVENT
END:VCALENDAR