BEGIN:VCALENDAR
VERSION:2.0
PRODID:-//Info Stargard - ECPv6.15.20//NONSGML v1.0//EN
CALSCALE:GREGORIAN
METHOD:PUBLISH
X-ORIGINAL-URL:https://infostargard.pl
X-WR-CALDESC:Wydarzenia dla Info Stargard
REFRESH-INTERVAL;VALUE=DURATION:PT1H
X-Robots-Tag:noindex
X-PUBLISHED-TTL:PT1H
BEGIN:VTIMEZONE
TZID:Europe/Helsinki
BEGIN:DAYLIGHT
TZOFFSETFROM:+0200
TZOFFSETTO:+0300
TZNAME:EEST
DTSTART:20250330T010000
END:DAYLIGHT
BEGIN:STANDARD
TZOFFSETFROM:+0300
TZOFFSETTO:+0200
TZNAME:EET
DTSTART:20251026T010000
END:STANDARD
BEGIN:DAYLIGHT
TZOFFSETFROM:+0200
TZOFFSETTO:+0300
TZNAME:EEST
DTSTART:20260329T010000
END:DAYLIGHT
BEGIN:STANDARD
TZOFFSETFROM:+0300
TZOFFSETTO:+0200
TZNAME:EET
DTSTART:20261025T010000
END:STANDARD
BEGIN:DAYLIGHT
TZOFFSETFROM:+0200
TZOFFSETTO:+0300
TZNAME:EEST
DTSTART:20270328T010000
END:DAYLIGHT
BEGIN:STANDARD
TZOFFSETFROM:+0300
TZOFFSETTO:+0200
TZNAME:EET
DTSTART:20271031T010000
END:STANDARD
END:VTIMEZONE
BEGIN:VEVENT
DTSTART;TZID=Europe/Helsinki:20260128T080000
DTEND;TZID=Europe/Helsinki:20260128T080000
DTSTAMP:20260419T174100
CREATED:20260113T094045Z
LAST-MODIFIED:20260115T093754Z
UID:34997-1769587200-1769587200@infostargard.pl
SUMMARY:"Zwyczajne wakacje" - pokaz filmu w SCK - Seans dla szkół
DESCRIPTION:Po raz kolejny\, przez 2 dni\, w Stargardzie będzie można obejrzeć krótkometrażowy film pt. „Zwyczajne wakacje” – wyjątkową produkcję stworzoną przez młodych\, ambitnych stargardzian z grupy Młodzi Mogą Więcej.  \nPokaz odbędzie się w środę\, 28 stycznia o godz. 8. \nTo historia\, która pokazuje\, że pasja nie ma wieku\, a odwaga w realizowaniu marzeń może prowadzić do naprawdę dużych projektów. Twórcy filmu chcą inspirować swoich rówieśników i udowadniają\, że warto działać\, próbować i rozwijać swoje zainteresowania. Po seansie zapraszamy na spotkanie z twórcami filmu. Będzie okazja porozmawiać o kulisach produkcji\, zrealizowanych już pomysłach oraz planach na przyszłość. Warto dodać\, że nad filmem pracowało 20 osób przez około 400 godzin\, a w jego realizacji wykorzystano m.in. zagadnienia powstałe we współpracy z Zachodniopomorskim Instytutem Psychoterapii. \nWięcej o filmie „Zwyczajne wakacje” już pisaliśmy. Artykuł znajdziesz  tutaj  \nInf. SCK
URL:https://infostargard.pl/event/zwyczajne-wakacje-pokaz-filmu-w-sck/
LOCATION:Kino SCK
END:VEVENT
BEGIN:VEVENT
DTSTART;TZID=Europe/Helsinki:20260129T180000
DTEND;TZID=Europe/Helsinki:20260129T180000
DTSTAMP:20260419T174100
CREATED:20260115T110348Z
LAST-MODIFIED:20260115T110524Z
UID:35242-1769709600-1769709600@infostargard.pl
SUMMARY:"Zwyczajne wakacje" - pokaz filmu w SCK
DESCRIPTION:Po raz kolejny w Stargardzie będzie można obejrzeć krótkometrażowy film pt. „Zwyczajne wakacje” – wyjątkową produkcję stworzoną przez młodych\, ambitnych stargardzian z grupy Młodzi Mogą Więcej.  \nPokaz odbędzie się w czwartek\, 29 stycznia o godz. 18. \nTo historia\, która pokazuje\, że pasja nie ma wieku\, a odwaga w realizowaniu marzeń może prowadzić do naprawdę dużych projektów. Twórcy filmu chcą inspirować swoich rówieśników i udowadniają\, że warto działać\, próbować i rozwijać swoje zainteresowania. Po seansie zapraszamy na spotkanie z twórcami filmu. Będzie okazja porozmawiać o kulisach produkcji\, zrealizowanych już pomysłach oraz planach na przyszłość. Warto dodać\, że nad filmem pracowało 20 osób przez około 400 godzin\, a w jego realizacji wykorzystano m.in. zagadnienia powstałe we współpracy z Zachodniopomorskim Instytutem Psychoterapii. \nWięcej o filmie „Zwyczajne wakacje” już pisaliśmy. Artykuł znajdziesz  tutaj  \nInf. SCK
URL:https://infostargard.pl/event/zwyczajne-wakacje-pokaz-filmu-w-sck-2/
LOCATION:Sala nr 2 – Piwnica Artystyczna
END:VEVENT
END:VCALENDAR