BEGIN:VCALENDAR
VERSION:2.0
PRODID:-//Info Stargard - ECPv6.15.20//NONSGML v1.0//EN
CALSCALE:GREGORIAN
METHOD:PUBLISH
X-ORIGINAL-URL:https://infostargard.pl
X-WR-CALDESC:Wydarzenia dla Info Stargard
REFRESH-INTERVAL;VALUE=DURATION:PT1H
X-Robots-Tag:noindex
X-PUBLISHED-TTL:PT1H
BEGIN:VTIMEZONE
TZID:Europe/Helsinki
BEGIN:DAYLIGHT
TZOFFSETFROM:+0200
TZOFFSETTO:+0300
TZNAME:EEST
DTSTART:20240331T010000
END:DAYLIGHT
BEGIN:STANDARD
TZOFFSETFROM:+0300
TZOFFSETTO:+0200
TZNAME:EET
DTSTART:20241027T010000
END:STANDARD
BEGIN:DAYLIGHT
TZOFFSETFROM:+0200
TZOFFSETTO:+0300
TZNAME:EEST
DTSTART:20250330T010000
END:DAYLIGHT
BEGIN:STANDARD
TZOFFSETFROM:+0300
TZOFFSETTO:+0200
TZNAME:EET
DTSTART:20251026T010000
END:STANDARD
BEGIN:DAYLIGHT
TZOFFSETFROM:+0200
TZOFFSETTO:+0300
TZNAME:EEST
DTSTART:20260329T010000
END:DAYLIGHT
BEGIN:STANDARD
TZOFFSETFROM:+0300
TZOFFSETTO:+0200
TZNAME:EET
DTSTART:20261025T010000
END:STANDARD
END:VTIMEZONE
BEGIN:VEVENT
DTSTART;TZID=Europe/Helsinki:20250922T100000
DTEND;TZID=Europe/Helsinki:20250927T180000
DTSTAMP:20260420T055848
CREATED:20250911T055217Z
LAST-MODIFIED:20250916T055657Z
UID:22620-1758535200-1758996000@infostargard.pl
SUMMARY:Plener malarski w Tychowie
DESCRIPTION:Gmina Stargard i Stargardzkie Centrum Kultury zapraszają młodzież i dorosłych do udziału w plenerze malarskim\, który rozpocznie się 22 września.  \nPlener potrwa do 27 września. Zapisy pod nr tel. 509 157 464 u Piotra Kosmala z SCK. Plener będzie się odbywał w świetlicy wiejskiej w Tychowie oraz w jej otoczeniu. Wernisaż wystawy 27 września o godz. 18. \n 
URL:https://infostargard.pl/event/plener-malarski-w-tychowie/
LOCATION:świetlica w Tychowie
END:VEVENT
END:VCALENDAR