BEGIN:VCALENDAR
VERSION:2.0
PRODID:-//Info Stargard - ECPv6.15.20//NONSGML v1.0//EN
CALSCALE:GREGORIAN
METHOD:PUBLISH
X-ORIGINAL-URL:https://infostargard.pl
X-WR-CALDESC:Wydarzenia dla Info Stargard
REFRESH-INTERVAL;VALUE=DURATION:PT1H
X-Robots-Tag:noindex
X-PUBLISHED-TTL:PT1H
BEGIN:VTIMEZONE
TZID:Europe/Helsinki
BEGIN:DAYLIGHT
TZOFFSETFROM:+0200
TZOFFSETTO:+0300
TZNAME:EEST
DTSTART:20250330T010000
END:DAYLIGHT
BEGIN:STANDARD
TZOFFSETFROM:+0300
TZOFFSETTO:+0200
TZNAME:EET
DTSTART:20251026T010000
END:STANDARD
BEGIN:DAYLIGHT
TZOFFSETFROM:+0200
TZOFFSETTO:+0300
TZNAME:EEST
DTSTART:20260329T010000
END:DAYLIGHT
BEGIN:STANDARD
TZOFFSETFROM:+0300
TZOFFSETTO:+0200
TZNAME:EET
DTSTART:20261025T010000
END:STANDARD
BEGIN:DAYLIGHT
TZOFFSETFROM:+0200
TZOFFSETTO:+0300
TZNAME:EEST
DTSTART:20270328T010000
END:DAYLIGHT
BEGIN:STANDARD
TZOFFSETFROM:+0300
TZOFFSETTO:+0200
TZNAME:EET
DTSTART:20271031T010000
END:STANDARD
END:VTIMEZONE
BEGIN:VEVENT
DTSTART;TZID=Europe/Helsinki:20260131T180000
DTEND;TZID=Europe/Helsinki:20260131T180000
DTSTAMP:20260421T174615
CREATED:20260115T120323Z
LAST-MODIFIED:20260115T121526Z
UID:35265-1769882400-1769882400@infostargard.pl
SUMMARY:Koncert karnawałowy w Piwnicy pod Ratuszem
DESCRIPTION:W sobotę\, 31 stycznia o godz. 18\, w Piwnicy pod Galerią\, odbędzie się koncert karnawałowy pt. „Każdy w życiu robi głupstwa\, czyli Zanuć\, Zatańcz\, Zaśpiewaj”.  \nBilety w cenie 80 zł\, dla seniorów 60 zł\, do kupienia w CIT lub pod nr tel. 606 124 404. \nNa scenie: \n\nJulita Kożuszek – śpiew\nDawid Ludkiewicz – fortepian\nLeszek Białas – klarnet
URL:https://infostargard.pl/event/koncert-karnawalowy-w-piwnicy-pod-ratuszem/
LOCATION:Piwnica pod Ratuszem
END:VEVENT
END:VCALENDAR