BEGIN:VCALENDAR
VERSION:2.0
PRODID:-//Info Stargard - ECPv6.15.20//NONSGML v1.0//EN
CALSCALE:GREGORIAN
METHOD:PUBLISH
X-WR-CALNAME:Info Stargard
X-ORIGINAL-URL:https://infostargard.pl
X-WR-CALDESC:Wydarzenia dla Info Stargard
REFRESH-INTERVAL;VALUE=DURATION:PT1H
X-Robots-Tag:noindex
X-PUBLISHED-TTL:PT1H
BEGIN:VTIMEZONE
TZID:Europe/Helsinki
BEGIN:DAYLIGHT
TZOFFSETFROM:+0200
TZOFFSETTO:+0300
TZNAME:EEST
DTSTART:20240331T010000
END:DAYLIGHT
BEGIN:STANDARD
TZOFFSETFROM:+0300
TZOFFSETTO:+0200
TZNAME:EET
DTSTART:20241027T010000
END:STANDARD
BEGIN:DAYLIGHT
TZOFFSETFROM:+0200
TZOFFSETTO:+0300
TZNAME:EEST
DTSTART:20250330T010000
END:DAYLIGHT
BEGIN:STANDARD
TZOFFSETFROM:+0300
TZOFFSETTO:+0200
TZNAME:EET
DTSTART:20251026T010000
END:STANDARD
BEGIN:DAYLIGHT
TZOFFSETFROM:+0200
TZOFFSETTO:+0300
TZNAME:EEST
DTSTART:20260329T010000
END:DAYLIGHT
BEGIN:STANDARD
TZOFFSETFROM:+0300
TZOFFSETTO:+0200
TZNAME:EET
DTSTART:20261025T010000
END:STANDARD
END:VTIMEZONE
BEGIN:VEVENT
DTSTART;TZID=Europe/Helsinki:20251113T080000
DTEND;TZID=Europe/Helsinki:20251113T080000
DTSTAMP:20260419T175539
CREATED:20251009T073517Z
LAST-MODIFIED:20251030T102836Z
UID:25664-1763020800-1763020800@infostargard.pl
SUMMARY:\,\,Zwyczajne Wakacje” - pierwszy pokaz dla szkół
DESCRIPTION:13 listopada o godzinie 8 w SCK odbędzie się pierwszy pokaz dla szkół filmu „Zwyczajne wakacje”. Po nim spotkanie z uczestnikami projektu Młodzi Mogą Więcej. \n– Porozmawiamy o tym jak ogromny wpływ na życie młodego człowieka ma pasja i pokażemy\, że uczniowie mogą realizować duże i ambitne projekty już w młodym wieku – zapraszają organizatorzy. – Opowiemy o tym jak powstawała nasza produkcja\, jak rozwijać pasje\, gdzie szukać wsparcia w działaniach i jak nie wypalić się w tym co robimy. Nasz film zawiera motywy i prelekcje certyfikowane oraz wykonane we współpracy z Zachodniopomorskim Instytutem Psychoterapii. \nBilety grupowe dla szkół dostępne będą od godz. 10 w kasie Stargardzkiego Centrum Kultury. Cena 17 zł/os. \n– Zapraszamy klasy z nauczycielami na seans filmowy oraz spotkanie o pasji młodych ludzi\, które pozostanie w waszej pamięci na lata – zachęcają organizatorzy. – Jeśli jesteście zainteresowani naszym wydarzeniem lub macie jakieś pytania piszcie do nas na maila: mlodzi.moga.wiecej.mmw@gmail.com \n\n\n\n\nGrupa Młodzi Mogą Więcej to młodzi twórcy filmowi i nie tylko. Organizują\, jak piszą na swoim fejsbuku\, wydarzenia dla szkół\, mówią o pasji i sile jaką im daje tworzenie. Pokazują\, że „młodzi ludzie mogą realizować duże i ambitne projekty już w młodym wieku”. Premiera filmu „Zwyczajne Wakacje” odbyła się 1 października w Sali „Delfin” w Szczecinie. Wziął w niej udział także wicekurator oświaty Andrzej Kobylec\, a także przedstawiciele władz samorządowych\, którzy razem obejrzeli najnowszą produkcję młodych twórców. \n\n\n\n – To inicjatywa\, która promuje aktywność młodzieży i pokazuje\, że nawet w nastoletnim wieku można realizować ambitne projekty na szeroką skalę – oceniło po premierze szczecińskie kuratorium. – „Zwyczajne wakacje” to poruszająca opowieść o tym\, jak kilka złych decyzji może całkowicie zmienić życie młodego człowieka. Gratulujemy młodym twórcom i zapraszamy do śledzenia kolejnych działań w ramach projektu! \nFilm młodych stargardzian ma być pokazywany w kinach nie tylko w  Stargardzie\, ale też Szczecinie czy Kołobrzegu. \n–  Z radością objęliśmy patronat merytoryczny nad tym projektem – informuje Zachodniopomorski Instytut Psychoterapii. – Film pokazuje\, że młodzi ludzie potrafią nie tylko tworzyć dzieła artystyczne\, ale też przekazywać ważne treści edukacyjne. Każdy aspekt powstał dzięki ich zaangażowaniu. W filmie odnajdziemy wiele wątków psychoedukacyjnych\, a w finałowych scenach Anna Borkowska-Makarewicz\, psychoterapeutka ZIP dzieli się swoim komentarzem\, który pozwala odbiorcom spojrzeć na obraz z innej perspektywy. Jesteśmy dumni\, bo ta inicjatywa trafi do szkół i społeczności w Stargardzie i Szczecinie\, a mamy nadzieję\, że również do innych miastach! To piękny dowód\, że młodzi naprawdę mogą więcej\, gdy mają wsparcie dorosłych i odpowiednie warunki do rozwoju.  \nObsada filmu: \ngłówna bohaterka – Pola Kesselring\nbrat – Antoni Jasiński\ngłówna przyjaciółka – Alicja Koźlik\nprzyjaciółka 2 – Milena Trela\nrodzice – Izabela i Krzysztof Kesselring\nprzyjaciółka 3 – Luiza Lubińska\npolicjanci – Stanisław Sobolewski i Oliwia Janas\nporywacz – Tomasz Sobolewski\npsycholog – Jadwiga Dąbrowska.
URL:https://infostargard.pl/event/zwyczajne-wakacje-pierwszy-pokaz-w-szkolach/
LOCATION:SCK
END:VEVENT
END:VCALENDAR