BEGIN:VCALENDAR
VERSION:2.0
PRODID:-//Info Stargard - ECPv6.15.20//NONSGML v1.0//EN
CALSCALE:GREGORIAN
METHOD:PUBLISH
X-ORIGINAL-URL:https://infostargard.pl
X-WR-CALDESC:Wydarzenia dla Info Stargard
REFRESH-INTERVAL;VALUE=DURATION:PT1H
X-Robots-Tag:noindex
X-PUBLISHED-TTL:PT1H
BEGIN:VTIMEZONE
TZID:Europe/Helsinki
BEGIN:DAYLIGHT
TZOFFSETFROM:+0200
TZOFFSETTO:+0300
TZNAME:EEST
DTSTART:20240331T010000
END:DAYLIGHT
BEGIN:STANDARD
TZOFFSETFROM:+0300
TZOFFSETTO:+0200
TZNAME:EET
DTSTART:20241027T010000
END:STANDARD
BEGIN:DAYLIGHT
TZOFFSETFROM:+0200
TZOFFSETTO:+0300
TZNAME:EEST
DTSTART:20250330T010000
END:DAYLIGHT
BEGIN:STANDARD
TZOFFSETFROM:+0300
TZOFFSETTO:+0200
TZNAME:EET
DTSTART:20251026T010000
END:STANDARD
BEGIN:DAYLIGHT
TZOFFSETFROM:+0200
TZOFFSETTO:+0300
TZNAME:EEST
DTSTART:20260329T010000
END:DAYLIGHT
BEGIN:STANDARD
TZOFFSETFROM:+0300
TZOFFSETTO:+0200
TZNAME:EET
DTSTART:20261025T010000
END:STANDARD
END:VTIMEZONE
BEGIN:VEVENT
DTSTART;TZID=Europe/Helsinki:20251115T100000
DTEND;TZID=Europe/Helsinki:20251115T180000
DTSTAMP:20260420T093911
CREATED:20251112T094641Z
LAST-MODIFIED:20251112T124921Z
UID:29011-1763200800-1763229600@infostargard.pl
SUMMARY:PRL-owa sobota w Fit Cake dla palarni kawy
DESCRIPTION:W sobotę\, 15 listopada od godz. 10\, w Fit Cake Stargard odbędzie się akcja pomocy dla Palarni Kawy Kitiko\, która ucierpiała w pożarze.  \nEkipa z Pchlego Targu zamieni część kawiarni Fit Cake w strefę rodem z PRL-u. \n– W najbliższą sobotę przenosimy się w czasie – zachęcają organizatorzy. – Będzie klimat\, akcesoria i oczywiście obowiązkowa WZ-ka i kawa! Przyjdź\, usiądź z nami przy stoliku jak za dawnych lat\, wypij dobrą kawę\, zjedz coś słodkiego i pomóż razem z nami.  \nCzęść dochodu z każdego zestawu obowiązkowego „WZ-ka + kawa” trafi bezpośrednio do Palarni Kitiko. \nOpis zrzutki: \nW nocy z wtorku na środę (4-5 listopada 2025) pożar strawił cały dach naszej palarni kawy. Sama palarnia została zalana tysiącami litrów wody z węży strażackich. Akcja pożarowa trwała wiele godzin. Kilka miesięcy temu byliśmy zmuszeni opuścić nasz pierwszy lokal i poszukać nowego miejsca. W nowym miejscu prace dostosowujące do ponownego otwarcia zmierzały już ku zakończeniu. Mieliśmy podłączony piec\, zrobione ściany\, energetykę\, prawie hydraulikę. Zostalo jeszcze kilka prac kosmetycznych… Kosztowało nas to sporo pracy i nerwów. Niestety pożar zabrał prawie wszystko. Jeszcze nie wiemy w jakim stanie jest piec do wypalania kawy i inne sprzęty. Młynki na pewno są do wyrzucenia. Wszystko pływało w wodzie. Szukamy nowego miejsca\, aby je dostosować\, i aby nasza rodzinna palarnia kawy mogła na nowo stanąć na nogi\, i być dla Was uśmiechem na twarzy. Chcemy jak najszybciej wrócić do wypalania kawy i móc w ten sposób codziennie gościć na Waszych stołach. Ciężko się pisze te słowa\, bo i sytuacja dla nas jest przytłaczająca\, ale prosimy o pomoc. \nLink do zrzutki: https://zrzutka.pl/4yvtje/pay
URL:https://infostargard.pl/event/prl-owa-sobota-w-fit-cake/
LOCATION:Fit Cake Stargard\, ul. Mickiewicza 2
END:VEVENT
END:VCALENDAR