BEGIN:VCALENDAR
VERSION:2.0
PRODID:-//Info Stargard - ECPv6.15.20//NONSGML v1.0//EN
CALSCALE:GREGORIAN
METHOD:PUBLISH
X-ORIGINAL-URL:https://infostargard.pl
X-WR-CALDESC:Wydarzenia dla Info Stargard
REFRESH-INTERVAL;VALUE=DURATION:PT1H
X-Robots-Tag:noindex
X-PUBLISHED-TTL:PT1H
BEGIN:VTIMEZONE
TZID:Europe/Helsinki
BEGIN:DAYLIGHT
TZOFFSETFROM:+0200
TZOFFSETTO:+0300
TZNAME:EEST
DTSTART:20250330T010000
END:DAYLIGHT
BEGIN:STANDARD
TZOFFSETFROM:+0300
TZOFFSETTO:+0200
TZNAME:EET
DTSTART:20251026T010000
END:STANDARD
BEGIN:DAYLIGHT
TZOFFSETFROM:+0200
TZOFFSETTO:+0300
TZNAME:EEST
DTSTART:20260329T010000
END:DAYLIGHT
BEGIN:STANDARD
TZOFFSETFROM:+0300
TZOFFSETTO:+0200
TZNAME:EET
DTSTART:20261025T010000
END:STANDARD
BEGIN:DAYLIGHT
TZOFFSETFROM:+0200
TZOFFSETTO:+0300
TZNAME:EEST
DTSTART:20270328T010000
END:DAYLIGHT
BEGIN:STANDARD
TZOFFSETFROM:+0300
TZOFFSETTO:+0200
TZNAME:EET
DTSTART:20271031T010000
END:STANDARD
END:VTIMEZONE
BEGIN:VEVENT
DTSTART;TZID=Europe/Helsinki:20260131T150000
DTEND;TZID=Europe/Helsinki:20260131T150000
DTSTAMP:20260421T200617
CREATED:20260110T071827Z
LAST-MODIFIED:20260115T093015Z
UID:34688-1769871600-1769871600@infostargard.pl
SUMMARY:9. Memoriał Władysława Wojtakajtisa
DESCRIPTION:9. Memoriał Władysława Wojtakajtisa odbędzie się 31 stycznia na pływalni AquaStar przy ul. Szczecińskiej 35 w Stargardzie.  \nSą to zawody pływackie dla dorosłych\, poświęcone pamięci śp. Władysława Wojtakajtisa – wydarzenie z tradycją\, sportowym poziomem i wyjątkową atmosferą. \nProgram zawodów: \n13:00–15:00 – rejestracja i weryfikacja zawodników\n15:00–15:45 – rozgrzewka\n16:00 – uroczyste otwarcie\n16:15 – start konkurencji pływackich\n20:00 – zakończenie imprezy. \nKonkurencje indywidualne:\n50 m: motylkowy\, grzbietowy\, klasyczny\, dowolny (K/M)\n100 m stylem zmiennym (K/M). \nKonkurencje dodatkowe:\n400 m stylem dowolnym OPEN – konkurencja memoriałowa\n1500 m stylem dowolnym MIX – „Sztafeta dla Kajtka” (30×50 m). \nKategorie wiekowe:\nod 20 lat (rocznik 2006 i starsi)\nkategorie co 5 lat. \nZgłoszenia:\n– wyłącznie elektroniczne\n– termin do 27.01.2026\n– limit uczestników: 100 osób\n– brak możliwości zmiany konkurencji w dniu zawodów. \nOpłata startowa:\n100 zł – wpłata do 27.01.2026\n140 zł – wpłata po 27.01.2026 lub w dniu zawodów \nPakiet startowy dla każdego uczestnika:\nczapka zimowa\ntorba bawełniana z logo imprezy\nkalendarz trójdzielny 2026\ncertyfikat uczestnictwa. \nNagrody:\nmedale za miejsca I–III w kategoriach wiekowych\nstatuetki za 400 m OPEN (K/M)\nniespodzianka za udział w „Sztafecie dla Kajtka”. \nDodatkowo:\nstrefa poczęstunku w trakcie zawodów\nciepły posiłek po zakończeniu imprezy. \nInf. organizatora
URL:https://infostargard.pl/event/9-memorial-wladyslawa-wojtakajtisa/
LOCATION:AquaStar\, ul. Szczecińska 35
END:VEVENT
END:VCALENDAR