BEGIN:VCALENDAR
VERSION:2.0
PRODID:-//Info Stargard - ECPv6.15.20//NONSGML v1.0//EN
CALSCALE:GREGORIAN
METHOD:PUBLISH
X-WR-CALNAME:Info Stargard
X-ORIGINAL-URL:https://infostargard.pl
X-WR-CALDESC:Wydarzenia dla Info Stargard
REFRESH-INTERVAL;VALUE=DURATION:PT1H
X-Robots-Tag:noindex
X-PUBLISHED-TTL:PT1H
BEGIN:VTIMEZONE
TZID:Europe/Helsinki
BEGIN:DAYLIGHT
TZOFFSETFROM:+0200
TZOFFSETTO:+0300
TZNAME:EEST
DTSTART:20240331T010000
END:DAYLIGHT
BEGIN:STANDARD
TZOFFSETFROM:+0300
TZOFFSETTO:+0200
TZNAME:EET
DTSTART:20241027T010000
END:STANDARD
BEGIN:DAYLIGHT
TZOFFSETFROM:+0200
TZOFFSETTO:+0300
TZNAME:EEST
DTSTART:20250330T010000
END:DAYLIGHT
BEGIN:STANDARD
TZOFFSETFROM:+0300
TZOFFSETTO:+0200
TZNAME:EET
DTSTART:20251026T010000
END:STANDARD
BEGIN:DAYLIGHT
TZOFFSETFROM:+0200
TZOFFSETTO:+0300
TZNAME:EEST
DTSTART:20260329T010000
END:DAYLIGHT
BEGIN:STANDARD
TZOFFSETFROM:+0300
TZOFFSETTO:+0200
TZNAME:EET
DTSTART:20261025T010000
END:STANDARD
END:VTIMEZONE
BEGIN:VEVENT
DTSTART;TZID=Europe/Helsinki:20250711T180000
DTEND;TZID=Europe/Helsinki:20250711T180000
DTSTAMP:20260422T091948
CREATED:20250709T101054Z
LAST-MODIFIED:20250709T101235Z
UID:17136-1752256800-1752256800@infostargard.pl
SUMMARY:Podsumowanie Rowerowej Stolicy Polski 2025 - wręczenie nagród
DESCRIPTION:Ośrodek Sportu i Rekreacji zaprasza na oficjalne podsumowanie akcji Rowerowa Stolica Polski.  \nWydarzenie to odbędzie się już w najbliższy piątek o godz. 18 na stadionie lekkoatletycznym przy ul. Sportowej. W przypadku deszczu\, impreza zostanie przeniesiona na halę OSiR przy ul. Pierwszej Brygady 1. \n– Dziękujemy wszystkim\, którzy kręcili kilometry dla naszego miasta! – informują organizatorzy. – Dziękujemy za Waszą aktywność\, energię i rekordowe statystyki! \nW ciągu 30 dni Stargard przejechał 277 021\, 70 km\, co dało 11 miejsce spośród 54 miast. \nUczestników było aż 853\, w tym 518 mężczyzn i 355 kobiet. \nZwycięzca osiągnął 5200 km\, co średnio daje ponad 170 km dziennie. \n– Bądźcie z nami na finiszu! – zachęcają organizatorzy.
URL:https://infostargard.pl/event/podsumowanie-rowerowej-stolicy-polski-2025-wreczenie-nagrod/
LOCATION:Stadion Lekkoatletyczny\, ul. Sportowa 1
END:VEVENT
END:VCALENDAR