BEGIN:VCALENDAR
VERSION:2.0
PRODID:-//Info Stargard - ECPv6.15.20//NONSGML v1.0//EN
CALSCALE:GREGORIAN
METHOD:PUBLISH
X-WR-CALNAME:Info Stargard
X-ORIGINAL-URL:https://infostargard.pl
X-WR-CALDESC:Wydarzenia dla Info Stargard
REFRESH-INTERVAL;VALUE=DURATION:PT1H
X-Robots-Tag:noindex
X-PUBLISHED-TTL:PT1H
BEGIN:VTIMEZONE
TZID:Europe/Helsinki
BEGIN:DAYLIGHT
TZOFFSETFROM:+0200
TZOFFSETTO:+0300
TZNAME:EEST
DTSTART:20250330T010000
END:DAYLIGHT
BEGIN:STANDARD
TZOFFSETFROM:+0300
TZOFFSETTO:+0200
TZNAME:EET
DTSTART:20251026T010000
END:STANDARD
BEGIN:DAYLIGHT
TZOFFSETFROM:+0200
TZOFFSETTO:+0300
TZNAME:EEST
DTSTART:20260329T010000
END:DAYLIGHT
BEGIN:STANDARD
TZOFFSETFROM:+0300
TZOFFSETTO:+0200
TZNAME:EET
DTSTART:20261025T010000
END:STANDARD
BEGIN:DAYLIGHT
TZOFFSETFROM:+0200
TZOFFSETTO:+0300
TZNAME:EEST
DTSTART:20270328T010000
END:DAYLIGHT
BEGIN:STANDARD
TZOFFSETFROM:+0300
TZOFFSETTO:+0200
TZNAME:EET
DTSTART:20271031T010000
END:STANDARD
END:VTIMEZONE
BEGIN:VEVENT
DTSTART;TZID=Europe/Helsinki:20260227T000000
DTEND;TZID=Europe/Helsinki:20260227T000000
DTSTAMP:20260419T173614
CREATED:20260224T105549Z
LAST-MODIFIED:20260224T105839Z
UID:39390-1772150400-1772150400@infostargard.pl
SUMMARY:Nowy nabór do Ogniska Muzycznego przy Domu Kultury Kolejarza
DESCRIPTION:Ognisko Muzyczne działające przy Domu Kultury Kolejarza w Stargardzie zaprasza dzieci\, młodzież i dorosłych do wspólnego muzykowania w orkiestrze dętej oraz big bandzie.  \nOferta skierowana jest zarówno do osób początkujących\, jak i tych\, którzy mają już doświadczenie muzyczne. Instruktorzy zapewniają profesjonalne wsparcie oraz zajęcia prowadzone w przyjaznej\, bezstresowej atmosferze. Nauka możliwa jest m.in. na takich instrumentach jak trąbka\, saksofon\, puzon\, klarnet\, tuba czy perkusja. \nDo udziału zaproszone są dzieci od klas VII szkół podstawowych\, młodzież szkół ponadpodstawowych oraz dorośli – bez ograniczeń wiekowych. Organizatorzy podkreślają\, że nie trzeba umieć grać – wystarczy chęć do nauki i zaangażowanie. Instrumenty są zapewnione\, a uczestnicy mają możliwość występów na scenie i udziału w koncertach. To propozycja dla wszystkich\, którzy chcą rozwijać swoje muzyczne pasje i stać się częścią orkiestralnej społeczności. \nZapisy i szczegółowe informacje dostępne są pod nr tel. 668 013 945 lub email: dyrektordkk@stargard.org.pl
URL:https://infostargard.pl/event/nowy-nabor-do-ogniska-muzycznego-przy-domu-kultury-kolejarza/
LOCATION:Ognisko muzyczne przy DKK
END:VEVENT
END:VCALENDAR