BEGIN:VCALENDAR
VERSION:2.0
PRODID:-//Info Stargard - ECPv6.15.20//NONSGML v1.0//EN
CALSCALE:GREGORIAN
METHOD:PUBLISH
X-WR-CALNAME:Info Stargard
X-ORIGINAL-URL:https://infostargard.pl
X-WR-CALDESC:Wydarzenia dla Info Stargard
REFRESH-INTERVAL;VALUE=DURATION:PT1H
X-Robots-Tag:noindex
X-PUBLISHED-TTL:PT1H
BEGIN:VTIMEZONE
TZID:Europe/Helsinki
BEGIN:DAYLIGHT
TZOFFSETFROM:+0200
TZOFFSETTO:+0300
TZNAME:EEST
DTSTART:20240331T010000
END:DAYLIGHT
BEGIN:STANDARD
TZOFFSETFROM:+0300
TZOFFSETTO:+0200
TZNAME:EET
DTSTART:20241027T010000
END:STANDARD
BEGIN:DAYLIGHT
TZOFFSETFROM:+0200
TZOFFSETTO:+0300
TZNAME:EEST
DTSTART:20250330T010000
END:DAYLIGHT
BEGIN:STANDARD
TZOFFSETFROM:+0300
TZOFFSETTO:+0200
TZNAME:EET
DTSTART:20251026T010000
END:STANDARD
BEGIN:DAYLIGHT
TZOFFSETFROM:+0200
TZOFFSETTO:+0300
TZNAME:EEST
DTSTART:20260329T010000
END:DAYLIGHT
BEGIN:STANDARD
TZOFFSETFROM:+0300
TZOFFSETTO:+0200
TZNAME:EET
DTSTART:20261025T010000
END:STANDARD
END:VTIMEZONE
BEGIN:VEVENT
DTSTART;TZID=Europe/Helsinki:20250726T203000
DTEND;TZID=Europe/Helsinki:20250726T203000
DTSTAMP:20260421T134117
CREATED:20250717T082632Z
LAST-MODIFIED:20250802T052445Z
UID:17748-1753561800-1753561800@infostargard.pl
SUMMARY:Cygański Teatr Papuszy w Morzyczynie
DESCRIPTION:– 26 lipca 2025 r. zapraszamy serdecznie nad jezioro Miedwie\, a tam… fantastyczne widowisko przygotowane przez Cygański Teatr Papuszy- Teatr Terno – zaprasza Centrum Kultury i Rekreacji w Kobylance. – Zaczynamy o godz. 16.30. \n\nW programie: muzyka\, taniec\, kuchnia\, cygańskie wróżby. Koncert rozpocznie się o godz. 20.30.\n\n 
URL:https://infostargard.pl/event/cyganski-teatr-papuszy-w-morzyczynie/
LOCATION:Amfiteatr w Morzyczynie
END:VEVENT
END:VCALENDAR