BEGIN:VCALENDAR
VERSION:2.0
PRODID:-//Info Stargard - ECPv6.15.20//NONSGML v1.0//EN
CALSCALE:GREGORIAN
METHOD:PUBLISH
X-ORIGINAL-URL:https://infostargard.pl
X-WR-CALDESC:Wydarzenia dla Info Stargard
REFRESH-INTERVAL;VALUE=DURATION:PT1H
X-Robots-Tag:noindex
X-PUBLISHED-TTL:PT1H
BEGIN:VTIMEZONE
TZID:Europe/Helsinki
BEGIN:DAYLIGHT
TZOFFSETFROM:+0200
TZOFFSETTO:+0300
TZNAME:EEST
DTSTART:20250330T010000
END:DAYLIGHT
BEGIN:STANDARD
TZOFFSETFROM:+0300
TZOFFSETTO:+0200
TZNAME:EET
DTSTART:20251026T010000
END:STANDARD
BEGIN:DAYLIGHT
TZOFFSETFROM:+0200
TZOFFSETTO:+0300
TZNAME:EEST
DTSTART:20260329T010000
END:DAYLIGHT
BEGIN:STANDARD
TZOFFSETFROM:+0300
TZOFFSETTO:+0200
TZNAME:EET
DTSTART:20261025T010000
END:STANDARD
BEGIN:DAYLIGHT
TZOFFSETFROM:+0200
TZOFFSETTO:+0300
TZNAME:EEST
DTSTART:20270328T010000
END:DAYLIGHT
BEGIN:STANDARD
TZOFFSETFROM:+0300
TZOFFSETTO:+0200
TZNAME:EET
DTSTART:20271031T010000
END:STANDARD
END:VTIMEZONE
BEGIN:VEVENT
DTSTART;TZID=Europe/Helsinki:20260130T180000
DTEND;TZID=Europe/Helsinki:20260130T200000
DTSTAMP:20260420T090826
CREATED:20260129T115622Z
LAST-MODIFIED:20260129T115640Z
UID:37055-1769796000-1769803200@infostargard.pl
SUMMARY:Mapping na MDK w Stargardzie
DESCRIPTION:W piątek\, 30 stycznia\, od godz. 18 do 20\, Młodzieżowy Dom Kultury zaprasza na recytacje sonetów gen. Mariusza Zaruskiego w wykonaniu uczestników koła teatralnego.  \nCałość będzie wyświetlana w zapętleniu na ścianie budynku MDK przez dwie godziny.
URL:https://infostargard.pl/event/mapping-na-mdk-w-stargardzie/
LOCATION:ściana budynku MDK
END:VEVENT
END:VCALENDAR