BEGIN:VCALENDAR
VERSION:2.0
PRODID:-//Info Stargard - ECPv6.15.20//NONSGML v1.0//EN
CALSCALE:GREGORIAN
METHOD:PUBLISH
X-WR-CALNAME:Info Stargard
X-ORIGINAL-URL:https://infostargard.pl
X-WR-CALDESC:Wydarzenia dla Info Stargard
REFRESH-INTERVAL;VALUE=DURATION:PT1H
X-Robots-Tag:noindex
X-PUBLISHED-TTL:PT1H
BEGIN:VTIMEZONE
TZID:Europe/Helsinki
BEGIN:DAYLIGHT
TZOFFSETFROM:+0200
TZOFFSETTO:+0300
TZNAME:EEST
DTSTART:20240331T010000
END:DAYLIGHT
BEGIN:STANDARD
TZOFFSETFROM:+0300
TZOFFSETTO:+0200
TZNAME:EET
DTSTART:20241027T010000
END:STANDARD
BEGIN:DAYLIGHT
TZOFFSETFROM:+0200
TZOFFSETTO:+0300
TZNAME:EEST
DTSTART:20250330T010000
END:DAYLIGHT
BEGIN:STANDARD
TZOFFSETFROM:+0300
TZOFFSETTO:+0200
TZNAME:EET
DTSTART:20251026T010000
END:STANDARD
BEGIN:DAYLIGHT
TZOFFSETFROM:+0200
TZOFFSETTO:+0300
TZNAME:EEST
DTSTART:20260329T010000
END:DAYLIGHT
BEGIN:STANDARD
TZOFFSETFROM:+0300
TZOFFSETTO:+0200
TZNAME:EET
DTSTART:20261025T010000
END:STANDARD
END:VTIMEZONE
BEGIN:VEVENT
DTSTART;TZID=Europe/Helsinki:20250720T160000
DTEND;TZID=Europe/Helsinki:20250720T160000
DTSTAMP:20260421T181110
CREATED:20250708T044308Z
LAST-MODIFIED:20250802T052549Z
UID:17001-1753027200-1753027200@infostargard.pl
SUMMARY:II Mariackie Koncerty Muzyki Organowej i Kameralnej 2025
DESCRIPTION:W niedzielę (20.07.) będzie następna okazja do wzięcia udziału w II Mariackich Koncertach Muzyki Organowej i Kameralnej.  \nO  godz. 16 w kolegiacie rozpocznie się kolejna odsłona tego wyjątkowego wydarzenia w ramach Coolturalnych Wakacji. Tym razem na organach zagra Elżbieta Budnik i Wiktor Łyjak. Wystąpi również ukraiński zespół muzyki cerkiewnej „Partes” w składzie: Serhiy Bida (tenor\, dyrygent)\, Olena Tsygankova (alt)\, Vasyl Huliak (tenor)\, Konstiantyn Lenchyk (bas)\, Ivan Yarems (bas). \nWstęp bezpłatny. \nInf. organizatora.
URL:https://infostargard.pl/event/ii-mariackie-koncerty-muzyki-organowej-i-kameralnej-2025-2/
LOCATION:Kolegiata NMP KŚ
END:VEVENT
END:VCALENDAR