BEGIN:VCALENDAR
VERSION:2.0
PRODID:-//Info Stargard - ECPv6.15.20//NONSGML v1.0//EN
CALSCALE:GREGORIAN
METHOD:PUBLISH
X-ORIGINAL-URL:https://infostargard.pl
X-WR-CALDESC:Wydarzenia dla Info Stargard
REFRESH-INTERVAL;VALUE=DURATION:PT1H
X-Robots-Tag:noindex
X-PUBLISHED-TTL:PT1H
BEGIN:VTIMEZONE
TZID:Europe/Helsinki
BEGIN:DAYLIGHT
TZOFFSETFROM:+0200
TZOFFSETTO:+0300
TZNAME:EEST
DTSTART:20240331T010000
END:DAYLIGHT
BEGIN:STANDARD
TZOFFSETFROM:+0300
TZOFFSETTO:+0200
TZNAME:EET
DTSTART:20241027T010000
END:STANDARD
BEGIN:DAYLIGHT
TZOFFSETFROM:+0200
TZOFFSETTO:+0300
TZNAME:EEST
DTSTART:20250330T010000
END:DAYLIGHT
BEGIN:STANDARD
TZOFFSETFROM:+0300
TZOFFSETTO:+0200
TZNAME:EET
DTSTART:20251026T010000
END:STANDARD
BEGIN:DAYLIGHT
TZOFFSETFROM:+0200
TZOFFSETTO:+0300
TZNAME:EEST
DTSTART:20260329T010000
END:DAYLIGHT
BEGIN:STANDARD
TZOFFSETFROM:+0300
TZOFFSETTO:+0200
TZNAME:EET
DTSTART:20261025T010000
END:STANDARD
END:VTIMEZONE
BEGIN:VEVENT
DTSTART;TZID=Europe/Helsinki:20250524T170000
DTEND;TZID=Europe/Helsinki:20250524T170000
DTSTAMP:20260421T220214
CREATED:20250411T080930Z
LAST-MODIFIED:20250419T074153Z
UID:6417-1748106000-1748106000@infostargard.pl
SUMMARY:Kabaret Smile "CONTRA"
DESCRIPTION:Stargardzkie Centrum Kultury zaprasza na występ polskiego Kabaretu Smile. \n\nW programie CONTRA zobaczyć będzie można różnice między pokoleniami\, zestawienia technologii z tradycją\, konflikty międzyludzkie\, stereotypy i uprzedzenia\, czy też kontrast między rzeczywistością\, a światem mediów społecznościowych. \nKabaret odbędzie się w sobotę\, 24 maja o godz. 17\, na Dużej Scenie SCK. Bilety w cenie: parter / 150 zł\, balkon / 130 zł. \nNa to wydarzenie nie obowiązuje Stargardzka Karta Mieszkańca. \n– Smile jak zawsze rozbawi do łez\, ale też skłoni do myślenia – zachęcają organizatorzy. – Ich nowy program „CONTRA” to gwarancja świetnej rozrywki! Kabaret Smile – „CONTRA”. Kontra nuda\, kontra schematy\, kontra banał! 0% polityki\, 0% wulgaryzmów\, 100% dobrej zabawy dla wszystkich.
URL:https://infostargard.pl/event/kabaret-smile-contra/
LOCATION:Duża Scena SCK
END:VEVENT
END:VCALENDAR