BEGIN:VCALENDAR
VERSION:2.0
PRODID:-//Info Stargard - ECPv6.15.20//NONSGML v1.0//EN
CALSCALE:GREGORIAN
METHOD:PUBLISH
X-ORIGINAL-URL:https://infostargard.pl
X-WR-CALDESC:Wydarzenia dla Info Stargard
REFRESH-INTERVAL;VALUE=DURATION:PT1H
X-Robots-Tag:noindex
X-PUBLISHED-TTL:PT1H
BEGIN:VTIMEZONE
TZID:Europe/Helsinki
BEGIN:DAYLIGHT
TZOFFSETFROM:+0200
TZOFFSETTO:+0300
TZNAME:EEST
DTSTART:20240331T010000
END:DAYLIGHT
BEGIN:STANDARD
TZOFFSETFROM:+0300
TZOFFSETTO:+0200
TZNAME:EET
DTSTART:20241027T010000
END:STANDARD
BEGIN:DAYLIGHT
TZOFFSETFROM:+0200
TZOFFSETTO:+0300
TZNAME:EEST
DTSTART:20250330T010000
END:DAYLIGHT
BEGIN:STANDARD
TZOFFSETFROM:+0300
TZOFFSETTO:+0200
TZNAME:EET
DTSTART:20251026T010000
END:STANDARD
BEGIN:DAYLIGHT
TZOFFSETFROM:+0200
TZOFFSETTO:+0300
TZNAME:EEST
DTSTART:20260329T010000
END:DAYLIGHT
BEGIN:STANDARD
TZOFFSETFROM:+0300
TZOFFSETTO:+0200
TZNAME:EET
DTSTART:20261025T010000
END:STANDARD
END:VTIMEZONE
BEGIN:VEVENT
DTSTART;TZID=Europe/Helsinki:20251202T140000
DTEND;TZID=Europe/Helsinki:20251202T140000
DTSTAMP:20260420T092449
CREATED:20251126T083751Z
LAST-MODIFIED:20251126T083847Z
UID:30434-1764684000-1764684000@infostargard.pl
SUMMARY:Wystawa Janusza Liczby w gminie Stargard
DESCRIPTION:Gmina Stargard zaprasza na wernisaż i otwarcie wystawy pt. „Życie na co dzień” autorstwa Janusza Liczby\, malarza i członka grupy malarskiej „Malachit”.  \nWernisaż odbędzie się we wtorek\, 2 grudnia o godz. 14\, w sali konferencyjnej Urzędu Gminy Stargard. \nArtysta tworzy prace olejne\, akrylowe\, akwarele\, pastele i rysunki. Inspiruje się prostotą codziennego życia. Prace Janusza Liczby przedstawiają sceny zwykłych dni\, codzienne sytuację\, pejzaże\, weduty oraz portrety. \nPrace malarza będą eksponowane na II piętrze Urzędu Gminy\, od 2 grudnia przez cały miesiąc.
URL:https://infostargard.pl/event/wystawa-janusza-liczby-w-gminie-stargard/
LOCATION:Sala konferencyjna Urzędu Gminy Stargard
END:VEVENT
END:VCALENDAR