BEGIN:VCALENDAR
VERSION:2.0
PRODID:-//Info Stargard - ECPv6.15.20//NONSGML v1.0//EN
CALSCALE:GREGORIAN
METHOD:PUBLISH
X-ORIGINAL-URL:https://infostargard.pl
X-WR-CALDESC:Wydarzenia dla Info Stargard
REFRESH-INTERVAL;VALUE=DURATION:PT1H
X-Robots-Tag:noindex
X-PUBLISHED-TTL:PT1H
BEGIN:VTIMEZONE
TZID:Europe/Helsinki
BEGIN:DAYLIGHT
TZOFFSETFROM:+0200
TZOFFSETTO:+0300
TZNAME:EEST
DTSTART:20240331T010000
END:DAYLIGHT
BEGIN:STANDARD
TZOFFSETFROM:+0300
TZOFFSETTO:+0200
TZNAME:EET
DTSTART:20241027T010000
END:STANDARD
BEGIN:DAYLIGHT
TZOFFSETFROM:+0200
TZOFFSETTO:+0300
TZNAME:EEST
DTSTART:20250330T010000
END:DAYLIGHT
BEGIN:STANDARD
TZOFFSETFROM:+0300
TZOFFSETTO:+0200
TZNAME:EET
DTSTART:20251026T010000
END:STANDARD
BEGIN:DAYLIGHT
TZOFFSETFROM:+0200
TZOFFSETTO:+0300
TZNAME:EEST
DTSTART:20260329T010000
END:DAYLIGHT
BEGIN:STANDARD
TZOFFSETFROM:+0300
TZOFFSETTO:+0200
TZNAME:EET
DTSTART:20261025T010000
END:STANDARD
END:VTIMEZONE
BEGIN:VEVENT
DTSTART;TZID=Europe/Helsinki:20251007T080000
DTEND;TZID=Europe/Helsinki:20251007T080000
DTSTAMP:20260420T005431
CREATED:20251002T071808Z
LAST-MODIFIED:20251002T071813Z
UID:24732-1759824000-1759824000@infostargard.pl
SUMMARY:Uniwersytet Trzeciego Wieku - inauguracja roku akademickiego 2025/2026
DESCRIPTION:Uniwersytet Trzeciego Wieku jest stowarzyszeniem prowadzącym działalność edukacyjną i społeczną dla osób starszych. \nWe wtorek\, 7 października odbędzie się uroczyste rozpoczęcie roku akademickiego 2025/2026.
URL:https://infostargard.pl/event/uniwersytet-trzeciego-wieku-inauguracja-roku-akademickiego-2025-2026/
LOCATION:Uniwersytet Trzeciego Wieku\, ul. Piłsudskiego 105
END:VEVENT
END:VCALENDAR