BEGIN:VCALENDAR
VERSION:2.0
PRODID:-//Info Stargard - ECPv6.15.20//NONSGML v1.0//EN
CALSCALE:GREGORIAN
METHOD:PUBLISH
X-ORIGINAL-URL:https://infostargard.pl
X-WR-CALDESC:Wydarzenia dla Info Stargard
REFRESH-INTERVAL;VALUE=DURATION:PT1H
X-Robots-Tag:noindex
X-PUBLISHED-TTL:PT1H
BEGIN:VTIMEZONE
TZID:Europe/Helsinki
BEGIN:DAYLIGHT
TZOFFSETFROM:+0200
TZOFFSETTO:+0300
TZNAME:EEST
DTSTART:20240331T010000
END:DAYLIGHT
BEGIN:STANDARD
TZOFFSETFROM:+0300
TZOFFSETTO:+0200
TZNAME:EET
DTSTART:20241027T010000
END:STANDARD
BEGIN:DAYLIGHT
TZOFFSETFROM:+0200
TZOFFSETTO:+0300
TZNAME:EEST
DTSTART:20250330T010000
END:DAYLIGHT
BEGIN:STANDARD
TZOFFSETFROM:+0300
TZOFFSETTO:+0200
TZNAME:EET
DTSTART:20251026T010000
END:STANDARD
BEGIN:DAYLIGHT
TZOFFSETFROM:+0200
TZOFFSETTO:+0300
TZNAME:EEST
DTSTART:20260329T010000
END:DAYLIGHT
BEGIN:STANDARD
TZOFFSETFROM:+0300
TZOFFSETTO:+0200
TZNAME:EET
DTSTART:20261025T010000
END:STANDARD
END:VTIMEZONE
BEGIN:VEVENT
DTSTART;TZID=Europe/Helsinki:20250628T200000
DTEND;TZID=Europe/Helsinki:20250628T200000
DTSTAMP:20260421T123210
CREATED:20250617T110712Z
LAST-MODIFIED:20250703T111758Z
UID:14967-1751140800-1751140800@infostargard.pl
SUMMARY:Grzędzicka Letnia Potańcówka
DESCRIPTION:Ochotnicza Straż Pożarna w Grzędzicach zaprasza w sobotę\, 28 czerwca o godz. 20\, na letnią potańcówkę. \nImpreza odbędzie się na placu przy remizie OSP Grzędzice.
URL:https://infostargard.pl/event/grzedzicka-letnia-potancowka/
LOCATION:Plac przy remizie OSP Grzedzice
END:VEVENT
BEGIN:VEVENT
DTSTART;TZID=Europe/Helsinki:20250629T170000
DTEND;TZID=Europe/Helsinki:20250629T183000
DTSTAMP:20260421T123210
CREATED:20250626T074438Z
LAST-MODIFIED:20250703T111711Z
UID:15639-1751216400-1751221800@infostargard.pl
SUMMARY:EKO-PRZYGODA w Grzędzicach
DESCRIPTION:Organizatorzy Think Green – Zielone Eventy zapraszają na wyjątkową grę terenową ulicami Grzędzic. \nPodchody odbędą się już w najbliższą niedzielę\, 29 czerwca w godz. 17 – 18:30. Zabawa rozpocznie się na placu zabaw przy remizie OSP Grzędzice. \n– Czeka Was mnóstwo zabawy\, zagadek i ruchu na świeżym powietrzu – zachęcają organizatorzy. – To idealna okazja\, by spędzić popołudnie z rodziną i znajomymi! \nUdział w wydarzeniu jest bezpłatny. Wystarczy zgłosić się emailowo: koska_k@o2.pl lub telefonicznie: 661 704 541. \n– Nie przegap okazji do aktywnego relaksu i ekologicznej przygody – zapraszają organizatorzy Think Green. – Do zobaczenia!
URL:https://infostargard.pl/event/eko-przygoda-w-grzedzicach/
LOCATION:Plac zabaw przy rezmizie OSP Grzędzice
END:VEVENT
END:VCALENDAR