BEGIN:VCALENDAR
VERSION:2.0
PRODID:-//Info Stargard - ECPv6.15.20//NONSGML v1.0//EN
CALSCALE:GREGORIAN
METHOD:PUBLISH
X-ORIGINAL-URL:https://infostargard.pl
X-WR-CALDESC:Wydarzenia dla Info Stargard
REFRESH-INTERVAL;VALUE=DURATION:PT1H
X-Robots-Tag:noindex
X-PUBLISHED-TTL:PT1H
BEGIN:VTIMEZONE
TZID:Europe/Helsinki
BEGIN:DAYLIGHT
TZOFFSETFROM:+0200
TZOFFSETTO:+0300
TZNAME:EEST
DTSTART:20250330T010000
END:DAYLIGHT
BEGIN:STANDARD
TZOFFSETFROM:+0300
TZOFFSETTO:+0200
TZNAME:EET
DTSTART:20251026T010000
END:STANDARD
BEGIN:DAYLIGHT
TZOFFSETFROM:+0200
TZOFFSETTO:+0300
TZNAME:EEST
DTSTART:20260329T010000
END:DAYLIGHT
BEGIN:STANDARD
TZOFFSETFROM:+0300
TZOFFSETTO:+0200
TZNAME:EET
DTSTART:20261025T010000
END:STANDARD
BEGIN:DAYLIGHT
TZOFFSETFROM:+0200
TZOFFSETTO:+0300
TZNAME:EEST
DTSTART:20270328T010000
END:DAYLIGHT
BEGIN:STANDARD
TZOFFSETFROM:+0300
TZOFFSETTO:+0200
TZNAME:EET
DTSTART:20271031T010000
END:STANDARD
END:VTIMEZONE
BEGIN:VEVENT
DTSTART;TZID=Europe/Helsinki:20260221T120000
DTEND;TZID=Europe/Helsinki:20260221T120000
DTSTAMP:20260420T020743
CREATED:20260219T093449Z
LAST-MODIFIED:20260219T093457Z
UID:38798-1771675200-1771675200@infostargard.pl
SUMMARY:Taneczna Starówka - show\, warsztaty i konkursy taneczne w Stargardzie
DESCRIPTION:Centrum Tańca SBT zaprasza na pełne energii\, wydarzenie taneczne w Galerii Starówka\, które odbędzie się w sobotę\, 21 lutego.  \nW programie m.in. konkursy z nagrodami oraz prezentacje takich stylów jak hip hop\, dancehall i break dance. Nie zabraknie również atrakcji dla najmłodszych – w tym tanecznej zabawy z Elzą.
URL:https://infostargard.pl/event/taneczna-starowka-show-warsztaty-i-konkursy-taneczne-w-stargardzie/
LOCATION:Galeria Handlowa Starówka
END:VEVENT
END:VCALENDAR