BEGIN:VCALENDAR
VERSION:2.0
PRODID:-//Info Stargard - ECPv6.15.20//NONSGML v1.0//EN
CALSCALE:GREGORIAN
METHOD:PUBLISH
X-WR-CALNAME:Info Stargard
X-ORIGINAL-URL:https://infostargard.pl
X-WR-CALDESC:Wydarzenia dla Info Stargard
REFRESH-INTERVAL;VALUE=DURATION:PT1H
X-Robots-Tag:noindex
X-PUBLISHED-TTL:PT1H
BEGIN:VTIMEZONE
TZID:Europe/Helsinki
BEGIN:DAYLIGHT
TZOFFSETFROM:+0200
TZOFFSETTO:+0300
TZNAME:EEST
DTSTART:20240331T010000
END:DAYLIGHT
BEGIN:STANDARD
TZOFFSETFROM:+0300
TZOFFSETTO:+0200
TZNAME:EET
DTSTART:20241027T010000
END:STANDARD
BEGIN:DAYLIGHT
TZOFFSETFROM:+0200
TZOFFSETTO:+0300
TZNAME:EEST
DTSTART:20250330T010000
END:DAYLIGHT
BEGIN:STANDARD
TZOFFSETFROM:+0300
TZOFFSETTO:+0200
TZNAME:EET
DTSTART:20251026T010000
END:STANDARD
BEGIN:DAYLIGHT
TZOFFSETFROM:+0200
TZOFFSETTO:+0300
TZNAME:EEST
DTSTART:20260329T010000
END:DAYLIGHT
BEGIN:STANDARD
TZOFFSETFROM:+0300
TZOFFSETTO:+0200
TZNAME:EET
DTSTART:20261025T010000
END:STANDARD
END:VTIMEZONE
BEGIN:VEVENT
DTSTART;TZID=Europe/Helsinki:20251023T170000
DTEND;TZID=Europe/Helsinki:20251023T170000
DTSTAMP:20260421T175523
CREATED:20251014T091833Z
LAST-MODIFIED:20251021T090934Z
UID:26096-1761238800-1761238800@infostargard.pl
SUMMARY:Cykl "Głosy Ziemi" - spotkanie z Sylwią Wyszomirską
DESCRIPTION:Książnica Stargardzka zaprasza na kolejne spotkanie z cyklu „Głosy Ziemi” z Sylwią Wyszomirską – arabistką\, podróżniczką\, tłumaczką i ekspertką od kultur Bliskiego Wschodu.  \nWydarzenie odbędzie się w czwartek\, 23 października o godz. 17\, w Czytelni Głównej KS. Spotkanie będzie poświęcone zjawisku migracji. \nWstęp jest wolny. \nInformacja Książnicy Stargardzkiej: \nCykl „Głosy Ziemi” to wyjątkowa podróż przez świat Bliskiego Wschodu – jego kulturę\, codzienność\, religię\, literaturę i tradycję. \nSylwia Wyszomirska to osoba o niezwykłej wiedzy\, doświadczeniu i pasji\, której życie od lat splata się z Bliskim Wschodem. Absolwentka arabistyki\, poliglotka władająca kilkoma językami\, znakomita negocjatorka i ekspertka od kultur świata arabskiego. Jej praca wymagała nie tylko wyjątkowej inteligencji i zdolności analitycznych\, ale także ogromnej odwagi – współpracowała z NATO i ONZ\, działała w rejonach ogarniętych konfliktami\, doradzała wojskom koalicyjnym oraz irackim siłom specjalnym w walce z ISIS. Jako tłumacz i doradca ds. kultury wspierała polskie kontyngenty wojskowe w Iraku\, Libanie i Syrii\, zbliżając do siebie światy\, które często pozostają dla siebie niezrozumiałe. \n\n\n\nJednak Sylwia Wyszomirska to nie tylko znawczyni geopolityki i wojskowych strategii\, ale także uważna obserwatorka ludzkich losów. Jej debiutancka książka „Okruchy Syrii” to dowód na to\, jak głęboko rozumie kulturę i emocje mieszkańców Bliskiego Wschodu. Z niezwykłą wrażliwością ukazuje życie Syryjczyków\, ich codzienne troski i miłosne rozterki\, osadzone w poetyckim świecie twórczości Omara al-Farry. To kobieta\, która łączy świat intelektu i wrażliwości\, odwagę i empatię. Bez wątpienia warto poznać jej historię i spojrzeć na Bliski Wschód jej oczami.
URL:https://infostargard.pl/event/cykl-glosy-ziemi-spotkanie-z-sylwia-wyszomirska/
LOCATION:Czytelnia Główna Książnicy Stargardzkiej
END:VEVENT
END:VCALENDAR