BEGIN:VCALENDAR
VERSION:2.0
PRODID:-//Info Stargard - ECPv6.15.20//NONSGML v1.0//EN
CALSCALE:GREGORIAN
METHOD:PUBLISH
X-WR-CALNAME:Info Stargard
X-ORIGINAL-URL:https://infostargard.pl
X-WR-CALDESC:Wydarzenia dla Info Stargard
REFRESH-INTERVAL;VALUE=DURATION:PT1H
X-Robots-Tag:noindex
X-PUBLISHED-TTL:PT1H
BEGIN:VTIMEZONE
TZID:Europe/Helsinki
BEGIN:DAYLIGHT
TZOFFSETFROM:+0200
TZOFFSETTO:+0300
TZNAME:EEST
DTSTART:20240331T010000
END:DAYLIGHT
BEGIN:STANDARD
TZOFFSETFROM:+0300
TZOFFSETTO:+0200
TZNAME:EET
DTSTART:20241027T010000
END:STANDARD
BEGIN:DAYLIGHT
TZOFFSETFROM:+0200
TZOFFSETTO:+0300
TZNAME:EEST
DTSTART:20250330T010000
END:DAYLIGHT
BEGIN:STANDARD
TZOFFSETFROM:+0300
TZOFFSETTO:+0200
TZNAME:EET
DTSTART:20251026T010000
END:STANDARD
BEGIN:DAYLIGHT
TZOFFSETFROM:+0200
TZOFFSETTO:+0300
TZNAME:EEST
DTSTART:20260329T010000
END:DAYLIGHT
BEGIN:STANDARD
TZOFFSETFROM:+0300
TZOFFSETTO:+0200
TZNAME:EET
DTSTART:20261025T010000
END:STANDARD
END:VTIMEZONE
BEGIN:VEVENT
DTSTART;TZID=Europe/Helsinki:20250906T150000
DTEND;TZID=Europe/Helsinki:20250906T150000
DTSTAMP:20260420T033520
CREATED:20250818T105238Z
LAST-MODIFIED:20250820T091759Z
UID:20370-1757170800-1757170800@infostargard.pl
SUMMARY:Dożynki Gminne w Stylu Country 2025 r.
DESCRIPTION:Wójt Gminy Stara Dąbrowa Tomasz Ogonowski serdecznie zaprasza 6 września na tegoroczne „Dożynki Gminne w Stylu Country 2025”. \n\n\nDożynki to wyjątkowy moment w roku – czas radości\, wdzięczności i wspólnego świętowania zakończenia żniw. To święto ma swoje głębokie korzenie w staropolskiej tradycji\, gdy gospodarze dziękowali Bogu za plony\, a ludziom za ich trud i poświęcenie. Tegoroczna edycja będzie miała niezwykły klimat – połączy polską tradycję dożynkową z westernowym stylem pełnym radości i swobody. Uroczystość rozpocznie się uroczystym korowodem dożynkowym\, prowadzonym przez bryczkę zaprzężoną w konie. To właśnie w niej Gospodarze Dożynek wraz ze Starostami Dożynkowymi przywiozą chleb wypieczony z tegorocznych zbiorów\, symbol dostatku i wspólnoty. Korowód\, otoczony polnymi kwiatami i wieńcami dożynkowymi\, stworzy niepowtarzalną atmosferę\, wprowadzając wszystkich w ducha święta plonów. Po korowodzie odbędzie się uroczysta Msza Święta z oprawą muzyczną zespołu „Biesiada” z Szadzka. Następnie\, podczas ceremoniału łamania chleba\, wypieczony bochen zostanie podzielony pomiędzy uczestników – jako znak jedności i wdzięczności. \nUroczysty początek\nTegoroczna edycja odbędzie się w klimacie country\, łącząc polską tradycję dożynkową z westernowym stylem pełnym radości i swobody. \n• O godzinie 15:00 rozpoczniemy uroczystym\, staropolskim korowodem dożynkowym\, prowadzonym przez bryczkę zaprzężoną w konie\, w której  Gospodarz i Starostowie Dożynkowi przywiozą chleb wypieczony z tegorocznych zbiorów – symbol dostatku i wspólnoty.\n•  Korowód otaczać będą wieńce dożynkowe i polne kwiaty\, tworząc niezapomnianą atmosferę.\n•  Następnie odbędzie się Msza Święta z muzyczną oprawą zespołu „Biesiada” z Szadzka.\n•  Podczas ceremoniału łamania chleba\, bochen zostanie podzielony między uczestników jako wyraz jedności i wdzięczności. \n W programie znajdą się m.in.: \nKonkurs na „Najpiękniejszy Wieniec Dożynkowy” – regulamin w załącznikach. \n Występy artystyczne:\n• „Festiwal Młodych Talentów”- Młodzież z MDK w Stargardzie oraz z Gminy Stara Dąbrowa\n• Zespół Divers –  rockowe brzmienia tego jeszcze nie było !!!\n• Grupa Furmana –  muzyka country na żywo to będzie wejście 😉\n• Kolejna  Gwiazda – Matt Palmer\n• Zabawa taneczna z DJ-em do godz. 3:00 \n• Zawody Rolnika – siła\, spryt i dobra zabawa w staropolskim stylu!\n(przeciąganie liny\, marsz z workami\, dojenie sztucznej krowy i inne konkurencje.\n• Przejażdżki konne i mini szkółka jazdy konnej dla dzieci i dorosłych.\n• Strefa dziecięca – dmuchańce\, animacje i konkursy.\n• „Strefa Biesiady”  – w klimacie wiejskiego miasteczka.\n• Stoiska gastronomiczne\, w tym niezawodne Koła Gospodyń Wiejskich z lokalnymi specjałami.\n• Pokazy i zabawy w duchu tradycji staropolskiej. \nPoczątek zabawy- godz. 15. \nInf. CKiR w Starej Dąbrowie \n \n\n 
URL:https://infostargard.pl/event/dozynki-gminne-w-stylu-country-2025-r/
LOCATION:Chlebówko
END:VEVENT
END:VCALENDAR