BEGIN:VCALENDAR
VERSION:2.0
PRODID:-//Info Stargard - ECPv6.15.20//NONSGML v1.0//EN
CALSCALE:GREGORIAN
METHOD:PUBLISH
X-ORIGINAL-URL:https://infostargard.pl
X-WR-CALDESC:Wydarzenia dla Info Stargard
REFRESH-INTERVAL;VALUE=DURATION:PT1H
X-Robots-Tag:noindex
X-PUBLISHED-TTL:PT1H
BEGIN:VTIMEZONE
TZID:Europe/Helsinki
BEGIN:DAYLIGHT
TZOFFSETFROM:+0200
TZOFFSETTO:+0300
TZNAME:EEST
DTSTART:20250330T010000
END:DAYLIGHT
BEGIN:STANDARD
TZOFFSETFROM:+0300
TZOFFSETTO:+0200
TZNAME:EET
DTSTART:20251026T010000
END:STANDARD
BEGIN:DAYLIGHT
TZOFFSETFROM:+0200
TZOFFSETTO:+0300
TZNAME:EEST
DTSTART:20260329T010000
END:DAYLIGHT
BEGIN:STANDARD
TZOFFSETFROM:+0300
TZOFFSETTO:+0200
TZNAME:EET
DTSTART:20261025T010000
END:STANDARD
BEGIN:DAYLIGHT
TZOFFSETFROM:+0200
TZOFFSETTO:+0300
TZNAME:EEST
DTSTART:20270328T010000
END:DAYLIGHT
BEGIN:STANDARD
TZOFFSETFROM:+0300
TZOFFSETTO:+0200
TZNAME:EET
DTSTART:20271031T010000
END:STANDARD
END:VTIMEZONE
BEGIN:VEVENT
DTSTART;TZID=Europe/Helsinki:20260329T170000
DTEND;TZID=Europe/Helsinki:20260329T170000
DTSTAMP:20260419T161410
CREATED:20260219T113444Z
LAST-MODIFIED:20260219T113632Z
UID:38857-1774803600-1774803600@infostargard.pl
SUMMARY:Koncert Whitney Houston vs Céline Dion w SCK
DESCRIPTION:Stargardzkie Centrum Kultury zaprasza na niezwykły koncert z piosenkami Whitney Houston i Celine Dion w wykonaniu młodych\, utalentowanych artystek. \nKoncert odbędzie się w niedzielę\, 29 marca o godz. 17\, na Dużej Scenie SCK. Bilety od 30 do 50 zł dostępne w kasie kina lub online na stronie. \nLegendarne utwory dwóch ikon światowej muzyki wykonają młode wokalistki\, jedne z najlepszych głosów\, jakie pojawiły się na polskich scenach w ostatnich latach. Artystki nie tylko oddadzą hołd wielkim divom\, ale również zmierzą się ze sobą w emocjonującej\, scenicznej rywalizacji\, prezentując własne interpretacje kultowych hitów. \nW koncercie wystąpią: Oliwia Szynaka\, Małgorzata Nowak\, Amelia Traczyk\, Zofia Rosińska\, Muffinki\, Martyna Tańsa\, Maja Piekarska\, Amelia Pędzik\, Lena Pędzik\, Bartosz Traczyk\, Hanna Subocz\, Karina Maślanka. \nZespół muzyczny pod kier. Alexa Marka. \nAlex Marek – piano\, kierownik zespołu\nWaldemar Zieliński – gitara\nJanusz Kanapa Jędrzejewski – bas\nEmil Centkiewicz – sax\nDariusz Kamiński – bębny \nInf. organizatora
URL:https://infostargard.pl/event/koncert-whitney-houston-vs-celine-dion/
LOCATION:Duża Scena SCK
END:VEVENT
END:VCALENDAR