BEGIN:VCALENDAR
VERSION:2.0
PRODID:-//Info Stargard - ECPv6.15.20//NONSGML v1.0//EN
CALSCALE:GREGORIAN
METHOD:PUBLISH
X-WR-CALNAME:Info Stargard
X-ORIGINAL-URL:https://infostargard.pl
X-WR-CALDESC:Wydarzenia dla Info Stargard
REFRESH-INTERVAL;VALUE=DURATION:PT1H
X-Robots-Tag:noindex
X-PUBLISHED-TTL:PT1H
BEGIN:VTIMEZONE
TZID:Europe/Helsinki
BEGIN:DAYLIGHT
TZOFFSETFROM:+0200
TZOFFSETTO:+0300
TZNAME:EEST
DTSTART:20250330T010000
END:DAYLIGHT
BEGIN:STANDARD
TZOFFSETFROM:+0300
TZOFFSETTO:+0200
TZNAME:EET
DTSTART:20251026T010000
END:STANDARD
BEGIN:DAYLIGHT
TZOFFSETFROM:+0200
TZOFFSETTO:+0300
TZNAME:EEST
DTSTART:20260329T010000
END:DAYLIGHT
BEGIN:STANDARD
TZOFFSETFROM:+0300
TZOFFSETTO:+0200
TZNAME:EET
DTSTART:20261025T010000
END:STANDARD
BEGIN:DAYLIGHT
TZOFFSETFROM:+0200
TZOFFSETTO:+0300
TZNAME:EEST
DTSTART:20270328T010000
END:DAYLIGHT
BEGIN:STANDARD
TZOFFSETFROM:+0300
TZOFFSETTO:+0200
TZNAME:EET
DTSTART:20271031T010000
END:STANDARD
END:VTIMEZONE
BEGIN:VEVENT
DTSTART;TZID=Europe/Helsinki:20260226T120000
DTEND;TZID=Europe/Helsinki:20260226T120000
DTSTAMP:20260419T173511
CREATED:20260224T200404Z
LAST-MODIFIED:20260225T080840Z
UID:39448-1772107200-1772107200@infostargard.pl
SUMMARY:Rodzice i maluchy spotkają się w bibliotece. Kolejna odsłona "Boboteki".
DESCRIPTION:Już w najbliższy czwartek\, 26 lutego o godz. 12\, w Książnicy Stargardzkiej odbędzie się kolejne spotkanie w ramach cyklu „Boboteka” – inicjatywy skierowanej do rodziców z małymi dziećmi.  \nWydarzenie to tradycyjnie połączy przestrzeń do zabawy dla najmłodszych z okazją do rozmów i wymiany doświadczeń dla dorosłych. „Boboteka” to propozycja dla rodzin\, które chcą aktywnie spędzić czas poza domem\, w przyjaznym i bezpiecznym otoczeniu. Dla dzieci organizatorzy przygotowują przestrzeń sprzyjającą pierwszym kontaktom z rówieśnikami oraz swobodnemu odkrywaniu biblioteki. Rodzice z kolei mogą liczyć na chwile wytchnienia czy rozm0wy. \nSpotkanie poprowadzi doradczyni noszenia Ada Stefańska z Rozwojowni Maminy. Ekspertka opowie o korzyściach płynących z bliskości i prawidłowego noszenia dzieci\, a także odpowie na pytania uczestników. \nOrganizatorzy podkreślają\, że będzie to przestrzeń otwarta – zarówno dla tych\, którzy mają już doświadczenie z chustonoszeniem\, jak i dla rodziców dopiero rozważających taką formę opieki.
URL:https://infostargard.pl/event/rodzice-i-maluchy-spotkaja-sie-w-bibliotece-kolejna-odslona-boboteki/
LOCATION:Dział Dzieci i Młodzieży Książnicy Stargardzkiej
END:VEVENT
END:VCALENDAR