BEGIN:VCALENDAR
VERSION:2.0
PRODID:-//Info Stargard - ECPv6.15.20//NONSGML v1.0//EN
CALSCALE:GREGORIAN
METHOD:PUBLISH
X-ORIGINAL-URL:https://infostargard.pl
X-WR-CALDESC:Wydarzenia dla Info Stargard
REFRESH-INTERVAL;VALUE=DURATION:PT1H
X-Robots-Tag:noindex
X-PUBLISHED-TTL:PT1H
BEGIN:VTIMEZONE
TZID:Europe/Helsinki
BEGIN:DAYLIGHT
TZOFFSETFROM:+0200
TZOFFSETTO:+0300
TZNAME:EEST
DTSTART:20240331T010000
END:DAYLIGHT
BEGIN:STANDARD
TZOFFSETFROM:+0300
TZOFFSETTO:+0200
TZNAME:EET
DTSTART:20241027T010000
END:STANDARD
BEGIN:DAYLIGHT
TZOFFSETFROM:+0200
TZOFFSETTO:+0300
TZNAME:EEST
DTSTART:20250330T010000
END:DAYLIGHT
BEGIN:STANDARD
TZOFFSETFROM:+0300
TZOFFSETTO:+0200
TZNAME:EET
DTSTART:20251026T010000
END:STANDARD
BEGIN:DAYLIGHT
TZOFFSETFROM:+0200
TZOFFSETTO:+0300
TZNAME:EEST
DTSTART:20260329T010000
END:DAYLIGHT
BEGIN:STANDARD
TZOFFSETFROM:+0300
TZOFFSETTO:+0200
TZNAME:EET
DTSTART:20261025T010000
END:STANDARD
END:VTIMEZONE
BEGIN:VEVENT
DTSTART;TZID=Europe/Helsinki:20251217T180000
DTEND;TZID=Europe/Helsinki:20251217T180000
DTSTAMP:20260420T000404
CREATED:20251202T104158Z
LAST-MODIFIED:20251202T104205Z
UID:31150-1765994400-1765994400@infostargard.pl
SUMMARY:Alibabki: Zakręcony piątek 2
DESCRIPTION:Stargardzkie Centrum Kultury zaprasza na film pt. „Zakręcony piątek 2” w ramach comiesięcznych spotkań Alibabki.  \nSeans odbędzie się w środę\, 17 grudnia o godz. 18\, na Dużej Scenie SCK. \nBilety w cenie 40 zł. \nPrzez najbliższe pół roku cykl ALIBABKI będzie rozszerzony o projekt edukacyjny KLAPS! To druga edycja autorskiego projektu stworzonego przez prezes Kinads Media – Kingę Dołęgę we współpracy z dr n. med. Agnieszką Nalewczyńską\, dr nauk o zdrowiu i dietetyk kliniczną Hanną Stolińską\, a także Panią Agą Szuścik – edukatorką treści z zakresu ginekologii i onkologii. \nW tramach projektu KLAPS! Widzowie obejrzą 6 odcinków (każdy trwa 10 minut)\, poruszających kluczowe tematy związane ze zdrowiem\, kobiecością\, profilaktyką i innymi zagadnieniami związanymi z edukacją seksualną. Więcej na stronie: www.klaps.edu.pl \n„Zakręcony piątek 2”\, kontynuacja kultowego filmu z 2003 roku z wielopokoleniowym akcentem\, z udziałem Jamie Lee Curtis i Lindsay Lohan. Obie aktorki ponownie wcielają się w role Tess i Anny Coleman. Akcja toczy się kilka lat po tym\, jak Tess (Curtis) i Anna (Lohan) przeżyły kryzys tożsamości. Anna ma teraz własną córkę oraz przyszłą pasierbicę. Zmagając się z licznymi wyzwaniami związanymi z połączeniem dwóch rodzin\, Tess i Anna odkrywają\, że nawet nieprawdopodobna historia potrafi się powtórzyć. Reżyserką „Zakręconego piątku 2” jest Nisha Ganatra. (Disney)
URL:https://infostargard.pl/event/alibabki-zakrecony-piatek-2/
LOCATION:Duża Scena SCK
END:VEVENT
END:VCALENDAR