BEGIN:VCALENDAR
VERSION:2.0
PRODID:-//Info Stargard - ECPv6.15.20//NONSGML v1.0//EN
CALSCALE:GREGORIAN
METHOD:PUBLISH
X-WR-CALNAME:Info Stargard
X-ORIGINAL-URL:https://infostargard.pl
X-WR-CALDESC:Wydarzenia dla Info Stargard
REFRESH-INTERVAL;VALUE=DURATION:PT1H
X-Robots-Tag:noindex
X-PUBLISHED-TTL:PT1H
BEGIN:VTIMEZONE
TZID:Europe/Helsinki
BEGIN:DAYLIGHT
TZOFFSETFROM:+0200
TZOFFSETTO:+0300
TZNAME:EEST
DTSTART:20250330T010000
END:DAYLIGHT
BEGIN:STANDARD
TZOFFSETFROM:+0300
TZOFFSETTO:+0200
TZNAME:EET
DTSTART:20251026T010000
END:STANDARD
BEGIN:DAYLIGHT
TZOFFSETFROM:+0200
TZOFFSETTO:+0300
TZNAME:EEST
DTSTART:20260329T010000
END:DAYLIGHT
BEGIN:STANDARD
TZOFFSETFROM:+0300
TZOFFSETTO:+0200
TZNAME:EET
DTSTART:20261025T010000
END:STANDARD
BEGIN:DAYLIGHT
TZOFFSETFROM:+0200
TZOFFSETTO:+0300
TZNAME:EEST
DTSTART:20270328T010000
END:DAYLIGHT
BEGIN:STANDARD
TZOFFSETFROM:+0300
TZOFFSETTO:+0200
TZNAME:EET
DTSTART:20271031T010000
END:STANDARD
END:VTIMEZONE
BEGIN:VEVENT
DTSTART;TZID=Europe/Helsinki:20260325T170000
DTEND;TZID=Europe/Helsinki:20260325T170000
DTSTAMP:20260420T035305
CREATED:20260319T084033Z
LAST-MODIFIED:20260319T084147Z
UID:41267-1774458000-1774458000@infostargard.pl
SUMMARY:Spotkanie w przyrynkowej kamienicy z Agnieszką Szudarek
DESCRIPTION:W środę\, 25 marca o godz. 17\, w Bastei przy Parku Piastowskim\, odbędzie się kolejne spotkanie z cyklu „Spotkań w przyrynkowej kamienicy”. \nMotywem przewodnim spotkania będą panny kanoniczki z Marianowa z przełomu XIX/XX wieku. \nWykład poprowadzi dr hab. Agnieszka Szudarek\, prof. US – historyczka\, dyrektorka Instytutu Historycznego na Uniwersytecie Szczecińskim\, prezeska szczecińskiego oddziału Polskiego Towarzystwa Historycznego. Do głównych obszarów jej badań należą przemiany społeczne w XIX wieku\, ze szczególnym uwzględnieniem sytuacji pruskiej szlachty oraz stowarzyszeń kobiecych w pruskiej prowincji Pomorze. \nPo reformacji na Pomorzu jedną z form zapewnienia utrzymania niezamężnych córkom szlacheckim były fundacje po klasztorne. Jedna z nich\, znana za sprawą rezydującej tam na początku XVII w. Sydonii von Borck\, mieściła się w Marianowie. W tamtejszych pocysterskich zabudowaniach niezamężne przedstawicielki elity mieszkały aż do połowy dwudziestego wieku. Fundacja zapewniała utrzymanie\, lokum oraz nobilitujący samotność tytuł panny kanoniczki. Życie codzienne regulowały ordynacje\, które dawały pewną swobodę rezydentkom. Mogły nie tylko podróżować\, ale również w każdej chwili wyjść za mąż. \nWykład wyjaśni w jaki sposób można było otrzymać rebentę\, czyli miejsce w fundacji\, kim były panny kanoniczki z Marianowa oraz jak wyglądało życie codzienne w zakładzie\, zwłaszcza w XIX i XX w.\, kiedy to w modernizującym się społeczeństwa szlachta była uważana za relikt mijającego stanowego świata. \nInf. organizatora
URL:https://infostargard.pl/event/spotkanie-w-przyrynkowej-kamienicy-z-agnieszka-szudarek/
LOCATION:Basteja\, Park Piastowski 1
END:VEVENT
END:VCALENDAR