BEGIN:VCALENDAR
VERSION:2.0
PRODID:-//Info Stargard - ECPv6.15.20//NONSGML v1.0//EN
CALSCALE:GREGORIAN
METHOD:PUBLISH
X-WR-CALNAME:Info Stargard
X-ORIGINAL-URL:https://infostargard.pl
X-WR-CALDESC:Wydarzenia dla Info Stargard
REFRESH-INTERVAL;VALUE=DURATION:PT1H
X-Robots-Tag:noindex
X-PUBLISHED-TTL:PT1H
BEGIN:VTIMEZONE
TZID:Europe/Helsinki
BEGIN:DAYLIGHT
TZOFFSETFROM:+0200
TZOFFSETTO:+0300
TZNAME:EEST
DTSTART:20250330T010000
END:DAYLIGHT
BEGIN:STANDARD
TZOFFSETFROM:+0300
TZOFFSETTO:+0200
TZNAME:EET
DTSTART:20251026T010000
END:STANDARD
BEGIN:DAYLIGHT
TZOFFSETFROM:+0200
TZOFFSETTO:+0300
TZNAME:EEST
DTSTART:20260329T010000
END:DAYLIGHT
BEGIN:STANDARD
TZOFFSETFROM:+0300
TZOFFSETTO:+0200
TZNAME:EET
DTSTART:20261025T010000
END:STANDARD
BEGIN:DAYLIGHT
TZOFFSETFROM:+0200
TZOFFSETTO:+0300
TZNAME:EEST
DTSTART:20270328T010000
END:DAYLIGHT
BEGIN:STANDARD
TZOFFSETFROM:+0300
TZOFFSETTO:+0200
TZNAME:EET
DTSTART:20271031T010000
END:STANDARD
END:VTIMEZONE
BEGIN:VEVENT
DTSTART;TZID=Europe/Helsinki:20260401T090000
DTEND;TZID=Europe/Helsinki:20260630T170000
DTSTAMP:20260420T003804
CREATED:20260403T065200Z
LAST-MODIFIED:20260403T070138Z
UID:42608-1775034000-1782838800@infostargard.pl
SUMMARY:Wiosna pełna egzotyki – niezwykła wystawa w Oranżerii Ogrodów Przelewice
DESCRIPTION:Od 1 kwietnia do 30 czerwca 2026 roku Ogrody Przelewice zapraszają na wyjątkową podróż do świata natury. W Oranżerii pojawiła się fascynująca\, wystawa gadów i płazów\, która pozwoli spojrzeć z bliska na egzotyczne gatunki i poznać ich niezwykłe cechy. \nWystawa jest skierowana zarówno do rodzin z dziećmi\, jak i pasjonatów przyrody. Zwiedzający będą mogli zobaczyć wybrane gatunki\, takie jak kameleon lamparci\, znany z imponującej zdolności zmiany barw\, czy efektowną felsumę madagaskarską\, jedną z najbarwniejszych jaszczurek świata. Wśród mieszkańców ekspozycji znajdą się także anolis olbrzymi\, żaby nadrzewne oraz popularne wśród miłośników terrarystyki drzewołazy. \nNie zabraknie również mniej oczywistych\, ale równie interesujących gatunków np. węża jajojada\, znanego ze swojej wyjątkowej diety\, czy charakterystycznego węża diademowego. Uzupełnieniem ekspozycji będą fascynujące bezkręgowce\, w tym imponujący skorpion leśny. \nWystawa zostanie zaaranżowana w salce edukacyjnej na piętrze Oranżerii\, w sąsiedztwie Skansenu Megalitycznego. \nTo jednak nie wszystko. Od 11 kwietnia w Oranżerii ponownie zagości uwielbiana przez odwiedzających wystawa żywych motyli\, zachwycająca lekkością i bogactwem barw. Stałym elementem Oranżerii pozostaje także świat bezkręgowców\, z takimi gatunkami jak straszyki czy krocionogi\, które odgrywają kluczową rolę w ekosystemach. \nCałość dopełnia imponująca kolekcja roślin tropikalnych\, tworząca spójne\, immersyjne środowisko i pozwalająca jeszcze pełniej zanurzyć się w egzotycznym klimacie. \nTo kompleksowe doświadczenie przyrodnicze łączy edukację z atrakcyjną formą spędzania czasu. Wystawa daje możliwość zobaczenia rzadkich gatunków i poznania ciekawostek z ich życia. \nNie przegap okazji! W Ogrodach Przelewice wiosna nabiera nowego wymiaru. \nInformacje praktyczne: \nWstęp na wystawę gadów i płazów: 10 zł/os.\nWstęp do Oranżerii: 12 zł/os.\nTermin: 1 kwietnia do 30 czerwca 2026\, godz. 9:00 – 17:00 \nDo zobaczenia w Oranżerii! \n \n 
URL:https://infostargard.pl/event/wiosna-pelna-egzotyki-niezwykla-wystawa-w-oranzerii-ogrodow-przelewice/
LOCATION:Ogrody Przelewice – Oranżeria
END:VEVENT
BEGIN:VEVENT
DTSTART;TZID=Europe/Helsinki:20260619T210000
DTEND;TZID=Europe/Helsinki:20260619T210000
DTSTAMP:20260420T003804
CREATED:20251130T101458Z
LAST-MODIFIED:20260325T102328Z
UID:30840-1781902800-1781902800@infostargard.pl
SUMMARY:Koncert zespołu Kult
DESCRIPTION:W piątek\, 19 czerwca 2026 r. o godz. 21\, w amfiteatrze w Stargardzie odbędzie się koncert zespołu Kult.  \nBilety w przedsprzedaży do 31.12.2025 do godz. 22:00 – od 69 zł. Na to wydarzenie nie obowiązuje Stargardzka Karta Mieszkańca. Bilety nie podlegają zwrotowi. \nKULT – jedna z najbardziej rozpoznawalnych polskich grup muzycznych\, która nieustannie od 1982 roku koncertuje oraz wydaje nowe albumy\, nie tracąc na popularności. Zespół łączy w swojej twórczości różnorodne gatunki muzyczne\, takie jak rock alternatywny\, punk rock\, jazz i reggae\, co sprawia\, że ich styl jest niepowtarzalny i trudny do jednoznacznego sklasyfikowania. Dzięki swojej autentyczności i zaangażowaniu\, Kult od 43 lat pozostaje jednym z filarów polskiej muzyki alternatywnej. Zagrali ponad 3000 koncertów. Występowali 9-krotnie w Jarocinie i wszystkich innych festiwalach oraz przeglądach w Polsce. \nOprócz tego gościli na koncertach w Brazylii\, Wielkiej Brytanii\, Irlandii\, Holandii\, Niemczech\, Czechach\, Islandii\, Szwecji\, Hiszpanii\, Stanach Zjednoczonych. \nSkład zespołu: \nKazik Staszewski – śpiew\, saksofon \nKonrad Wantrych – klawisze\nIreneusz Wereński – bas\nWojciech Jabłoński – gitara\nTomasz Goehs – perkusja\nJanusz Zdunek – trąbka\nMariusz Godzina – saksofon tenorowy\, saksofon barytonowy\nJarosław Ważny – puzon.
URL:https://infostargard.pl/event/koncert-zespolu-kult/
LOCATION:Amfiteatr Stargard
END:VEVENT
BEGIN:VEVENT
DTSTART;TZID=Europe/Helsinki:20260626T200000
DTEND;TZID=Europe/Helsinki:20260626T200000
DTSTAMP:20260420T003804
CREATED:20251021T081310Z
LAST-MODIFIED:20260107T121508Z
UID:26748-1782504000-1782504000@infostargard.pl
SUMMARY:Polska Noc Kabaretowa – Siedmiu Wspaniałych
DESCRIPTION:W piątek\, 26 czerwca 2026 roku w amfiteatrze w Stargardzie rozpocznie się Polska Noc Kabaretowa. Początek godz. 20.  \nBilety od 159 zł dostępne online na stronie kina SCK. \nInformacja SCK: \nSiedmiu najlepszych\, właściwie sześciu plus mistrz. Siedmiu artystów kabaretowych\, siedem premierowych skeczów i wyborne monologi\, a wszystko to pod okiem mistrza\, który sprawi\, że ten wieczór będzie niezapomniany. Co się wydarzy\, gdy na scenie spotkają się najlepsi z najlepszych? Możemy tylko powiedzieć jedno: przygotujcie się na dawkę humoru\, która rozbawi do łez i nie raz zaskoczy! Czy jesteście gotowi na wieczór\, który zapisze się w historii kabaretu? Jedno jest pewne – na tej arenie nikt nie wyjdzie bez dobrego humoru!
URL:https://infostargard.pl/event/polska-noc-kabaretowa-siedmiu-wspanialych/
LOCATION:Amfiteatr Stargard
END:VEVENT
BEGIN:VEVENT
DTSTART;TZID=Europe/Helsinki:20260628T170000
DTEND;TZID=Europe/Helsinki:20260628T170000
DTSTAMP:20260420T003804
CREATED:20260417T145351Z
LAST-MODIFIED:20260417T145351Z
UID:44008-1782666000-1782666000@infostargard.pl
SUMMARY:Stargard Gospel Days - koncert finałowy
DESCRIPTION:
URL:https://infostargard.pl/event/stargard-gospel-days-koncert-finalowy/
LOCATION:Teatr Letni w Parku Chrobrego
END:VEVENT
BEGIN:VEVENT
DTSTART;TZID=Europe/Helsinki:20260704T110000
DTEND;TZID=Europe/Helsinki:20260704T110000
DTSTAMP:20260420T003804
CREATED:20260402T165700Z
LAST-MODIFIED:20260402T165839Z
UID:42567-1783162800-1783162800@infostargard.pl
SUMMARY:XX Maraton MTB Gravel dookoła Jeziora Miedwie
DESCRIPTION:W sobotę\, 4 lipca o godz. 11\, odbędzie się XX-ty Jubileuszowy Maraton MTB Gravel dookoła Jeziora Miedwie. \nMaraton zostanie rozegrany niezależnie od pogody na trasie wokół jez. Miedwie. Start honorowy pierwszego sektora o godz. 11\, odbędzie się na linii startu i mety (promenada przy Amfiteatrze nad jeziorem Miedwie w Morzyczynie). \nTrasa maratonu liczy 58 km. \nZgłoszenia wyłącznie on-line w linku na stronie: www.stc.stargard.pl oraz fb/STC Stargard. Zgłoszenia i wpłaty będą przyjmowane do 1 lipca 2026 r. do godz. 0:00. \nOd godz. 10:45 – ustawianie sektorów startowych\, wyczytywanie na start czołowych zawodników poprzednich edycji Maratonu\nGodz. 11 – start honorowy wszystkich kategorii. \nOPŁATA ZA UCZESTNICTWO:\n• 130 zł/os do dnia 1 lipca 2026 (przelew)\n• 150zł/os w biurze Maratonu 3-4 lipca 2026. \nDekoracja zwycięzców odbędzie się na linii mety po ukończeniu Maratonu w Amfiteatrze Miedwiańskim w Morzyczynie od godziny 15. \nZapisy i regulamin w poniższym linku: https://dostartu.pl/xx-maraton-mtb-gravel-2026-v16051 \nInf. organizatora
URL:https://infostargard.pl/event/xx-maraton-mtb-gravel-dookola-jeziora-miedwie/
LOCATION:Promenada przy Amfiteatrze nad jeziorem Miedwie w Morzyczynie
END:VEVENT
BEGIN:VEVENT
DTSTART;TZID=Europe/Helsinki:20260717T200000
DTEND;TZID=Europe/Helsinki:20260717T200000
DTSTAMP:20260420T003804
CREATED:20260219T101701Z
LAST-MODIFIED:20260219T101741Z
UID:38820-1784318400-1784318400@infostargard.pl
SUMMARY:Koncert Lady Pank w Stargardzie
DESCRIPTION:Już w piątek\, 17 lipca o godz. 20\, scena amfiteatru zabrzmi największymi przebojami zespołu Lady Pank\, który w ramach jubileuszowej trasy świętuje 45 lecie nieprzerwanej obecności na polskiej scenie muzycznej.  \nBilety: kup bilet \nPubliczność może spodziewać się zarówno największych przebojów\, jak i mniej oczywistych utworów\, które na przestrzeni lat budowały tożsamość formacji. Nie zabraknie takich klasyków jak: „Mniej niż zero”\, „Kryzysowa Narzeczona”\, „Zostawcie Titanica”\, czy „Stacja Warszawa”. \n– Wspomnienia\, emocje\, muzyka i dobra zabawa – to obowiązkowy punkt 2026 roku dla każdego fana rocka – zachęcają organizatorzy. – Dołącz do świętowania 45 lat Lady Pank i przeżyj ten wyjątkowy czas razem z zespołem! \nArtyści zapowiadają sentymentalną opowieść o kulisach powstawania utworów\, anegdotach z tras koncertowych i wydarzeniach\, które przez 45 lat tworzyły legendę zespołu. Całość dopełni multimedialna oprawa z archiwalnymi materiałami i wizualizacjami\, stanowiącymi przekrojowe podsumowanie bogatej kariery. W Stargardzie wybrzmi również materiał z najnowszej płyty „LP 45”\, wydanej w listopadzie 2025 roku – symbolicznego zwieńczenia jubileuszu i dowodu na to\, że zespół wciąż pozostaje twórczo aktywny.
URL:https://infostargard.pl/event/koncert-lady-pank-w-stargardzie/
LOCATION:Amfiteatr Stargard
END:VEVENT
BEGIN:VEVENT
DTSTART;TZID=Europe/Helsinki:20260814T200000
DTEND;TZID=Europe/Helsinki:20260814T200000
DTSTAMP:20260420T003804
CREATED:20260206T103529Z
LAST-MODIFIED:20260210T064022Z
UID:37806-1786737600-1786737600@infostargard.pl
SUMMARY:Koncert Ich Troje
DESCRIPTION:Stargardzkie Centrum Kultury zaprasza na koncert zespołu Ich Troje.\n\n\nKoncert Michała Wiśniewskiego z zespołem Ich Troje odbędzie się 14 sierpnia w amfiteatrze w Stargardzie. Początek godz. 20.\n\n\n\n– To data\, którą musicie zapisać grubym markerem w kalendarzu – informuje SCK. – Amfiteatr zamieni się w epicentrum emocji\, wspomnień i hitów\, które zna cała Polska!  „Powiedz”\, „Zawsze z Tobą chciałbym być…”\, „A wszystko to…” – te utwory śpiewały (i wciąż śpiewają!) całe pokolenia. Ich Troje od ponad trzech dekad porusza serca fanów i nadal potrafi porwać tłumy jak mało kto! To będzie wieczór pełen energii! Niech Stargard zatańczy i zaśpiewa razem największe przeboje! \n\n\nBilety już są dostępne w sprzedaży w kasie SCK oraz on-line. Cena od 129 zł.\n\n.
URL:https://infostargard.pl/event/koncert-ich-troje-2/
LOCATION:Amfiteatr
END:VEVENT
END:VCALENDAR