BEGIN:VCALENDAR
VERSION:2.0
PRODID:-//Info Stargard - ECPv6.15.20//NONSGML v1.0//EN
CALSCALE:GREGORIAN
METHOD:PUBLISH
X-WR-CALNAME:Info Stargard
X-ORIGINAL-URL:https://infostargard.pl
X-WR-CALDESC:Wydarzenia dla Info Stargard
REFRESH-INTERVAL;VALUE=DURATION:PT1H
X-Robots-Tag:noindex
X-PUBLISHED-TTL:PT1H
BEGIN:VTIMEZONE
TZID:Europe/Helsinki
BEGIN:DAYLIGHT
TZOFFSETFROM:+0200
TZOFFSETTO:+0300
TZNAME:EEST
DTSTART:20250330T010000
END:DAYLIGHT
BEGIN:STANDARD
TZOFFSETFROM:+0300
TZOFFSETTO:+0200
TZNAME:EET
DTSTART:20251026T010000
END:STANDARD
BEGIN:DAYLIGHT
TZOFFSETFROM:+0200
TZOFFSETTO:+0300
TZNAME:EEST
DTSTART:20260329T010000
END:DAYLIGHT
BEGIN:STANDARD
TZOFFSETFROM:+0300
TZOFFSETTO:+0200
TZNAME:EET
DTSTART:20261025T010000
END:STANDARD
BEGIN:DAYLIGHT
TZOFFSETFROM:+0200
TZOFFSETTO:+0300
TZNAME:EEST
DTSTART:20270328T010000
END:DAYLIGHT
BEGIN:STANDARD
TZOFFSETFROM:+0300
TZOFFSETTO:+0200
TZNAME:EET
DTSTART:20271031T010000
END:STANDARD
END:VTIMEZONE
BEGIN:VEVENT
DTSTART;TZID=Europe/Helsinki:20260704T110000
DTEND;TZID=Europe/Helsinki:20260704T110000
DTSTAMP:20260419T215811
CREATED:20260402T165700Z
LAST-MODIFIED:20260402T165839Z
UID:42567-1783162800-1783162800@infostargard.pl
SUMMARY:XX Maraton MTB Gravel dookoła Jeziora Miedwie
DESCRIPTION:W sobotę\, 4 lipca o godz. 11\, odbędzie się XX-ty Jubileuszowy Maraton MTB Gravel dookoła Jeziora Miedwie. \nMaraton zostanie rozegrany niezależnie od pogody na trasie wokół jez. Miedwie. Start honorowy pierwszego sektora o godz. 11\, odbędzie się na linii startu i mety (promenada przy Amfiteatrze nad jeziorem Miedwie w Morzyczynie). \nTrasa maratonu liczy 58 km. \nZgłoszenia wyłącznie on-line w linku na stronie: www.stc.stargard.pl oraz fb/STC Stargard. Zgłoszenia i wpłaty będą przyjmowane do 1 lipca 2026 r. do godz. 0:00. \nOd godz. 10:45 – ustawianie sektorów startowych\, wyczytywanie na start czołowych zawodników poprzednich edycji Maratonu\nGodz. 11 – start honorowy wszystkich kategorii. \nOPŁATA ZA UCZESTNICTWO:\n• 130 zł/os do dnia 1 lipca 2026 (przelew)\n• 150zł/os w biurze Maratonu 3-4 lipca 2026. \nDekoracja zwycięzców odbędzie się na linii mety po ukończeniu Maratonu w Amfiteatrze Miedwiańskim w Morzyczynie od godziny 15. \nZapisy i regulamin w poniższym linku: https://dostartu.pl/xx-maraton-mtb-gravel-2026-v16051 \nInf. organizatora
URL:https://infostargard.pl/event/xx-maraton-mtb-gravel-dookola-jeziora-miedwie/
LOCATION:Promenada przy Amfiteatrze nad jeziorem Miedwie w Morzyczynie
END:VEVENT
END:VCALENDAR