BEGIN:VCALENDAR
VERSION:2.0
PRODID:-//Info Stargard - ECPv6.15.20//NONSGML v1.0//EN
CALSCALE:GREGORIAN
METHOD:PUBLISH
X-WR-CALNAME:Info Stargard
X-ORIGINAL-URL:https://infostargard.pl
X-WR-CALDESC:Wydarzenia dla Info Stargard
REFRESH-INTERVAL;VALUE=DURATION:PT1H
X-Robots-Tag:noindex
X-PUBLISHED-TTL:PT1H
BEGIN:VTIMEZONE
TZID:Europe/Helsinki
BEGIN:DAYLIGHT
TZOFFSETFROM:+0200
TZOFFSETTO:+0300
TZNAME:EEST
DTSTART:20250330T010000
END:DAYLIGHT
BEGIN:STANDARD
TZOFFSETFROM:+0300
TZOFFSETTO:+0200
TZNAME:EET
DTSTART:20251026T010000
END:STANDARD
BEGIN:DAYLIGHT
TZOFFSETFROM:+0200
TZOFFSETTO:+0300
TZNAME:EEST
DTSTART:20260329T010000
END:DAYLIGHT
BEGIN:STANDARD
TZOFFSETFROM:+0300
TZOFFSETTO:+0200
TZNAME:EET
DTSTART:20261025T010000
END:STANDARD
BEGIN:DAYLIGHT
TZOFFSETFROM:+0200
TZOFFSETTO:+0300
TZNAME:EEST
DTSTART:20270328T010000
END:DAYLIGHT
BEGIN:STANDARD
TZOFFSETFROM:+0300
TZOFFSETTO:+0200
TZNAME:EET
DTSTART:20271031T010000
END:STANDARD
END:VTIMEZONE
BEGIN:VEVENT
DTSTART;TZID=Europe/Helsinki:20260401T090000
DTEND;TZID=Europe/Helsinki:20260630T170000
DTSTAMP:20260419T173426
CREATED:20260403T065200Z
LAST-MODIFIED:20260403T070138Z
UID:42608-1775034000-1782838800@infostargard.pl
SUMMARY:Wiosna pełna egzotyki – niezwykła wystawa w Oranżerii Ogrodów Przelewice
DESCRIPTION:Od 1 kwietnia do 30 czerwca 2026 roku Ogrody Przelewice zapraszają na wyjątkową podróż do świata natury. W Oranżerii pojawiła się fascynująca\, wystawa gadów i płazów\, która pozwoli spojrzeć z bliska na egzotyczne gatunki i poznać ich niezwykłe cechy. \nWystawa jest skierowana zarówno do rodzin z dziećmi\, jak i pasjonatów przyrody. Zwiedzający będą mogli zobaczyć wybrane gatunki\, takie jak kameleon lamparci\, znany z imponującej zdolności zmiany barw\, czy efektowną felsumę madagaskarską\, jedną z najbarwniejszych jaszczurek świata. Wśród mieszkańców ekspozycji znajdą się także anolis olbrzymi\, żaby nadrzewne oraz popularne wśród miłośników terrarystyki drzewołazy. \nNie zabraknie również mniej oczywistych\, ale równie interesujących gatunków np. węża jajojada\, znanego ze swojej wyjątkowej diety\, czy charakterystycznego węża diademowego. Uzupełnieniem ekspozycji będą fascynujące bezkręgowce\, w tym imponujący skorpion leśny. \nWystawa zostanie zaaranżowana w salce edukacyjnej na piętrze Oranżerii\, w sąsiedztwie Skansenu Megalitycznego. \nTo jednak nie wszystko. Od 11 kwietnia w Oranżerii ponownie zagości uwielbiana przez odwiedzających wystawa żywych motyli\, zachwycająca lekkością i bogactwem barw. Stałym elementem Oranżerii pozostaje także świat bezkręgowców\, z takimi gatunkami jak straszyki czy krocionogi\, które odgrywają kluczową rolę w ekosystemach. \nCałość dopełnia imponująca kolekcja roślin tropikalnych\, tworząca spójne\, immersyjne środowisko i pozwalająca jeszcze pełniej zanurzyć się w egzotycznym klimacie. \nTo kompleksowe doświadczenie przyrodnicze łączy edukację z atrakcyjną formą spędzania czasu. Wystawa daje możliwość zobaczenia rzadkich gatunków i poznania ciekawostek z ich życia. \nNie przegap okazji! W Ogrodach Przelewice wiosna nabiera nowego wymiaru. \nInformacje praktyczne: \nWstęp na wystawę gadów i płazów: 10 zł/os.\nWstęp do Oranżerii: 12 zł/os.\nTermin: 1 kwietnia do 30 czerwca 2026\, godz. 9:00 – 17:00 \nDo zobaczenia w Oranżerii! \n \n 
URL:https://infostargard.pl/event/wiosna-pelna-egzotyki-niezwykla-wystawa-w-oranzerii-ogrodow-przelewice/
LOCATION:Ogrody Przelewice – Oranżeria
END:VEVENT
BEGIN:VEVENT
DTSTART;TZID=Europe/Helsinki:20260523T140000
DTEND;TZID=Europe/Helsinki:20260523T200000
DTSTAMP:20260419T173426
CREATED:20260304T084118Z
LAST-MODIFIED:20260304T084228Z
UID:40030-1779544800-1779566400@infostargard.pl
SUMMARY:IV Festiwal Dzwonków i Dzień Dziecka w Dzwonowie
DESCRIPTION:
URL:https://infostargard.pl/event/iv-festiwal-dziecka-i-dzien-dziecka-w-dzwonowie/
LOCATION:Dzwonowo
END:VEVENT
BEGIN:VEVENT
DTSTART;TZID=Europe/Helsinki:20260523T170000
DTEND;TZID=Europe/Helsinki:20260523T170000
DTSTAMP:20260419T173426
CREATED:20260204T202128Z
LAST-MODIFIED:20260204T202145Z
UID:37654-1779555600-1779555600@infostargard.pl
SUMMARY:Kabaret Skeczów Męczących - 20 lecie kabaretu
DESCRIPTION:Stargardzkie Centrum Kultury zaprasza na nowy program\, powstały specjalnie z okazji jubileuszu 20-lecia Kabaretu Skeczów Męczących.  \nKabaret odbędzie się w środę\, 23 maja o godz. 17\, na Dużej Scenie SCK. Bilety od 160 do 170 zł dostępne w kasie kina lub online na stronie kina. \nJak twierdzi sam kabaret\, „jeszcze nigdy nie było tak dobrze”. Pytanie\, czy to zapowiedź najlepszej formy od lat? A może wnikliwa analiza sytuacji w kraju?! Tego i wiele więcej dowiesz się z premierowych skeczów\, nigdy wcześniej nieemitowanych w telewizji! \nWkrocz do świata Kabaretu Skeczów Męczących i weź udział w niespełna dwugodzinnej wybornej zabawie obfitującej w bezkompromisowe żarty\, celne obserwacje społeczne\, brawurowe kreacje kabaretowe i „to coś”\, co można poczuć wyłącznie w trakcie widowiska na żywo.\nGwarantujemy fantastyczny kontakt z publicznością\, która jest tutaj traktowana jako integralna część energetycznego show.\nI każdy\, kto choć raz był na występie KSM na żywo\, wie\, że nigdy nie gryzą się w język. \nWyśmienite premierowe widowisko podane w jubileuszowym sosie to idealna okazja zarówno dla wiernych fanów\, jak i dla tych\, którzy jeszcze nie znają KSM.\nZapraszamy do wspólnego uczczenia okrągłej rocznicy i przekonania się na własne oczy\, dlaczego „jeszcze nigdy nie było tak dobrze”. \nInf. organizatora
URL:https://infostargard.pl/event/kabaret-skeczow-meczacych-20-lecie-kabaretu/
LOCATION:Duża Scena SCK
END:VEVENT
END:VCALENDAR