BEGIN:VCALENDAR
VERSION:2.0
PRODID:-//Info Stargard - ECPv6.15.20//NONSGML v1.0//EN
CALSCALE:GREGORIAN
METHOD:PUBLISH
X-ORIGINAL-URL:https://infostargard.pl
X-WR-CALDESC:Wydarzenia dla Info Stargard
REFRESH-INTERVAL;VALUE=DURATION:PT1H
X-Robots-Tag:noindex
X-PUBLISHED-TTL:PT1H
BEGIN:VTIMEZONE
TZID:Europe/Helsinki
BEGIN:DAYLIGHT
TZOFFSETFROM:+0200
TZOFFSETTO:+0300
TZNAME:EEST
DTSTART:20250330T010000
END:DAYLIGHT
BEGIN:STANDARD
TZOFFSETFROM:+0300
TZOFFSETTO:+0200
TZNAME:EET
DTSTART:20251026T010000
END:STANDARD
BEGIN:DAYLIGHT
TZOFFSETFROM:+0200
TZOFFSETTO:+0300
TZNAME:EEST
DTSTART:20260329T010000
END:DAYLIGHT
BEGIN:STANDARD
TZOFFSETFROM:+0300
TZOFFSETTO:+0200
TZNAME:EET
DTSTART:20261025T010000
END:STANDARD
BEGIN:DAYLIGHT
TZOFFSETFROM:+0200
TZOFFSETTO:+0300
TZNAME:EEST
DTSTART:20270328T010000
END:DAYLIGHT
BEGIN:STANDARD
TZOFFSETFROM:+0300
TZOFFSETTO:+0200
TZNAME:EET
DTSTART:20271031T010000
END:STANDARD
END:VTIMEZONE
BEGIN:VEVENT
DTSTART;TZID=Europe/Helsinki:20260401T090000
DTEND;TZID=Europe/Helsinki:20260630T170000
DTSTAMP:20260419T173523
CREATED:20260403T065200Z
LAST-MODIFIED:20260403T070138Z
UID:42608-1775034000-1782838800@infostargard.pl
SUMMARY:Wiosna pełna egzotyki – niezwykła wystawa w Oranżerii Ogrodów Przelewice
DESCRIPTION:Od 1 kwietnia do 30 czerwca 2026 roku Ogrody Przelewice zapraszają na wyjątkową podróż do świata natury. W Oranżerii pojawiła się fascynująca\, wystawa gadów i płazów\, która pozwoli spojrzeć z bliska na egzotyczne gatunki i poznać ich niezwykłe cechy. \nWystawa jest skierowana zarówno do rodzin z dziećmi\, jak i pasjonatów przyrody. Zwiedzający będą mogli zobaczyć wybrane gatunki\, takie jak kameleon lamparci\, znany z imponującej zdolności zmiany barw\, czy efektowną felsumę madagaskarską\, jedną z najbarwniejszych jaszczurek świata. Wśród mieszkańców ekspozycji znajdą się także anolis olbrzymi\, żaby nadrzewne oraz popularne wśród miłośników terrarystyki drzewołazy. \nNie zabraknie również mniej oczywistych\, ale równie interesujących gatunków np. węża jajojada\, znanego ze swojej wyjątkowej diety\, czy charakterystycznego węża diademowego. Uzupełnieniem ekspozycji będą fascynujące bezkręgowce\, w tym imponujący skorpion leśny. \nWystawa zostanie zaaranżowana w salce edukacyjnej na piętrze Oranżerii\, w sąsiedztwie Skansenu Megalitycznego. \nTo jednak nie wszystko. Od 11 kwietnia w Oranżerii ponownie zagości uwielbiana przez odwiedzających wystawa żywych motyli\, zachwycająca lekkością i bogactwem barw. Stałym elementem Oranżerii pozostaje także świat bezkręgowców\, z takimi gatunkami jak straszyki czy krocionogi\, które odgrywają kluczową rolę w ekosystemach. \nCałość dopełnia imponująca kolekcja roślin tropikalnych\, tworząca spójne\, immersyjne środowisko i pozwalająca jeszcze pełniej zanurzyć się w egzotycznym klimacie. \nTo kompleksowe doświadczenie przyrodnicze łączy edukację z atrakcyjną formą spędzania czasu. Wystawa daje możliwość zobaczenia rzadkich gatunków i poznania ciekawostek z ich życia. \nNie przegap okazji! W Ogrodach Przelewice wiosna nabiera nowego wymiaru. \nInformacje praktyczne: \nWstęp na wystawę gadów i płazów: 10 zł/os.\nWstęp do Oranżerii: 12 zł/os.\nTermin: 1 kwietnia do 30 czerwca 2026\, godz. 9:00 – 17:00 \nDo zobaczenia w Oranżerii! \n \n 
URL:https://infostargard.pl/event/wiosna-pelna-egzotyki-niezwykla-wystawa-w-oranzerii-ogrodow-przelewice/
LOCATION:Ogrody Przelewice – Oranżeria
END:VEVENT
BEGIN:VEVENT
DTSTART;TZID=Europe/Helsinki:20260424T000000
DTEND;TZID=Europe/Helsinki:20260426T000000
DTSTAMP:20260419T173523
CREATED:20260211T090703Z
LAST-MODIFIED:20260211T090703Z
UID:38222-1776988800-1777161600@infostargard.pl
SUMMARY:Bieg charytatywny dla Stasia - Pokonać granice
DESCRIPTION:
URL:https://infostargard.pl/event/bieg-charytatywny-dla-stasia-pokonac-granice/
LOCATION:Wokół Zalewu Szczecińskiego
END:VEVENT
BEGIN:VEVENT
DTSTART;TZID=Europe/Helsinki:20260425T080000
DTEND;TZID=Europe/Helsinki:20260425T170000
DTSTAMP:20260419T173523
CREATED:20260413T133756Z
LAST-MODIFIED:20260413T133825Z
UID:43494-1777104000-1777136400@infostargard.pl
SUMMARY:2. Bieg o Puchar Wisoli
DESCRIPTION:25 kwietnia nad jeziorem Wisola odbędzie się 2. Bieg o Puchar Wisoli. \nW programie: Bieg na 10 km Bieg na 5 km Marsz Nordic Walking – 2\,5 km Biegi dzieci– Przygotowaliśmy atrakcyjne pakiety startowe\, które z pewnością umilą udział w wydarzeniu i będą miłą pamiątką z biegu – zapraszają organizatorzy. \nZapisy i więcej informacji  tutaj: 
URL:https://infostargard.pl/event/2-bieg-o-puchar-wisoli/
LOCATION:j. Wisola
END:VEVENT
BEGIN:VEVENT
DTSTART;TZID=Europe/Helsinki:20260425T100000
DTEND;TZID=Europe/Helsinki:20260425T100000
DTSTAMP:20260419T173523
CREATED:20260411T084116Z
LAST-MODIFIED:20260411T084153Z
UID:43270-1777111200-1777111200@infostargard.pl
SUMMARY:Bieg wiosenny z SP Grzędzice
DESCRIPTION:
URL:https://infostargard.pl/event/bieg-wiosenny-z-sp-grzedzice/
LOCATION:boisko w Grzędzicach
END:VEVENT
BEGIN:VEVENT
DTSTART;TZID=Europe/Helsinki:20260425T100000
DTEND;TZID=Europe/Helsinki:20260425T100000
DTSTAMP:20260419T173523
CREATED:20260413T110310Z
LAST-MODIFIED:20260413T110310Z
UID:43452-1777111200-1777111200@infostargard.pl
SUMMARY:Nietoperze w filii nr 2 na os. Lotnisko
DESCRIPTION:
URL:https://infostargard.pl/event/nietoperze-w-filii-nr-2-na-os-lotnisko/
LOCATION:filia nr 2 Książnicy Stargardzkiej  os. Lotnisko
END:VEVENT
BEGIN:VEVENT
DTSTART;TZID=Europe/Helsinki:20260425T130000
DTEND;TZID=Europe/Helsinki:20260425T150000
DTSTAMP:20260419T173523
CREATED:20260412T081043Z
LAST-MODIFIED:20260412T081043Z
UID:43323-1777122000-1777129200@infostargard.pl
SUMMARY:Mecz III ligi\, gr. II. KP Błękitni Stargard - Zawisza Bydgoszcz
DESCRIPTION:W dniu 25. kwietnia 2026 r. (sobota)\, na stadionie przy ul. Ceglanejw Stargardzie\, odbędzie się mecz w ramach 28. kolejki III ligi piłkarskiej\, gr. II\, pomiędzy Błękitnymi Stargard\, a Zawiszą Bydgoszcz.
URL:https://infostargard.pl/event/mecz-iii-ligi-gr-ii-kp-blekitni-stargard-zawisza-bydgoszcz/
LOCATION:Stadion przy ul. Ceglanej
END:VEVENT
BEGIN:VEVENT
DTSTART;TZID=Europe/Helsinki:20260425T180000
DTEND;TZID=Europe/Helsinki:20260425T180000
DTSTAMP:20260419T173523
CREATED:20260305T113608Z
LAST-MODIFIED:20260311T094105Z
UID:40149-1777140000-1777140000@infostargard.pl
SUMMARY:Rockowisko w Piwnicy TPS
DESCRIPTION:Rockowisko w Piwnicy TPS – wieczór pełen energii\, premier i muzycznych powrotów odbędzie się 25 kwietnia o godz. 18. \nNa scenie zobaczymy: \n\nMy z Delty – zespół ze Szczecina – po dwóch latach koncertowej absencji wracają na scenę! Reaktywacja w najlepszym stylu – i to właśnie w Stargardzie !\nGrupa Trzymająca Instrumenty (GTI) – Grupa szczecińskich weteranów muzycznych w ich składzie tegoroczny finalista programu The Voice Senior !\nBartosz Łęczycki – Mistrz harmonijki ustnej ! Powszechnie ceniony\, znany i lubiany.\nNOS ze Skarżyska-Kamiennej – koncert premierowy promujący ich najnowszą płytę długogrającą „Niepewność”.\nParasoul – solidna dawka szczecińskiego grania. Zespół znany już szerokiej publiczności bluesowo-soulowo-funkowej w całej Polsce!\nBehind the River (wcześniej znany jako Mariusz Zarzeczny) – nowy repertuar\, świeża energia i zupełnie nowy rozdział muzycznej historii.\n\nTo będzie wieczór pełen niespodzianek\, emocji\, premierowych brzmień i wyjątkowych spotkań. \nInf. organizatora
URL:https://infostargard.pl/event/rockowisko-w-piwnicy-tps/
LOCATION:Piwnica TPS
END:VEVENT
BEGIN:VEVENT
DTSTART;TZID=Europe/Helsinki:20260425T180000
DTEND;TZID=Europe/Helsinki:20260425T180000
DTSTAMP:20260419T173523
CREATED:20260306T082023Z
LAST-MODIFIED:20260306T082023Z
UID:40237-1777140000-1777140000@infostargard.pl
SUMMARY:Wiosenne fajfy dla seniora w Kobylance
DESCRIPTION:
URL:https://infostargard.pl/event/wiosenne-fajfy-dla-seniora-w-kobylance/
LOCATION:CKiR w Kobylance
END:VEVENT
BEGIN:VEVENT
DTSTART;TZID=Europe/Helsinki:20260425T190000
DTEND;TZID=Europe/Helsinki:20260425T190000
DTSTAMP:20260419T173523
CREATED:20260403T124057Z
LAST-MODIFIED:20260403T124216Z
UID:42667-1777143600-1777143600@infostargard.pl
SUMMARY:Włoski wieczór w Caffe Południk - Thomas Grotto na żywo
DESCRIPTION:Caffe Południk Music Club zaprasza mieszkańców Stargardu na wyjątkowe wydarzenie muzyczne\, które przeniesie gości wprost do słonecznej Italii. W sobotę\, 25 kwietnia o godz. 19 na scenie pojawi się Thomas Grotto – artysta znany z energetycznych występów i pasji do włoskiej muzyki.  \nW programie wieczoru znajdą się największe włoskie przeboje\, klimatyczny koncert na żywo oraz atmosfera inspirowana południowym stylem życia. \nNie zabraknie również akcentów kulinarnych. Dla gości przygotowano deskę włoskich serów i wędlin w cenie 60 zł. Wstęp na wydarzenie kosztuje 40 zł. Rezerwacje pod nr tel. 797 222 269.
URL:https://infostargard.pl/event/wloski-wieczor-w-caffe-poludnik-thomas-grotto-na-zywo/
LOCATION:Caffe Południk Music Club Bornholmska 48\, Stargard
END:VEVENT
BEGIN:VEVENT
DTSTART;TZID=Europe/Helsinki:20260425T200000
DTEND;TZID=Europe/Helsinki:20260425T200000
DTSTAMP:20260419T173523
CREATED:20260219T115640Z
LAST-MODIFIED:20260219T115703Z
UID:38861-1777147200-1777147200@infostargard.pl
SUMMARY:Spektakl Encore\, Burlesque!
DESCRIPTION:Stargardzkie Centrum Kultury zaprasza na wyjątkowy wieczór z „Encore\,Burlesque” – spektaklem pełnym elegancji\, zmysłowości i scenicznego blasku.  \nWydarzenie odbędzie się w sobotę\, 25 kwietnia o godz. 20\, na Małej Scenie SCK. Bilety w cenie 95 zł dostępne w kasie kina lub online. Show składa się z trzech części rozdzielonych dwoma przerwami. Jak informują organizatorzy\, strój powinien być elegancki ale wygodny. \nDrodzy miłośnicy rozrywki szykujcie się na prawdziwe święto zmysłów! Wyjątkowe wydarzenie burleskowe\, Encore\, Burlesque! przeniesie Was w świat pełen elegancji\, zmysłowości i niepowtarzalnej magii. Zanurzcie się w wyjątkowym klimacie pełnym blasku i tajemnic. Każdy numer to starannie przygotowane widowisko\, które na długo pozostanie w Waszej pamięci. \n\n\nNie przegap tej wyjątkowej okazji\, aby stać się częścią historii rozrywki w Stargardzie! Dołącz do nas na wieczór\, który obudzi wszystkie zmysły i zostawi Cię z uczuciem rozbawienia\, zachwytu i nostalgii. Na scenie wystąpią najznakomitsi artyści burleski i dragu\, którzy swoimi występami oczarowują publiczność na całym świecie. \nWystąpią: \nLily Froú – gwiazda polskiej burleski\, międzynarodowa performerka\, której serce bije w rytmie lat 20. Jej występy to podróż w czasie do epoki art déco\, dymnych klubów jazzowych i niezapomnianych pokazów kabaretowych. \nHrabina – pierwsza dama polskiego dragu. Oczaruje was swoim stylem i poczuciem humoru oraz poprowadzi najlepszą konferansjerkę w mieście! \nLady AnnMart – założycielka szkoły CaBaReT w Toruniu\, performerka burleski\, muzyk i choreograf. Uczestniczka telewizyjnych show takich jak: „Must be the music”\, „Zostań Gwiazdą” i „Mam talent”. \nTula la Purr – performerka z Warszawy\, która która oczaruje was swoją charyzmą i zaprezentuje burleskę w niebanalnym wykonaniu. \nPan Dosłowny – jak nikt inny zadba o płynny przebieg przedstawienia oraz komfort widzów i artystów. \nEncore\, Burlesque! to nie tylko występy\, ale i możliwość do spotkania z artystami\, zrobienia pamiątkowych zdjęć i zatopienia się w wyjątkowej atmosferze. Jest to także idealna okazja na wieczorne wyjście: to doskonały pomysł na randkę\, spotkanie z przyjaciółmi lub wyjątkowy wieczór spędzony w gronie bliskich. \nSpektakl przeznaczony jest dla widzów pełnoletnich.
URL:https://infostargard.pl/event/spektakl-encore-burlesque/
LOCATION:Mała Scena SCK
END:VEVENT
BEGIN:VEVENT
DTSTART;TZID=Europe/Helsinki:20260425T200000
DTEND;TZID=Europe/Helsinki:20260425T200000
DTSTAMP:20260419T173523
CREATED:20260416T060152Z
LAST-MODIFIED:20260416T060152Z
UID:43741-1777147200-1777147200@infostargard.pl
SUMMARY:Burlesque Show w SCK
DESCRIPTION:SCK zaprasza na niezwykłe wydarzenie\, które przeniesie widzów w świat pełen elegancji\, tajemnicy i zmysłowej ekspresji. „Encore\, Burlesque!” to spektakl\, który zachwyca nie tylko formą\, ale i atmosferą – tworząc niezapomniany wieczór\, będący prawdziwym świętem dla zmysłów. \nKażdy występ to dopracowane w najmniejszym szczególe show\, łączące w sobie kunszt sceniczny\, emocje oraz wyjątkową estetykę burleski. To nie tylko rozrywka\, ale także sztuka\, która pozostaje w pamięci na długo po opuszczeniu sali. \nNa scenie pojawią się wybitni artyści burleski i dragu\, znani i doceniani w całej Polsce. Wśród nich znajdzie się Lily Froú – gwiazda polskiej burleski o międzynarodowej renomie\, Hrabina – uznawana za pierwszą damę polskiego dragu\, Lady AnnMart – założycielka szkoły CaBaReT w Toruniu i ceniona performerka\, a także Tula la Purr\, której oryginalny styl nie pozostawia nikogo obojętnym. Całość poprowadzi Pan Dosłowny\, dbając o wyjątkowy klimat i płynny przebieg wieczoru. \nWarto pamiętać\, że spektakl przeznaczony jest wyłącznie dla widzów pełnoletnich. Organizatorzy zachęcają również do wczucia się w klimat wydarzenia poprzez odpowiedni strój – obowiązuje dress code „IMPRESS!”. Elegancja połączona z wygodą i nutą indywidualnego stylu będzie idealnym wyborem na tę wyjątkową okazję. \n„Encore\, Burlesque!” to więcej niż spektakl – to doświadczenie\, które łączy sztukę\, emocje i wyjątkową atmosferę w jedną\, niepowtarzalną całość.
URL:https://infostargard.pl/event/burlesque-show-w-sck/
LOCATION:Duża Scena SCK
END:VEVENT
END:VCALENDAR