BEGIN:VCALENDAR
VERSION:2.0
PRODID:-//Info Stargard - ECPv6.15.20//NONSGML v1.0//EN
CALSCALE:GREGORIAN
METHOD:PUBLISH
X-WR-CALNAME:Info Stargard
X-ORIGINAL-URL:https://infostargard.pl
X-WR-CALDESC:Wydarzenia dla Info Stargard
REFRESH-INTERVAL;VALUE=DURATION:PT1H
X-Robots-Tag:noindex
X-PUBLISHED-TTL:PT1H
BEGIN:VTIMEZONE
TZID:Europe/Helsinki
BEGIN:DAYLIGHT
TZOFFSETFROM:+0200
TZOFFSETTO:+0300
TZNAME:EEST
DTSTART:20250330T010000
END:DAYLIGHT
BEGIN:STANDARD
TZOFFSETFROM:+0300
TZOFFSETTO:+0200
TZNAME:EET
DTSTART:20251026T010000
END:STANDARD
BEGIN:DAYLIGHT
TZOFFSETFROM:+0200
TZOFFSETTO:+0300
TZNAME:EEST
DTSTART:20260329T010000
END:DAYLIGHT
BEGIN:STANDARD
TZOFFSETFROM:+0300
TZOFFSETTO:+0200
TZNAME:EET
DTSTART:20261025T010000
END:STANDARD
BEGIN:DAYLIGHT
TZOFFSETFROM:+0200
TZOFFSETTO:+0300
TZNAME:EEST
DTSTART:20270328T010000
END:DAYLIGHT
BEGIN:STANDARD
TZOFFSETFROM:+0300
TZOFFSETTO:+0200
TZNAME:EET
DTSTART:20271031T010000
END:STANDARD
END:VTIMEZONE
BEGIN:VEVENT
DTSTART;TZID=Europe/Helsinki:20260401T090000
DTEND;TZID=Europe/Helsinki:20260630T170000
DTSTAMP:20260419T173431
CREATED:20260403T065200Z
LAST-MODIFIED:20260403T070138Z
UID:42608-1775034000-1782838800@infostargard.pl
SUMMARY:Wiosna pełna egzotyki – niezwykła wystawa w Oranżerii Ogrodów Przelewice
DESCRIPTION:Od 1 kwietnia do 30 czerwca 2026 roku Ogrody Przelewice zapraszają na wyjątkową podróż do świata natury. W Oranżerii pojawiła się fascynująca\, wystawa gadów i płazów\, która pozwoli spojrzeć z bliska na egzotyczne gatunki i poznać ich niezwykłe cechy. \nWystawa jest skierowana zarówno do rodzin z dziećmi\, jak i pasjonatów przyrody. Zwiedzający będą mogli zobaczyć wybrane gatunki\, takie jak kameleon lamparci\, znany z imponującej zdolności zmiany barw\, czy efektowną felsumę madagaskarską\, jedną z najbarwniejszych jaszczurek świata. Wśród mieszkańców ekspozycji znajdą się także anolis olbrzymi\, żaby nadrzewne oraz popularne wśród miłośników terrarystyki drzewołazy. \nNie zabraknie również mniej oczywistych\, ale równie interesujących gatunków np. węża jajojada\, znanego ze swojej wyjątkowej diety\, czy charakterystycznego węża diademowego. Uzupełnieniem ekspozycji będą fascynujące bezkręgowce\, w tym imponujący skorpion leśny. \nWystawa zostanie zaaranżowana w salce edukacyjnej na piętrze Oranżerii\, w sąsiedztwie Skansenu Megalitycznego. \nTo jednak nie wszystko. Od 11 kwietnia w Oranżerii ponownie zagości uwielbiana przez odwiedzających wystawa żywych motyli\, zachwycająca lekkością i bogactwem barw. Stałym elementem Oranżerii pozostaje także świat bezkręgowców\, z takimi gatunkami jak straszyki czy krocionogi\, które odgrywają kluczową rolę w ekosystemach. \nCałość dopełnia imponująca kolekcja roślin tropikalnych\, tworząca spójne\, immersyjne środowisko i pozwalająca jeszcze pełniej zanurzyć się w egzotycznym klimacie. \nTo kompleksowe doświadczenie przyrodnicze łączy edukację z atrakcyjną formą spędzania czasu. Wystawa daje możliwość zobaczenia rzadkich gatunków i poznania ciekawostek z ich życia. \nNie przegap okazji! W Ogrodach Przelewice wiosna nabiera nowego wymiaru. \nInformacje praktyczne: \nWstęp na wystawę gadów i płazów: 10 zł/os.\nWstęp do Oranżerii: 12 zł/os.\nTermin: 1 kwietnia do 30 czerwca 2026\, godz. 9:00 – 17:00 \nDo zobaczenia w Oranżerii! \n \n 
URL:https://infostargard.pl/event/wiosna-pelna-egzotyki-niezwykla-wystawa-w-oranzerii-ogrodow-przelewice/
LOCATION:Ogrody Przelewice – Oranżeria
END:VEVENT
BEGIN:VEVENT
DTSTART;TZID=Europe/Helsinki:20260417T114500
DTEND;TZID=Europe/Helsinki:20260417T114500
DTSTAMP:20260419T173431
CREATED:20260413T135217Z
LAST-MODIFIED:20260413T135241Z
UID:43505-1776426300-1776426300@infostargard.pl
SUMMARY:XIII Stargardzki Polonez Maturzystów
DESCRIPTION:Już po raz 13.\, na Rynku Staromiejskim w Stargardzie odbędzie się Stargardzki Polonez Maturzystów.\n\nHarmonogram:11:45 – przemarsz maturzystów spod siedziby Collegium Balticum\, ulicami: Krzywoustego\, Kazimierza Wielkiego – Rynek Staromiejski11:55 – hejnał12.05 – przywitanie i występ artystyczny12:15 – Przemówienia Prezydenta Miasta\, Starosty Stargardzkiego\, Rektor Collegium Balticum – ANS12:25 – występ artystyczny dzieci z Przedszkola nr 212:30 – Polonez maturzystów13:30 – oficjalne zakończenie wydarzenia.
URL:https://infostargard.pl/event/xiii-stargardzki-polonez-maturzystow/
LOCATION:Rynek Staromiejski
END:VEVENT
BEGIN:VEVENT
DTSTART;TZID=Europe/Helsinki:20260417T120000
DTEND;TZID=Europe/Helsinki:20260417T120000
DTSTAMP:20260419T173431
CREATED:20260416T061012Z
LAST-MODIFIED:20260416T061012Z
UID:43756-1776427200-1776427200@infostargard.pl
SUMMARY:Protest rolników
DESCRIPTION:
URL:https://infostargard.pl/event/protest-rolnikow/
LOCATION:Krąpiel
END:VEVENT
BEGIN:VEVENT
DTSTART;TZID=Europe/Helsinki:20260417T170000
DTEND;TZID=Europe/Helsinki:20260417T170000
DTSTAMP:20260419T173431
CREATED:20260407T165925Z
LAST-MODIFIED:20260407T165925Z
UID:42964-1776445200-1776445200@infostargard.pl
SUMMARY:Nordic walking - teoria\, technika\, efekty - filia Książnicy - os. Lotnisko
DESCRIPTION:
URL:https://infostargard.pl/event/nordic-walking-teoria-technika-efekty-filia-ksiaznicy-os-lotnisko/
LOCATION:Filia Książnicy na os. Lotnisko
END:VEVENT
BEGIN:VEVENT
DTSTART;TZID=Europe/Helsinki:20260417T180000
DTEND;TZID=Europe/Helsinki:20260417T180000
DTSTAMP:20260419T173431
CREATED:20260411T092953Z
LAST-MODIFIED:20260411T092953Z
UID:43284-1776448800-1776448800@infostargard.pl
SUMMARY:Women String Trio - koncert w Dolicach
DESCRIPTION:
URL:https://infostargard.pl/event/women-string-trio-koncert-w-dolicach/
LOCATION:GCK w Dolicach
END:VEVENT
BEGIN:VEVENT
DTSTART;TZID=Europe/Helsinki:20260417T180000
DTEND;TZID=Europe/Helsinki:20260417T180000
DTSTAMP:20260419T173431
CREATED:20260416T061210Z
LAST-MODIFIED:20260416T061210Z
UID:43760-1776448800-1776448800@infostargard.pl
SUMMARY:Rowerowe piątki w Marianowie
DESCRIPTION:
URL:https://infostargard.pl/event/rowerowe-piatki-w-marianowie/
LOCATION:Stacja PKP Marianowo
END:VEVENT
END:VCALENDAR