BEGIN:VCALENDAR
VERSION:2.0
PRODID:-//Info Stargard - ECPv6.15.20//NONSGML v1.0//EN
CALSCALE:GREGORIAN
METHOD:PUBLISH
X-WR-CALNAME:Info Stargard
X-ORIGINAL-URL:https://infostargard.pl
X-WR-CALDESC:Wydarzenia dla Info Stargard
REFRESH-INTERVAL;VALUE=DURATION:PT1H
X-Robots-Tag:noindex
X-PUBLISHED-TTL:PT1H
BEGIN:VTIMEZONE
TZID:Europe/Helsinki
BEGIN:DAYLIGHT
TZOFFSETFROM:+0200
TZOFFSETTO:+0300
TZNAME:EEST
DTSTART:20250330T010000
END:DAYLIGHT
BEGIN:STANDARD
TZOFFSETFROM:+0300
TZOFFSETTO:+0200
TZNAME:EET
DTSTART:20251026T010000
END:STANDARD
BEGIN:DAYLIGHT
TZOFFSETFROM:+0200
TZOFFSETTO:+0300
TZNAME:EEST
DTSTART:20260329T010000
END:DAYLIGHT
BEGIN:STANDARD
TZOFFSETFROM:+0300
TZOFFSETTO:+0200
TZNAME:EET
DTSTART:20261025T010000
END:STANDARD
BEGIN:DAYLIGHT
TZOFFSETFROM:+0200
TZOFFSETTO:+0300
TZNAME:EEST
DTSTART:20270328T010000
END:DAYLIGHT
BEGIN:STANDARD
TZOFFSETFROM:+0300
TZOFFSETTO:+0200
TZNAME:EET
DTSTART:20271031T010000
END:STANDARD
END:VTIMEZONE
BEGIN:VEVENT
DTSTART;TZID=Europe/Helsinki:20260401T090000
DTEND;TZID=Europe/Helsinki:20260630T170000
DTSTAMP:20260419T173430
CREATED:20260403T065200Z
LAST-MODIFIED:20260403T070138Z
UID:42608-1775034000-1782838800@infostargard.pl
SUMMARY:Wiosna pełna egzotyki – niezwykła wystawa w Oranżerii Ogrodów Przelewice
DESCRIPTION:Od 1 kwietnia do 30 czerwca 2026 roku Ogrody Przelewice zapraszają na wyjątkową podróż do świata natury. W Oranżerii pojawiła się fascynująca\, wystawa gadów i płazów\, która pozwoli spojrzeć z bliska na egzotyczne gatunki i poznać ich niezwykłe cechy. \nWystawa jest skierowana zarówno do rodzin z dziećmi\, jak i pasjonatów przyrody. Zwiedzający będą mogli zobaczyć wybrane gatunki\, takie jak kameleon lamparci\, znany z imponującej zdolności zmiany barw\, czy efektowną felsumę madagaskarską\, jedną z najbarwniejszych jaszczurek świata. Wśród mieszkańców ekspozycji znajdą się także anolis olbrzymi\, żaby nadrzewne oraz popularne wśród miłośników terrarystyki drzewołazy. \nNie zabraknie również mniej oczywistych\, ale równie interesujących gatunków np. węża jajojada\, znanego ze swojej wyjątkowej diety\, czy charakterystycznego węża diademowego. Uzupełnieniem ekspozycji będą fascynujące bezkręgowce\, w tym imponujący skorpion leśny. \nWystawa zostanie zaaranżowana w salce edukacyjnej na piętrze Oranżerii\, w sąsiedztwie Skansenu Megalitycznego. \nTo jednak nie wszystko. Od 11 kwietnia w Oranżerii ponownie zagości uwielbiana przez odwiedzających wystawa żywych motyli\, zachwycająca lekkością i bogactwem barw. Stałym elementem Oranżerii pozostaje także świat bezkręgowców\, z takimi gatunkami jak straszyki czy krocionogi\, które odgrywają kluczową rolę w ekosystemach. \nCałość dopełnia imponująca kolekcja roślin tropikalnych\, tworząca spójne\, immersyjne środowisko i pozwalająca jeszcze pełniej zanurzyć się w egzotycznym klimacie. \nTo kompleksowe doświadczenie przyrodnicze łączy edukację z atrakcyjną formą spędzania czasu. Wystawa daje możliwość zobaczenia rzadkich gatunków i poznania ciekawostek z ich życia. \nNie przegap okazji! W Ogrodach Przelewice wiosna nabiera nowego wymiaru. \nInformacje praktyczne: \nWstęp na wystawę gadów i płazów: 10 zł/os.\nWstęp do Oranżerii: 12 zł/os.\nTermin: 1 kwietnia do 30 czerwca 2026\, godz. 9:00 – 17:00 \nDo zobaczenia w Oranżerii! \n \n 
URL:https://infostargard.pl/event/wiosna-pelna-egzotyki-niezwykla-wystawa-w-oranzerii-ogrodow-przelewice/
LOCATION:Ogrody Przelewice – Oranżeria
END:VEVENT
BEGIN:VEVENT
DTSTART;TZID=Europe/Helsinki:20260416T160000
DTEND;TZID=Europe/Helsinki:20260416T160000
DTSTAMP:20260419T173430
CREATED:20260413T134115Z
LAST-MODIFIED:20260413T134115Z
UID:43500-1776355200-1776355200@infostargard.pl
SUMMARY:Zaklęty Las - spektakl w Dobrzanach
DESCRIPTION:
URL:https://infostargard.pl/event/zaklety-las-spektakl-w-dobrzanach/
LOCATION:Gminna Biblioteka Publiczna w Dobrzanach
END:VEVENT
BEGIN:VEVENT
DTSTART;TZID=Europe/Helsinki:20260416T170000
DTEND;TZID=Europe/Helsinki:20260416T170000
DTSTAMP:20260419T173430
CREATED:20260402T163739Z
LAST-MODIFIED:20260402T164006Z
UID:42561-1776358800-1776358800@infostargard.pl
SUMMARY:Koncert "Uczniowie uczniom" w PSM
DESCRIPTION:W czwartek\, 16 kwietnia o godz. 17\, w sali koncertowej Państwowej Szkoły Muzycznej odbędzie się wyjątkowe wydarzenie artystyczne pod hasłem „Uczniowie uczniom”.  \nNa scenie wystąpią soliści oraz zespoły reprezentujące PSM I i II stopnia a także uczniowie Ogólnokształcącej Szkoły Muzycznej I stopnia.
URL:https://infostargard.pl/event/koncert-uczniowie-uczniom-w-psm/
LOCATION:Sala koncertowa Państwowej Szkoły Muzycznej I i II stopnia w Stargardzie\, ul. Kazimierza Wielkiego 13
END:VEVENT
BEGIN:VEVENT
DTSTART;TZID=Europe/Helsinki:20260416T170000
DTEND;TZID=Europe/Helsinki:20260416T170000
DTSTAMP:20260419T173430
CREATED:20260416T060450Z
LAST-MODIFIED:20260416T060450Z
UID:43745-1776358800-1776358800@infostargard.pl
SUMMARY:Bądź pozytywnym mistrzem - spotkanie z Kamilą Wolską - Sobotką
DESCRIPTION:
URL:https://infostargard.pl/event/badz-pozytywnym-mistrzem-spotkanie-z-kamila-wolska-sobotka/
LOCATION:Książnica Stargardzka – Pracownia Kreatywności (wejście od ul. Pocztowej)
END:VEVENT
BEGIN:VEVENT
DTSTART;TZID=Europe/Helsinki:20260416T180000
DTEND;TZID=Europe/Helsinki:20260416T180000
DTSTAMP:20260419T173430
CREATED:20260403T121059Z
LAST-MODIFIED:20260403T121230Z
UID:42657-1776362400-1776362400@infostargard.pl
SUMMARY:Wystawa fotografii "Spojrzenia" Łukasza Sofianowicza
DESCRIPTION:Stargardzkie Centrum Kultury zaprasza na wernisaż wystawy fotografii pt. „Spojrzenia”. Swoje prace zaprezentuje Łukasz Sofianowicz – fotograf związany z Pracownia Artystyczną SCK\, który w swojej twórczości koncentruje się na portrecie i eksperymentach ze światem.  \nWernisaż odbędzie się w czwartek\, 16 kwietnia o godz. 18\, w Galerii 108 Holu SCK. Wstęp na to wydarzenie jest wolny. \nŁukasz Sofianowicz – uzdolniony fotograf i wielbiciel eksperymentów z portretem i oświetleniem studyjnym. Duża wiedza i poszukiwanie SPOJRZEŃ to jego wizytówka. \n\nPartnerzy wernisażu: MIVINO & foto-team.pl warsztaty fotografii artystycznej.
URL:https://infostargard.pl/event/wystawa-fotografii-spojrzenia-w-sck/
LOCATION:Galeria Hol Stargardzkie Centrum Kultury
END:VEVENT
BEGIN:VEVENT
DTSTART;TZID=Europe/Helsinki:20260416T190000
DTEND;TZID=Europe/Helsinki:20260416T190000
DTSTAMP:20260419T173430
CREATED:20260319T082317Z
LAST-MODIFIED:20260319T082459Z
UID:41259-1776366000-1776366000@infostargard.pl
SUMMARY:Czwartkowe wieczory muzyczne: koncert Artura Hatfmana
DESCRIPTION:Stargardzkie Centrum Kultury zaprasza na koncert Artura Hatfmana\, który odbędzie się w ramach czwartkowych wieczorów muzycznych.  \nWydarzenie odbędzie się 16 kwietnia o godz. 19\, na Dużej Scenie SCK. Bilety w cenie 50 zł/normalny\, 40 zł/ulgowy. \n– Zapraszamy na wyjątkowe wydarzenie muzyczne\, podczas którego dwa genialne dzieła Fryderyka Chopina zabrzmią w intymnej\, salonowej oprawie – zachęcają organizatorzy. – Zamiast pełnej orkiestry symfonicznej\, pianiście towarzyszyć będzie kwintet smyczkowy\, co pozwoli wydobyć z kompozycji mistrza niespotykaną lekkość\, śpiewność i detale ukryte w dialogu instrumentów. \nW trakcie wieczoru będzie można usłyszeć oba koncerty fortepianowe Chopina w opracowaniu kameralnym: \n\nKoncert fortepianowy e-moll op. 11\nKoncert fortepianowy f-moll op. 21\n\nPrzy fortepianie zasiądzie Artur Haftman\, a towarzyszyć mu będą soliści renomowanej orkiestry Baltic Neopolis Ensemble w składzie: \n\n\n\n\n• Piotr Kosarga – skrzypce\n• Joanna Goch – skrzypce\n• Grzegorz Sadowski – altówka\n• Piotr Więcław – wiolonczela\n• Paweł Jędrzejewski – kontrabas \nArtur Haftman – polski pianista na stałe mieszkający w Londynie\, uznany za jednego z najciekawszych interpretatorów muzyki Chopina i Szymanowskiego swojego pokolenia. Laureat ponad 25 międzynarodowych konkursów pianistycznych (m.in. w Paryżu\, Tallinnie\, Palma de Mallorca czy Moskwie). Absolwent Royal College of Music w Londynie\, obecnie pełni funkcję dyrektora artystycznego London International Chopin Competition oraz SIMA Classics. Występował przed członkami brytyjskiej rodziny królewskiej oraz na najważniejszych scenach Europy i USA. \nJego kunszt został doceniony przez światową krytykę:\n„[Artur Haftman prezentuje] wykwintne i melodyjne brzmienie oraz przyciągające podejście\, jakie wnosi do swoich występów\, porównywalne do niezwykłego wpływu\, jaki Murray Perahia wywarł ponad czterdzieści lat temu”.\n— David Moran\, The Boston Musical Intelligencer \nInf. organizatora
URL:https://infostargard.pl/event/czwartkowe-wieczory-muzyczne-koncert-artura-hatfmana/
LOCATION:Duża Scena SCK
END:VEVENT
END:VCALENDAR