BEGIN:VCALENDAR
VERSION:2.0
PRODID:-//Info Stargard - ECPv6.15.20//NONSGML v1.0//EN
CALSCALE:GREGORIAN
METHOD:PUBLISH
X-WR-CALNAME:Info Stargard
X-ORIGINAL-URL:https://infostargard.pl
X-WR-CALDESC:Wydarzenia dla Info Stargard
REFRESH-INTERVAL;VALUE=DURATION:PT1H
X-Robots-Tag:noindex
X-PUBLISHED-TTL:PT1H
BEGIN:VTIMEZONE
TZID:Europe/Helsinki
BEGIN:DAYLIGHT
TZOFFSETFROM:+0200
TZOFFSETTO:+0300
TZNAME:EEST
DTSTART:20250330T010000
END:DAYLIGHT
BEGIN:STANDARD
TZOFFSETFROM:+0300
TZOFFSETTO:+0200
TZNAME:EET
DTSTART:20251026T010000
END:STANDARD
BEGIN:DAYLIGHT
TZOFFSETFROM:+0200
TZOFFSETTO:+0300
TZNAME:EEST
DTSTART:20260329T010000
END:DAYLIGHT
BEGIN:STANDARD
TZOFFSETFROM:+0300
TZOFFSETTO:+0200
TZNAME:EET
DTSTART:20261025T010000
END:STANDARD
BEGIN:DAYLIGHT
TZOFFSETFROM:+0200
TZOFFSETTO:+0300
TZNAME:EEST
DTSTART:20270328T010000
END:DAYLIGHT
BEGIN:STANDARD
TZOFFSETFROM:+0300
TZOFFSETTO:+0200
TZNAME:EET
DTSTART:20271031T010000
END:STANDARD
END:VTIMEZONE
BEGIN:VEVENT
DTSTART;TZID=Europe/Helsinki:20260401T090000
DTEND;TZID=Europe/Helsinki:20260630T170000
DTSTAMP:20260419T172732
CREATED:20260403T065200Z
LAST-MODIFIED:20260403T070138Z
UID:42608-1775034000-1782838800@infostargard.pl
SUMMARY:Wiosna pełna egzotyki – niezwykła wystawa w Oranżerii Ogrodów Przelewice
DESCRIPTION:Od 1 kwietnia do 30 czerwca 2026 roku Ogrody Przelewice zapraszają na wyjątkową podróż do świata natury. W Oranżerii pojawiła się fascynująca\, wystawa gadów i płazów\, która pozwoli spojrzeć z bliska na egzotyczne gatunki i poznać ich niezwykłe cechy. \nWystawa jest skierowana zarówno do rodzin z dziećmi\, jak i pasjonatów przyrody. Zwiedzający będą mogli zobaczyć wybrane gatunki\, takie jak kameleon lamparci\, znany z imponującej zdolności zmiany barw\, czy efektowną felsumę madagaskarską\, jedną z najbarwniejszych jaszczurek świata. Wśród mieszkańców ekspozycji znajdą się także anolis olbrzymi\, żaby nadrzewne oraz popularne wśród miłośników terrarystyki drzewołazy. \nNie zabraknie również mniej oczywistych\, ale równie interesujących gatunków np. węża jajojada\, znanego ze swojej wyjątkowej diety\, czy charakterystycznego węża diademowego. Uzupełnieniem ekspozycji będą fascynujące bezkręgowce\, w tym imponujący skorpion leśny. \nWystawa zostanie zaaranżowana w salce edukacyjnej na piętrze Oranżerii\, w sąsiedztwie Skansenu Megalitycznego. \nTo jednak nie wszystko. Od 11 kwietnia w Oranżerii ponownie zagości uwielbiana przez odwiedzających wystawa żywych motyli\, zachwycająca lekkością i bogactwem barw. Stałym elementem Oranżerii pozostaje także świat bezkręgowców\, z takimi gatunkami jak straszyki czy krocionogi\, które odgrywają kluczową rolę w ekosystemach. \nCałość dopełnia imponująca kolekcja roślin tropikalnych\, tworząca spójne\, immersyjne środowisko i pozwalająca jeszcze pełniej zanurzyć się w egzotycznym klimacie. \nTo kompleksowe doświadczenie przyrodnicze łączy edukację z atrakcyjną formą spędzania czasu. Wystawa daje możliwość zobaczenia rzadkich gatunków i poznania ciekawostek z ich życia. \nNie przegap okazji! W Ogrodach Przelewice wiosna nabiera nowego wymiaru. \nInformacje praktyczne: \nWstęp na wystawę gadów i płazów: 10 zł/os.\nWstęp do Oranżerii: 12 zł/os.\nTermin: 1 kwietnia do 30 czerwca 2026\, godz. 9:00 – 17:00 \nDo zobaczenia w Oranżerii! \n \n 
URL:https://infostargard.pl/event/wiosna-pelna-egzotyki-niezwykla-wystawa-w-oranzerii-ogrodow-przelewice/
LOCATION:Ogrody Przelewice – Oranżeria
END:VEVENT
BEGIN:VEVENT
DTSTART;TZID=Europe/Helsinki:20260415T100000
DTEND;TZID=Europe/Helsinki:20260415T100000
DTSTAMP:20260419T172732
CREATED:20260408T142840Z
LAST-MODIFIED:20260408T142840Z
UID:43039-1776247200-1776247200@infostargard.pl
SUMMARY:Marsz 1\,5 % w Stargardzie
DESCRIPTION:
URL:https://infostargard.pl/event/marsz-15-w-stargardzie/
LOCATION:teren przy DKK
END:VEVENT
BEGIN:VEVENT
DTSTART;TZID=Europe/Helsinki:20260415T100000
DTEND;TZID=Europe/Helsinki:20260415T130000
DTSTAMP:20260419T172732
CREATED:20260404T053139Z
LAST-MODIFIED:20260404T053139Z
UID:42678-1776247200-1776258000@infostargard.pl
SUMMARY:Dzień otwarty Państwowej Inspekcji Sanitarnej
DESCRIPTION:
URL:https://infostargard.pl/event/dzien-otwarty-panstwowej-inspekcji-sanitarnej/
LOCATION:teren przy sanepidzie w Stargardzie
END:VEVENT
BEGIN:VEVENT
DTSTART;TZID=Europe/Helsinki:20260415T170000
DTEND;TZID=Europe/Helsinki:20260415T170000
DTSTAMP:20260419T172732
CREATED:20260411T103239Z
LAST-MODIFIED:20260411T103239Z
UID:43293-1776272400-1776272400@infostargard.pl
SUMMARY:Wernisaż wystawy Bożeny Smółki w Kobylance
DESCRIPTION:
URL:https://infostargard.pl/event/wernisaz-wystawy-bozeny-smolki-w-kobylance/
LOCATION:CKiR przy ul. Jeziornej w Kobylance
END:VEVENT
BEGIN:VEVENT
DTSTART;TZID=Europe/Helsinki:20260415T180000
DTEND;TZID=Europe/Helsinki:20260415T180000
DTSTAMP:20260419T172732
CREATED:20260319T080755Z
LAST-MODIFIED:20260319T080925Z
UID:41252-1776276000-1776276000@infostargard.pl
SUMMARY:Alibabki: Kopnięci w czasie
DESCRIPTION:Stargardzkie Centrum Kultury zaprasza na film pt. „Kopnięci w czasie” w ramach comiesięcznych spotkań Alibabki.  \nSeans odbędzie się w środę\, 15 kwietnia o godz. 18\, na Dużej Scenie SCK. Bilety w cenie 40 zł. \nALIBABKI to comiesięczne spotkanie adresowane w szczególności dla kobiet\, choć nie jest to regułą.  Dla wszystkich gwarantujemy dobrą\, nie tylko filmową zabawę. Jest smaczny poczęstunek przygotowany przez naszych Partnerów\, a także prezenty\, vouchery\, zniżki na usługi i zakupy oraz świetny film. \nKinematografia francuska wypuściła do tej pory dwie kultowe komedie o podróży w czasie\, które przejdą do historii kina: „Goście goście” i „Hibernatus”. W tym roku kolej na trzecią: „Kopnięci w czasie”. \nFilm opowiada historię bardzo tradycyjnej\, patriarchalnej\, francuskiej rodziny\, która w 1958 roku wygrywa na loterii pierwszą pralkę automatyczną a podłączając ją zostają „kopnięci” prądem i przeniesieni do czasów współczesnych. Humor\, bardzo zresztą celny i zjadliwy\, uwypukla różnice kulturowe\, kształtujące się na przestrzeni lat w kulturze zachodu: emancypacja\, postęp techniczny itp. Za tłumaczenie odpowiada wybitna tłumaczka literatury francuskie\, Magda Kamińska Maurugeon\, która przetłumaczyła kultowe „Jeszcze dalej niż północ”. \nInf. organizatora
URL:https://infostargard.pl/event/alibabki-kopnieci-w-czasie/
LOCATION:Duża Scena SCK
END:VEVENT
BEGIN:VEVENT
DTSTART;TZID=Europe/Helsinki:20260415T180000
DTEND;TZID=Europe/Helsinki:20260415T190000
DTSTAMP:20260419T172732
CREATED:20260412T081552Z
LAST-MODIFIED:20260412T081552Z
UID:43325-1776276000-1776279600@infostargard.pl
SUMMARY:Mecz I ligi koszykówki PGE Spójnia Stargard – KSK Qemetica Noteć Inowrocław
DESCRIPTION:W dniu 15. kwietnia 2026 r. (środa)\, w Hali OSiR przy ul. Pierwszej Brygady 1 w Stargardzie\, odbędzie się mecz w ramach 33. kolejki I ligi koszykówki\, pomiędzy PGE Spójnia Stargard\, a KSK Qemetica Noteć Inowrocław.
URL:https://infostargard.pl/event/mecz-i-ligi-koszykowki-pge-spojnia-stargard-ksk-qemetica-notec-inowroclaw/
LOCATION:Hala OSiR\, ul. Pierwszej Brygady 1
END:VEVENT
END:VCALENDAR