BEGIN:VCALENDAR
VERSION:2.0
PRODID:-//Info Stargard - ECPv6.15.20//NONSGML v1.0//EN
CALSCALE:GREGORIAN
METHOD:PUBLISH
X-ORIGINAL-URL:https://infostargard.pl
X-WR-CALDESC:Wydarzenia dla Info Stargard
REFRESH-INTERVAL;VALUE=DURATION:PT1H
X-Robots-Tag:noindex
X-PUBLISHED-TTL:PT1H
BEGIN:VTIMEZONE
TZID:Europe/Helsinki
BEGIN:DAYLIGHT
TZOFFSETFROM:+0200
TZOFFSETTO:+0300
TZNAME:EEST
DTSTART:20250330T010000
END:DAYLIGHT
BEGIN:STANDARD
TZOFFSETFROM:+0300
TZOFFSETTO:+0200
TZNAME:EET
DTSTART:20251026T010000
END:STANDARD
BEGIN:DAYLIGHT
TZOFFSETFROM:+0200
TZOFFSETTO:+0300
TZNAME:EEST
DTSTART:20260329T010000
END:DAYLIGHT
BEGIN:STANDARD
TZOFFSETFROM:+0300
TZOFFSETTO:+0200
TZNAME:EET
DTSTART:20261025T010000
END:STANDARD
BEGIN:DAYLIGHT
TZOFFSETFROM:+0200
TZOFFSETTO:+0300
TZNAME:EEST
DTSTART:20270328T010000
END:DAYLIGHT
BEGIN:STANDARD
TZOFFSETFROM:+0300
TZOFFSETTO:+0200
TZNAME:EET
DTSTART:20271031T010000
END:STANDARD
END:VTIMEZONE
BEGIN:VEVENT
DTSTART;TZID=Europe/Helsinki:20260401T090000
DTEND;TZID=Europe/Helsinki:20260630T170000
DTSTAMP:20260419T173522
CREATED:20260403T065200Z
LAST-MODIFIED:20260403T070138Z
UID:42608-1775034000-1782838800@infostargard.pl
SUMMARY:Wiosna pełna egzotyki – niezwykła wystawa w Oranżerii Ogrodów Przelewice
DESCRIPTION:Od 1 kwietnia do 30 czerwca 2026 roku Ogrody Przelewice zapraszają na wyjątkową podróż do świata natury. W Oranżerii pojawiła się fascynująca\, wystawa gadów i płazów\, która pozwoli spojrzeć z bliska na egzotyczne gatunki i poznać ich niezwykłe cechy. \nWystawa jest skierowana zarówno do rodzin z dziećmi\, jak i pasjonatów przyrody. Zwiedzający będą mogli zobaczyć wybrane gatunki\, takie jak kameleon lamparci\, znany z imponującej zdolności zmiany barw\, czy efektowną felsumę madagaskarską\, jedną z najbarwniejszych jaszczurek świata. Wśród mieszkańców ekspozycji znajdą się także anolis olbrzymi\, żaby nadrzewne oraz popularne wśród miłośników terrarystyki drzewołazy. \nNie zabraknie również mniej oczywistych\, ale równie interesujących gatunków np. węża jajojada\, znanego ze swojej wyjątkowej diety\, czy charakterystycznego węża diademowego. Uzupełnieniem ekspozycji będą fascynujące bezkręgowce\, w tym imponujący skorpion leśny. \nWystawa zostanie zaaranżowana w salce edukacyjnej na piętrze Oranżerii\, w sąsiedztwie Skansenu Megalitycznego. \nTo jednak nie wszystko. Od 11 kwietnia w Oranżerii ponownie zagości uwielbiana przez odwiedzających wystawa żywych motyli\, zachwycająca lekkością i bogactwem barw. Stałym elementem Oranżerii pozostaje także świat bezkręgowców\, z takimi gatunkami jak straszyki czy krocionogi\, które odgrywają kluczową rolę w ekosystemach. \nCałość dopełnia imponująca kolekcja roślin tropikalnych\, tworząca spójne\, immersyjne środowisko i pozwalająca jeszcze pełniej zanurzyć się w egzotycznym klimacie. \nTo kompleksowe doświadczenie przyrodnicze łączy edukację z atrakcyjną formą spędzania czasu. Wystawa daje możliwość zobaczenia rzadkich gatunków i poznania ciekawostek z ich życia. \nNie przegap okazji! W Ogrodach Przelewice wiosna nabiera nowego wymiaru. \nInformacje praktyczne: \nWstęp na wystawę gadów i płazów: 10 zł/os.\nWstęp do Oranżerii: 12 zł/os.\nTermin: 1 kwietnia do 30 czerwca 2026\, godz. 9:00 – 17:00 \nDo zobaczenia w Oranżerii! \n \n 
URL:https://infostargard.pl/event/wiosna-pelna-egzotyki-niezwykla-wystawa-w-oranzerii-ogrodow-przelewice/
LOCATION:Ogrody Przelewice – Oranżeria
END:VEVENT
BEGIN:VEVENT
DTSTART;TZID=Europe/Helsinki:20260411T100000
DTEND;TZID=Europe/Helsinki:20260411T180000
DTSTAMP:20260419T173522
CREATED:20260411T083036Z
LAST-MODIFIED:20260411T083332Z
UID:43259-1775901600-1775930400@infostargard.pl
SUMMARY:24. Ogólnopolski Festiwal Piosenki "Dozwolone do lat 19" - przesłuchania
DESCRIPTION:11 kwietnia w SCK odbędzie się 24. edycja Ogólnopolskiego Festiwalu Piosenki „Dozwolone do lat 19”.  \nW sobotę w godz. 10-18 w sali SCK odbędą się przesłuchania konkursowe ponad 100 wokalistów. Jutro\, 12 kwietnia\, koncert galowy i recital Filipa Cembali. Wstęp wolny.
URL:https://infostargard.pl/event/24-ogolnopolski-festiwal-piosenki-dozwolone-do-lat-19-przesluchania/
LOCATION:Duża Scena SCK
END:VEVENT
BEGIN:VEVENT
DTSTART;TZID=Europe/Helsinki:20260411T110000
DTEND;TZID=Europe/Helsinki:20260411T150000
DTSTAMP:20260419T173522
CREATED:20260409T055819Z
LAST-MODIFIED:20260409T055819Z
UID:43064-1775905200-1775919600@infostargard.pl
SUMMARY:Filarowe Laboratorium Rodzinne
DESCRIPTION:
URL:https://infostargard.pl/event/filarowe-laboratorium-rodzinne-2/
LOCATION:SCN Filary
END:VEVENT
BEGIN:VEVENT
DTSTART;TZID=Europe/Helsinki:20260411T110000
DTEND;TZID=Europe/Helsinki:20260411T183000
DTSTAMP:20260419T173522
CREATED:20260410T070655Z
LAST-MODIFIED:20260410T070655Z
UID:43099-1775905200-1775932200@infostargard.pl
SUMMARY:Otwarcie sezonu Ogrodów Przelewice
DESCRIPTION:
URL:https://infostargard.pl/event/otwarcie-sezonu-ogrodow-przelewice/
LOCATION:Ogrody Przelewice
END:VEVENT
BEGIN:VEVENT
DTSTART;TZID=Europe/Helsinki:20260411T120000
DTEND;TZID=Europe/Helsinki:20260411T120000
DTSTAMP:20260419T173522
CREATED:20260408T140659Z
LAST-MODIFIED:20260408T140659Z
UID:43036-1775908800-1775908800@infostargard.pl
SUMMARY:Eko - finał z Miedwianami
DESCRIPTION:Już 11 kwietnia nad jeziorem Miedwie odbędzie się wyjątkowe wydarzenie pod hasłem „Eko-finał z Miedwianami!”. Organizatorzy zapraszają wszystkich mieszkańców\, miłośników przyrody i sympatyków regionu do wspólnej akcji\, której celem jest troska o jedno z najpiękniejszych miejsc w okolicy. \nWydarzenie będzie czymś więcej niż tylko sprzątaniem terenu wokół jeziora. To przede wszystkim okazja do integracji\, rozmowy o ekologii oraz wspólnego działania na rzecz środowiska. W trakcie akcji uczestnicy posprzątają okolice jeziora\, promenady i plaży. Dzięki wspólnemu zaangażowaniu teren wokół Miedwia stanie się jeszcze bardziej przyjazny zarówno mieszkańcom\, jak i odwiedzającym. \nNie zabraknie również części edukacyjnej. Podczas spotkania będzie można porozmawiać o ochronie środowiska\, zasadach recyklingu i codziennych działaniach\, które pomagają dbać o naturę. Organizatorzy przygotowali także plenerowe warsztaty związane z ochroną przyrody. \nSzczególnym punktem programu będzie finał konkursu plastycznego „Nasza Ziemia\, nasze Miedwie”. Do udziału w wydarzeniu zaproszeni są członkowie klubu\, mieszkańcy Stargardu i gminy Kobylanka\, zaprzyjaźnione kluby morsowe oraz wszyscy\, którym bliska jest natura i jezioro Miedwie. \nOrganizatorzy podkreślają\, że Miedwie to nie tylko miejsce wypoczynku i kąpieli\, ale również przestrzeń\, o którą warto wspólnie dbać. Wspólna obecność i zaangażowanie mogą być najlepszym dowodem na to\, że los lokalnego środowiska nie jest mieszkańcom obojętny. \nSpotkanie odbędzie się w sobotę\, 11 kwietnia. To doskonała okazja\, aby zrobić coś dobrego dla przyrody i spędzić czas w gronie osób\, którym zależy na przyszłości jeziora Miedwie.
URL:https://infostargard.pl/event/eko-final-z-miedwianami/
LOCATION:Morzyczyn nad Miedwiem
END:VEVENT
BEGIN:VEVENT
DTSTART;TZID=Europe/Helsinki:20260411T120000
DTEND;TZID=Europe/Helsinki:20260411T120000
DTSTAMP:20260419T173522
CREATED:20260411T083848Z
LAST-MODIFIED:20260411T083848Z
UID:43265-1775908800-1775908800@infostargard.pl
SUMMARY:Spacer wokół jeziora Kamienny Most i wiosenne sprzątanie
DESCRIPTION:
URL:https://infostargard.pl/event/spacer-wokol-jeziora-kamienny-most-i-wiosenne-sprzatanie/
LOCATION:zbiórka – zejscie do jeziora od strony Lublina
END:VEVENT
BEGIN:VEVENT
DTSTART;TZID=Europe/Helsinki:20260411T120000
DTEND;TZID=Europe/Helsinki:20260411T180000
DTSTAMP:20260419T173522
CREATED:20260409T055459Z
LAST-MODIFIED:20260409T055459Z
UID:43056-1775908800-1775930400@infostargard.pl
SUMMARY:„Stargardzkie Wędrówki” – demo prezentacja gry i ostatnia szansa na zakup cegiełki i własnego egzemplarza
DESCRIPTION:Stargardzkie Centrum Nauki Filary zaprasza miłośników planszówek.  Czeka na Was biblioteczka pełna gier i okazja do wspólnego grania w doskonałej atmosferze.\n\nCzy można zamknąć Stargard w pudełku? Okazuje się\, że tak – i to w wyjątkowy sposób. „Stargardzkie Wędrówki” to autorska gra planszowa stworzona przez uczniów Szkoły Podstawowej nr 6 we współpracy z edukatorami Stargardzkiego Centrum Nauki FILARY. Projekt powstał podczas warsztatów sfinansowanych przez Rotary Club Stargard i jest efektem wielu miesięcy pracy\, kreatywności oraz zaangażowania młodych mieszkańców. Twórcy postanowili opowiedzieć o swoim mieście poprzez historię\, ciekawostki i lokalne inspiracje. Dzięki temu powstała wyjątkowa planszówka\, która ma nie tylko bawić\, ale również przybliżać Stargard i budować więź z lokalną społecznością.Gotowa gra ma bezpłatnie trafić do młodzieży\, szkół\, miejskich instytucji\, a także do wszystkich osób\, które uczestniczyły w jej tworzeniu. Aby jednak było to możliwe\, projekt wchodzi teraz w najważniejszy etap – wydanie gry. Każdy może stać się częścią tego przedsięwzięcia. Wystarczy kupić voucher-cegiełkę o wartości 200 zł. To nie tylko wsparcie realizacji projektu\, ale również gwarancja otrzymania własnego egzemplarza gry. Sprzedaż voucherów już ruszyła. \nZakupu można dokonać: \n-online na stronie: bilety.scn-filary.pl \n-stacjonarnie w kasie SCN FILARY przy ul. Bolesława Chrobrego 21 \nDo wsparcia projektu zachęcane są zarówno osoby prywatne\, jak i firmy. Specjalne vouchery można kupić również w sklepiku SCN FILARY\, dorzucić swoją cegiełkę podczas kiermaszu wielkanocnego w Szkole Podstawowej nr 6 lub skontaktować się bezpośrednio z FILARAMI\, aby ustalić szczegóły wsparcia. \nKażda przekazana cegiełka przybliża moment\, w którym „Stargardzkie Wędrówki” trafią do mieszkańców i staną się częścią lokalnej tożsamości. Osoby\, które chciałyby zobaczyć planszówkę w praktyce\, będą miały taką okazję podczas wydarzenia Wiosenne FILA[G]RY. \nBilet: 5 zł za cały dzień grania \nBilety są dostępne online oraz w sklepiku SCN FILARY.
URL:https://infostargard.pl/event/stargardzkie-wedrowki-demo-prezentacja-gry-i-ostatnia-szansa-na-zakup-cegielki-i-wlasnego-egzemplarza/
LOCATION:SCN Filary
END:VEVENT
BEGIN:VEVENT
DTSTART;TZID=Europe/Helsinki:20260411T150000
DTEND;TZID=Europe/Helsinki:20260411T150000
DTSTAMP:20260419T173522
CREATED:20260404T052711Z
LAST-MODIFIED:20260404T062817Z
UID:42673-1775919600-1775919600@infostargard.pl
SUMMARY:Wiosenne Ognisko w Dzwonowie z Moto Zającami
DESCRIPTION:
URL:https://infostargard.pl/event/wiosenne-ognisko-w-dzwonowie/
LOCATION:plac zabaw w Dzwonowie
END:VEVENT
BEGIN:VEVENT
DTSTART;TZID=Europe/Helsinki:20260411T190000
DTEND;TZID=Europe/Helsinki:20260411T190000
DTSTAMP:20260419T173522
CREATED:20260403T122501Z
LAST-MODIFIED:20260403T122830Z
UID:42664-1775934000-1775934000@infostargard.pl
SUMMARY:Wieczór z klasyką i przebojami. Mazurek i Alex Marek Band w Stargardzie
DESCRIPTION:W sobotę\, 11 kwietnia w Caffe Południk Music Club w Stargardzie odbędzie się koncert Tomasza Mazurka oraz zespołu Alex Marek Band.  \nWydarzenie rozpocznie się o godz. 19. Artyści zapowiadają muzyczną podróż pełną znanych melodii i koncertowej energii. W repertuarze znajdą się utwory takich wykonawców jak: Krzysztof Krawczyk\, Zbigniew Wodecki\, Maciej Maleńczuk\, Frank Sinatra\, Andrea Bocelli\, II Volo. \nNa scenie wystąpi Tomasz Mazurek – wokalista i saksofonista wraz z zespołem\, którego liderem jest pianista Alex Marek. Towarzyszyć im będą także Janusz Kanapa (kontrabas) oraz Tomasz Nowak (perkusja). \nBilety w cenie 60 zł. Rezerwacja pod nr tel. 797 222 269.
URL:https://infostargard.pl/event/wieczor-z-klasyka-i-przebojami-mazurek-i-alex-marek-band-w-stargardzie/
LOCATION:Caffe Południk Music Club Bornholmska 48\, Stargard
END:VEVENT
END:VCALENDAR