BEGIN:VCALENDAR
VERSION:2.0
PRODID:-//Info Stargard - ECPv6.15.20//NONSGML v1.0//EN
CALSCALE:GREGORIAN
METHOD:PUBLISH
X-ORIGINAL-URL:https://infostargard.pl
X-WR-CALDESC:Wydarzenia dla Info Stargard
REFRESH-INTERVAL;VALUE=DURATION:PT1H
X-Robots-Tag:noindex
X-PUBLISHED-TTL:PT1H
BEGIN:VTIMEZONE
TZID:Europe/Helsinki
BEGIN:DAYLIGHT
TZOFFSETFROM:+0200
TZOFFSETTO:+0300
TZNAME:EEST
DTSTART:20250330T010000
END:DAYLIGHT
BEGIN:STANDARD
TZOFFSETFROM:+0300
TZOFFSETTO:+0200
TZNAME:EET
DTSTART:20251026T010000
END:STANDARD
BEGIN:DAYLIGHT
TZOFFSETFROM:+0200
TZOFFSETTO:+0300
TZNAME:EEST
DTSTART:20260329T010000
END:DAYLIGHT
BEGIN:STANDARD
TZOFFSETFROM:+0300
TZOFFSETTO:+0200
TZNAME:EET
DTSTART:20261025T010000
END:STANDARD
BEGIN:DAYLIGHT
TZOFFSETFROM:+0200
TZOFFSETTO:+0300
TZNAME:EEST
DTSTART:20270328T010000
END:DAYLIGHT
BEGIN:STANDARD
TZOFFSETFROM:+0300
TZOFFSETTO:+0200
TZNAME:EET
DTSTART:20271031T010000
END:STANDARD
END:VTIMEZONE
BEGIN:VEVENT
DTSTART;TZID=Europe/Helsinki:20260401T090000
DTEND;TZID=Europe/Helsinki:20260630T170000
DTSTAMP:20260419T173524
CREATED:20260403T065200Z
LAST-MODIFIED:20260403T070138Z
UID:42608-1775034000-1782838800@infostargard.pl
SUMMARY:Wiosna pełna egzotyki – niezwykła wystawa w Oranżerii Ogrodów Przelewice
DESCRIPTION:Od 1 kwietnia do 30 czerwca 2026 roku Ogrody Przelewice zapraszają na wyjątkową podróż do świata natury. W Oranżerii pojawiła się fascynująca\, wystawa gadów i płazów\, która pozwoli spojrzeć z bliska na egzotyczne gatunki i poznać ich niezwykłe cechy. \nWystawa jest skierowana zarówno do rodzin z dziećmi\, jak i pasjonatów przyrody. Zwiedzający będą mogli zobaczyć wybrane gatunki\, takie jak kameleon lamparci\, znany z imponującej zdolności zmiany barw\, czy efektowną felsumę madagaskarską\, jedną z najbarwniejszych jaszczurek świata. Wśród mieszkańców ekspozycji znajdą się także anolis olbrzymi\, żaby nadrzewne oraz popularne wśród miłośników terrarystyki drzewołazy. \nNie zabraknie również mniej oczywistych\, ale równie interesujących gatunków np. węża jajojada\, znanego ze swojej wyjątkowej diety\, czy charakterystycznego węża diademowego. Uzupełnieniem ekspozycji będą fascynujące bezkręgowce\, w tym imponujący skorpion leśny. \nWystawa zostanie zaaranżowana w salce edukacyjnej na piętrze Oranżerii\, w sąsiedztwie Skansenu Megalitycznego. \nTo jednak nie wszystko. Od 11 kwietnia w Oranżerii ponownie zagości uwielbiana przez odwiedzających wystawa żywych motyli\, zachwycająca lekkością i bogactwem barw. Stałym elementem Oranżerii pozostaje także świat bezkręgowców\, z takimi gatunkami jak straszyki czy krocionogi\, które odgrywają kluczową rolę w ekosystemach. \nCałość dopełnia imponująca kolekcja roślin tropikalnych\, tworząca spójne\, immersyjne środowisko i pozwalająca jeszcze pełniej zanurzyć się w egzotycznym klimacie. \nTo kompleksowe doświadczenie przyrodnicze łączy edukację z atrakcyjną formą spędzania czasu. Wystawa daje możliwość zobaczenia rzadkich gatunków i poznania ciekawostek z ich życia. \nNie przegap okazji! W Ogrodach Przelewice wiosna nabiera nowego wymiaru. \nInformacje praktyczne: \nWstęp na wystawę gadów i płazów: 10 zł/os.\nWstęp do Oranżerii: 12 zł/os.\nTermin: 1 kwietnia do 30 czerwca 2026\, godz. 9:00 – 17:00 \nDo zobaczenia w Oranżerii! \n \n 
URL:https://infostargard.pl/event/wiosna-pelna-egzotyki-niezwykla-wystawa-w-oranzerii-ogrodow-przelewice/
LOCATION:Ogrody Przelewice – Oranżeria
END:VEVENT
BEGIN:VEVENT
DTSTART;TZID=Europe/Helsinki:20260408T170000
DTEND;TZID=Europe/Helsinki:20260408T170000
DTSTAMP:20260419T173524
CREATED:20260328T071737Z
LAST-MODIFIED:20260402T142936Z
UID:42103-1775667600-1775667600@infostargard.pl
SUMMARY:DooKOŁA z Moniką Witkowską
DESCRIPTION:Już w środę\, 8 kwietnia 2026 roku o godzinie 17:00\, odbędzie się kolejne spotkanie z cyklu DooKOŁA\, które z pewnością przyciągnie miłośników podróży\, gór i inspirujących historii. Tym razem gościem wydarzenia będzie wyjątkowa postać – Monika Witkowska\, znana podróżniczka\, himalaistka i autorka książek. \nMonika Witkowska to osoba o imponującym dorobku. Odwiedziła około 180 krajów na całym świecie\, zdobyła najwyższe szczyty globu\, w tym legendarny Mount Everest\, a także zapisała się w historii jako druga Polka\, która stanęła na szczycie K2. Jej osiągnięcia nie kończą się jednak na górach – opłynęła również słynny Przylądek Horn i przemierzyła oceany\, podejmując wyzwania\, które dla wielu pozostają jedynie marzeniem. \nSpotkania z Moniką Witkowską to coś więcej niż zwykłe relacje z podróży. To pełne pasji opowieści o odwadze\, determinacji i przekraczaniu własnych granic. To także okazja\, by spojrzeć na świat z zupełnie innej perspektywy – oczami osoby\, która doświadczyła miejsc i sytuacji\, o jakich nie przeczytamy w typowych przewodnikach. \nWydarzenie odbędzie się w Wypożyczalni Głównej\, a udział w nim jest całkowicie bezpłatny. Spotkanie organizowane jest w ramach cyklu DooKoła\, we współpracy z firmą Bridgestone. \nTo doskonała propozycja dla wszystkich\, którzy marzą o wielkich wyprawach\, kochają góry lub po prostu szukają inspiracji do działania. Tego spotkania zdecydowanie nie warto przegapić.
URL:https://infostargard.pl/event/dookola-z-monika-witkowska/
LOCATION:Czytelnia Główna Książnicy Stargardzkiej
END:VEVENT
END:VCALENDAR