BEGIN:VCALENDAR
VERSION:2.0
PRODID:-//Info Stargard - ECPv6.15.20//NONSGML v1.0//EN
CALSCALE:GREGORIAN
METHOD:PUBLISH
X-ORIGINAL-URL:https://infostargard.pl
X-WR-CALDESC:Wydarzenia dla Info Stargard
REFRESH-INTERVAL;VALUE=DURATION:PT1H
X-Robots-Tag:noindex
X-PUBLISHED-TTL:PT1H
BEGIN:VTIMEZONE
TZID:Europe/Helsinki
BEGIN:DAYLIGHT
TZOFFSETFROM:+0200
TZOFFSETTO:+0300
TZNAME:EEST
DTSTART:20250330T010000
END:DAYLIGHT
BEGIN:STANDARD
TZOFFSETFROM:+0300
TZOFFSETTO:+0200
TZNAME:EET
DTSTART:20251026T010000
END:STANDARD
BEGIN:DAYLIGHT
TZOFFSETFROM:+0200
TZOFFSETTO:+0300
TZNAME:EEST
DTSTART:20260329T010000
END:DAYLIGHT
BEGIN:STANDARD
TZOFFSETFROM:+0300
TZOFFSETTO:+0200
TZNAME:EET
DTSTART:20261025T010000
END:STANDARD
BEGIN:DAYLIGHT
TZOFFSETFROM:+0200
TZOFFSETTO:+0300
TZNAME:EEST
DTSTART:20270328T010000
END:DAYLIGHT
BEGIN:STANDARD
TZOFFSETFROM:+0300
TZOFFSETTO:+0200
TZNAME:EET
DTSTART:20271031T010000
END:STANDARD
END:VTIMEZONE
BEGIN:VEVENT
DTSTART;TZID=Europe/Helsinki:20260327T000000
DTEND;TZID=Europe/Helsinki:20260403T000000
DTSTAMP:20260419T173524
CREATED:20260325T095207Z
LAST-MODIFIED:20260325T095311Z
UID:41918-1774569600-1775174400@infostargard.pl
SUMMARY:Jarmark Wielkanocny w Galerii Handlowej Starówka
DESCRIPTION:Galeria Handlowa Starówka zaprasza mieszkańców na Jarmark Wielkanocny\, który potrwa od 27 marca do 3 kwietnia.  \nNa odwiedzających czekać będzie: \n\nrękodzieło artystyczne\,\nnaturalne miody\,\nmakramy\,\nobrazy\,\noraz wiele innych wyjątkowych produktów.\n\n– To idealna okazja\, aby znaleźć piękne dekoracje i oryginalne prezenty na Wielkanoc! – zachęcają organizatorzy. – Zapraszamy! Więcej informacji pod nr tel. 535 167 476. 
URL:https://infostargard.pl/event/jarmark-wielkanocny-w-galerii-handlowej-starowka/
LOCATION:Galeria Handlowa Starówka
END:VEVENT
BEGIN:VEVENT
DTSTART;TZID=Europe/Helsinki:20260401T090000
DTEND;TZID=Europe/Helsinki:20260630T170000
DTSTAMP:20260419T173524
CREATED:20260403T065200Z
LAST-MODIFIED:20260403T070138Z
UID:42608-1775034000-1782838800@infostargard.pl
SUMMARY:Wiosna pełna egzotyki – niezwykła wystawa w Oranżerii Ogrodów Przelewice
DESCRIPTION:Od 1 kwietnia do 30 czerwca 2026 roku Ogrody Przelewice zapraszają na wyjątkową podróż do świata natury. W Oranżerii pojawiła się fascynująca\, wystawa gadów i płazów\, która pozwoli spojrzeć z bliska na egzotyczne gatunki i poznać ich niezwykłe cechy. \nWystawa jest skierowana zarówno do rodzin z dziećmi\, jak i pasjonatów przyrody. Zwiedzający będą mogli zobaczyć wybrane gatunki\, takie jak kameleon lamparci\, znany z imponującej zdolności zmiany barw\, czy efektowną felsumę madagaskarską\, jedną z najbarwniejszych jaszczurek świata. Wśród mieszkańców ekspozycji znajdą się także anolis olbrzymi\, żaby nadrzewne oraz popularne wśród miłośników terrarystyki drzewołazy. \nNie zabraknie również mniej oczywistych\, ale równie interesujących gatunków np. węża jajojada\, znanego ze swojej wyjątkowej diety\, czy charakterystycznego węża diademowego. Uzupełnieniem ekspozycji będą fascynujące bezkręgowce\, w tym imponujący skorpion leśny. \nWystawa zostanie zaaranżowana w salce edukacyjnej na piętrze Oranżerii\, w sąsiedztwie Skansenu Megalitycznego. \nTo jednak nie wszystko. Od 11 kwietnia w Oranżerii ponownie zagości uwielbiana przez odwiedzających wystawa żywych motyli\, zachwycająca lekkością i bogactwem barw. Stałym elementem Oranżerii pozostaje także świat bezkręgowców\, z takimi gatunkami jak straszyki czy krocionogi\, które odgrywają kluczową rolę w ekosystemach. \nCałość dopełnia imponująca kolekcja roślin tropikalnych\, tworząca spójne\, immersyjne środowisko i pozwalająca jeszcze pełniej zanurzyć się w egzotycznym klimacie. \nTo kompleksowe doświadczenie przyrodnicze łączy edukację z atrakcyjną formą spędzania czasu. Wystawa daje możliwość zobaczenia rzadkich gatunków i poznania ciekawostek z ich życia. \nNie przegap okazji! W Ogrodach Przelewice wiosna nabiera nowego wymiaru. \nInformacje praktyczne: \nWstęp na wystawę gadów i płazów: 10 zł/os.\nWstęp do Oranżerii: 12 zł/os.\nTermin: 1 kwietnia do 30 czerwca 2026\, godz. 9:00 – 17:00 \nDo zobaczenia w Oranżerii! \n \n 
URL:https://infostargard.pl/event/wiosna-pelna-egzotyki-niezwykla-wystawa-w-oranzerii-ogrodow-przelewice/
LOCATION:Ogrody Przelewice – Oranżeria
END:VEVENT
BEGIN:VEVENT
DTSTART;TZID=Europe/Helsinki:20260401T100000
DTEND;TZID=Europe/Helsinki:20260401T100000
DTSTAMP:20260419T173524
CREATED:20260325T110247Z
LAST-MODIFIED:20260325T110621Z
UID:41949-1775037600-1775037600@infostargard.pl
SUMMARY:VI Marsz dla Autyzmu
DESCRIPTION:W środę\, 1 kwietnia o godz. 10 w Stargardzie\, odbędzie się VI Marsz dla Autyzmu.  \nZbiórka przy ul. Kardynała Wyszyńskiego (obok banku PKO BP). \n– Zabierz ze sobą niebieski akcent i bądź z nami! – zachęcają organizatorzy. – Razem budujmy świat bardziej otwarty\, świadomy i przyjazny dla wszystkich. \nKwiecień rozświetla się na niebiesko. To wyjątkowy czas budowania świadomości\, zrozumienia i akceptacji dla osób w spektrum autyzmu oraz ich rodzin. \nW tym szczególnym miesiącu: \n\nszerzymy wiedzę na temat autyzmu\,\nprzełamujemy stereotypy\,\npromujemy empatię i wrażliwość społeczną\,\npokazujemy\, że różnorodność jest wartością.\n\nDla przypomnienia: \nAutyzm to nie choroba – to odmienny sposób postrzegania świata\, komunikowania się i odczuwania emocji. Osoby w spektrum mają swoje talenty\, pasje i ogromny potencjał\, który rozkwita w atmosferze akceptacji i wsparcia. Zachęcamy do włączenia się w obchody Niebieskiego Kwietnia – poprzez udział w wydarzeniach\, udostępnianie informacji\, założenie niebieskiego stroju czy symboliczne „zaświecenie się na niebiesko”. \nRazem budujmy świat bardziej otwarty\, świadomy i przyjazny dla wszystkich. \nW związku z tym\, że czas pędzi jak szalony… Już dziś chcemy serdecznie zaprosić do udziału w VI MARSZU DLA AUTYZMU aby solidarnie z osobami w spektrum promować wszystko to\, co w kwestii ASD przynosi nam miesiąc kwiecień. \nInf. organizatora
URL:https://infostargard.pl/event/vi-marsz-dla-autyzmu/
LOCATION:Zbiórka – ul. Kard. Wyszyńskiego\, obok banku PKO BP
END:VEVENT
END:VCALENDAR