BEGIN:VCALENDAR
VERSION:2.0
PRODID:-//Info Stargard - ECPv6.15.20//NONSGML v1.0//EN
CALSCALE:GREGORIAN
METHOD:PUBLISH
X-ORIGINAL-URL:https://infostargard.pl
X-WR-CALDESC:Wydarzenia dla Info Stargard
REFRESH-INTERVAL;VALUE=DURATION:PT1H
X-Robots-Tag:noindex
X-PUBLISHED-TTL:PT1H
BEGIN:VTIMEZONE
TZID:Europe/Helsinki
BEGIN:DAYLIGHT
TZOFFSETFROM:+0200
TZOFFSETTO:+0300
TZNAME:EEST
DTSTART:20250330T010000
END:DAYLIGHT
BEGIN:STANDARD
TZOFFSETFROM:+0300
TZOFFSETTO:+0200
TZNAME:EET
DTSTART:20251026T010000
END:STANDARD
BEGIN:DAYLIGHT
TZOFFSETFROM:+0200
TZOFFSETTO:+0300
TZNAME:EEST
DTSTART:20260329T010000
END:DAYLIGHT
BEGIN:STANDARD
TZOFFSETFROM:+0300
TZOFFSETTO:+0200
TZNAME:EET
DTSTART:20261025T010000
END:STANDARD
BEGIN:DAYLIGHT
TZOFFSETFROM:+0200
TZOFFSETTO:+0300
TZNAME:EEST
DTSTART:20270328T010000
END:DAYLIGHT
BEGIN:STANDARD
TZOFFSETFROM:+0300
TZOFFSETTO:+0200
TZNAME:EET
DTSTART:20271031T010000
END:STANDARD
END:VTIMEZONE
BEGIN:VEVENT
DTSTART;TZID=Europe/Helsinki:20260327T000000
DTEND;TZID=Europe/Helsinki:20260403T000000
DTSTAMP:20260419T173520
CREATED:20260325T095207Z
LAST-MODIFIED:20260325T095311Z
UID:41918-1774569600-1775174400@infostargard.pl
SUMMARY:Jarmark Wielkanocny w Galerii Handlowej Starówka
DESCRIPTION:Galeria Handlowa Starówka zaprasza mieszkańców na Jarmark Wielkanocny\, który potrwa od 27 marca do 3 kwietnia.  \nNa odwiedzających czekać będzie: \n\nrękodzieło artystyczne\,\nnaturalne miody\,\nmakramy\,\nobrazy\,\noraz wiele innych wyjątkowych produktów.\n\n– To idealna okazja\, aby znaleźć piękne dekoracje i oryginalne prezenty na Wielkanoc! – zachęcają organizatorzy. – Zapraszamy! Więcej informacji pod nr tel. 535 167 476. 
URL:https://infostargard.pl/event/jarmark-wielkanocny-w-galerii-handlowej-starowka/
LOCATION:Galeria Handlowa Starówka
END:VEVENT
BEGIN:VEVENT
DTSTART;TZID=Europe/Helsinki:20260328T110000
DTEND;TZID=Europe/Helsinki:20260329T180000
DTSTAMP:20260419T173520
CREATED:20260305T123101Z
LAST-MODIFIED:20260326T090709Z
UID:40164-1774695600-1774807200@infostargard.pl
SUMMARY:Festiwal Nowoczesnych Technologii FEST TECH - SCN Filary
DESCRIPTION:Ostatni weekend marca należeć będzie do fanów nowoczesnych technologii. Festiwal Nowoczesnych Technologii FEST TECH w stargardzkich Filarach to okazja\, by zobaczyć\, jak rozwiązania jutra zmieniają nasze codzienne życie. \n28 i 29 marca w godzinach 11 -18 Stargardzkie Centrum Nauki FILARY stanie się miejscem spotkań pasjonatów innowacji\, edukacji i nowych mediów. Organizatorzy przygotowali bogaty program pełen prelekcji\, warsztatów oraz interaktywnych pokazów\, które pozwolą uczestnikom zanurzyć się w świecie technologii. Festiwal oferuje różnorodne prelekcje i warsztaty prowadzone przez ekspertów oraz przedstawicieli instytucji i firm związanych z nowoczesnymi technologiami. \nW sobotę uczestnicy dowiedzą się m.in.\, jak zadbać o bezpieczeństwo w sieci dzięki prelekcji przygotowanej przez Urząd Komunikacji Elektronicznej. Temat dezinformacji i manipulacji w internecie przybliży Zachodniopomorska Szkoła Biznesu podczas wystąpienia o fake newsach i deepfake’ach. Z kolei Technopark Pomerania zaprosi uczestników na warsztaty pokazujące\, jak wykorzystać smartfon jako narzędzie do tworzenia filmów oraz jak wygląda fotografia w erze sztucznej inteligencji. \nNiedziela przyniesie kolejne inspirujące spotkania – od personalizacji przestrzeni w biznesie z firmą Vertipen\, po warsztaty technologiczne przygotowane przez Zespół Szkół nr 1 im. Mieszka I w Stargardzie. Nie zabraknie także prezentacji nowoczesnych narzędzi edukacyjnych\, w tym rozwiązań opartych na klockach LEGO. \nOprócz części wykładowej organizatorzy przygotowali strefy tematyczne dostępne przez oba dni festiwalu. Odwiedzający będą mogli skorzystać ze strefy VR\, sprawdzić\, jak rozwijały się technologie gamingowe\, a także zobaczyć nowoczesne rozwiązania edukacyjne i projekty uczniowskie. \nNa szczególną uwagę zasługują prezentacje programowania dla najmłodszych\, pokazy samochodów wodorowych przygotowane przez Centrum Nauki w Sianowie\, a także niedzielne warsztaty druku 3D prowadzone przez 3D Edukacja. Miłośnicy gier komputerowych będą mogli zobaczyć projekty tworzone przez studentów Akademia Sztuki w Szczecinie. \nFEST TECH to wydarzenie skierowane do szerokiego grona odbiorców – zarówno osób interesujących się technologią\, jak i rodzin z dziećmi. Specjalna strefa dla najmłodszych pozwoli w przystępny sposób zapoznać się z nowoczesnymi rozwiązaniami\, łącząc naukę z zabawą. \nJak wziąć udział? \nBilety na wydarzenie można kupić online lub bezpośrednio w kasie centrum nauki. Organizatorzy zachęcają również do zapisania się na wydarzenie i zaproszenia znajomych\, aby wspólnie odkrywać świat technologii. \nFEST TECH to nie tylko okazja do zdobycia wiedzy\, ale przede wszystkim do doświadczenia technologii w praktyce. To wydarzenie pokazuje\, że przyszłość dzieje się tu i teraz – i każdy może stać się jej częścią. \n  \n \n 
URL:https://infostargard.pl/event/festiwal-nowoczesnych-technologii-fest-tech-scn-filary/
LOCATION:SCN Filary
END:VEVENT
BEGIN:VEVENT
DTSTART;TZID=Europe/Helsinki:20260329T110000
DTEND;TZID=Europe/Helsinki:20260329T130000
DTSTAMP:20260419T173520
CREATED:20260325T113404Z
LAST-MODIFIED:20260325T114034Z
UID:41961-1774782000-1774789200@infostargard.pl
SUMMARY:Jarmark Wielkanocny "Złote Jajo"
DESCRIPTION:Sołectwo Morzyczyn zaprasza na Jarmark Wielkanocny „Złote Jajo”\, który odbędzie się w niedzielę palmową\, 29 marca w świetlicy w Morzyczynie.  \nOd godz. 11 będzie można skosztować wielkanocnych przysmaków – wypieki\, żurek\, biała kiełbasa. \nOrganizatorzy zachęcają do udziału w konkursie na „Najpiękniejszą\, ręcznie zdobioną\, naturalną pisankę/kraszankę/drapankę”. Konkurs ma na celu popularyzację i promocję wyrobów tradycyjnych kultury ludowej i regionalnej oraz wymianę doświadczeń mieszkańców na terenie działalności KGW Morzyczyn Zieleniewo. \nRegulamin konkursu: \n\nOrganizatorem konkursu jest KGW Morzyczyn Zieleniewo.\nKonkurs odbędzie się dnia 29 marca 2026 r.\, Niedziela Palmowa\, w świetlicy wiejskiej w Morzyczynie\, ul. Oświaty 1\, podczas Jarmarku Wielkanocnego „Złote Jajo”.\nW konkursie może wziąć udział każdy uczestnik Jarmarku.\nJeden uczestnik może zgłosić do konkursu tylko jeden eskponat.\nPisanka/kraszanka/drapanka powinna być wykonana na naturalnym jaju\, dowolnej wielkości.\nEksponat należy dostarczyć w dniu Jarmarku w godz. 11:00-11:30 do organizatorów Jarmarku w świetlicy wiejskiej w Morzyczynie\, ul. Oświaty 1.\n\n6a. Ogłoszenie wyników nastąpi o 12:30. \n\nUczestnicy konkursu przygotowują eksponaty na własny koszt.\nKażdy eksponat będzie oceniany przez Jury pod względem:  estetyki\, trudności wykonania\, oryginalności\, tradycyjności\, wrażenia ogólnego.\nOceny eksponatów dokona komisja konkursowa składająca się z przedstawicieli fundatorów nagród: sołectw Morzyczyn i Zieleniewo oraz Organizatora\nNagrody zostaną przyznane za zajęcie pierwszych trzech miejsc.\nWszystkie kwestie\, których nie obejmuje regulamin rozstrzyga Organizator.\n\nInf. organizatora
URL:https://infostargard.pl/event/jarmark-wielkanocny-zlote-jajo/
LOCATION:Koło Gospodyń Wiejskich Morzyczyn-Zieleniewo
END:VEVENT
BEGIN:VEVENT
DTSTART;TZID=Europe/Helsinki:20260329T120000
DTEND;TZID=Europe/Helsinki:20260329T120000
DTSTAMP:20260419T173520
CREATED:20260325T090249Z
LAST-MODIFIED:20260325T090438Z
UID:41890-1774785600-1774785600@infostargard.pl
SUMMARY:Kinomaniaki: Paddington w Peru
DESCRIPTION:Stargardzkie Centrum Kultury zaprasza na film przygodowy pt. „Paddington w Peru” w ramach wspólnej inicjatywy Prezydenta Stargardu i SCK – Stargardzkie Dzieciaki Kinomaniaki.  \nRaz w miesiącu\, w niedzielę o 12\, wyświetlany jest specjalny seans dla dzieci z biletami dla każdego za 1 zł. Bilety do kupienia wyłącznie w kasie kina SCK na dwie godziny przed seansem. \nSeans odbędzie się 29 marca. \nKochający komediowe zamieszanie\, uwielbiany na całym świecie i zawsze pragnący marmolady miś Paddington powraca z trzecią i zarazem największą przygodą w całym swoim misiowym życiu! Tym razem ten odziany w niebieski płaszczyk i czerwony kapelusz bohater wraz ze swoją ludzką rodziną uda się na zbadanie tajemnic samego serca dżungli w Peru. Na tę przygodę jedna kanapka z marmoladą na pewno nie wystarczy! ​ \nMiś Paddington wraz z rodziną Brownów postanawia wyruszyć w daleką podróż do Ameryki Południowej\, a dokładniej do Peru\, aby odwiedzić swoją ukochaną ciocię Lucy. W tym celu wszyscy udają się do umieszczonego nieopodal lasu deszczowego Domu dla Emerytowanych Niedźwiedzi. To jednak dopiero początek niezwykle ekscytującej przygody\, w trakcie której odkryją wiele tajemnic. Przed nimi podróż życia\, która poprowadzi ich od amazońskiej dżungli aż po górskie szczyty Peru! \nInf. organizatora
URL:https://infostargard.pl/event/41890/
LOCATION:Duża Scena SCK
END:VEVENT
BEGIN:VEVENT
DTSTART;TZID=Europe/Helsinki:20260329T130000
DTEND;TZID=Europe/Helsinki:20260329T130000
DTSTAMP:20260419T173520
CREATED:20260306T082624Z
LAST-MODIFIED:20260306T085357Z
UID:40247-1774789200-1774789200@infostargard.pl
SUMMARY:Zabawa Wielkanocna w Kobylance
DESCRIPTION:
URL:https://infostargard.pl/event/zabawa-wielkanocna-w-kobylance/
LOCATION:CKiR przy ul. Jeziornej w Kobylance
END:VEVENT
BEGIN:VEVENT
DTSTART;TZID=Europe/Helsinki:20260329T170000
DTEND;TZID=Europe/Helsinki:20260329T170000
DTSTAMP:20260419T173520
CREATED:20260219T113444Z
LAST-MODIFIED:20260219T113632Z
UID:38857-1774803600-1774803600@infostargard.pl
SUMMARY:Koncert Whitney Houston vs Céline Dion w SCK
DESCRIPTION:Stargardzkie Centrum Kultury zaprasza na niezwykły koncert z piosenkami Whitney Houston i Celine Dion w wykonaniu młodych\, utalentowanych artystek. \nKoncert odbędzie się w niedzielę\, 29 marca o godz. 17\, na Dużej Scenie SCK. Bilety od 30 do 50 zł dostępne w kasie kina lub online na stronie. \nLegendarne utwory dwóch ikon światowej muzyki wykonają młode wokalistki\, jedne z najlepszych głosów\, jakie pojawiły się na polskich scenach w ostatnich latach. Artystki nie tylko oddadzą hołd wielkim divom\, ale również zmierzą się ze sobą w emocjonującej\, scenicznej rywalizacji\, prezentując własne interpretacje kultowych hitów. \nW koncercie wystąpią: Oliwia Szynaka\, Małgorzata Nowak\, Amelia Traczyk\, Zofia Rosińska\, Muffinki\, Martyna Tańsa\, Maja Piekarska\, Amelia Pędzik\, Lena Pędzik\, Bartosz Traczyk\, Hanna Subocz\, Karina Maślanka. \nZespół muzyczny pod kier. Alexa Marka. \nAlex Marek – piano\, kierownik zespołu\nWaldemar Zieliński – gitara\nJanusz Kanapa Jędrzejewski – bas\nEmil Centkiewicz – sax\nDariusz Kamiński – bębny \nInf. organizatora
URL:https://infostargard.pl/event/koncert-whitney-houston-vs-celine-dion/
LOCATION:Duża Scena SCK
END:VEVENT
END:VCALENDAR