BEGIN:VCALENDAR
VERSION:2.0
PRODID:-//Info Stargard - ECPv6.15.20//NONSGML v1.0//EN
CALSCALE:GREGORIAN
METHOD:PUBLISH
X-WR-CALNAME:Info Stargard
X-ORIGINAL-URL:https://infostargard.pl
X-WR-CALDESC:Wydarzenia dla Info Stargard
REFRESH-INTERVAL;VALUE=DURATION:PT1H
X-Robots-Tag:noindex
X-PUBLISHED-TTL:PT1H
BEGIN:VTIMEZONE
TZID:Europe/Helsinki
BEGIN:DAYLIGHT
TZOFFSETFROM:+0200
TZOFFSETTO:+0300
TZNAME:EEST
DTSTART:20250330T010000
END:DAYLIGHT
BEGIN:STANDARD
TZOFFSETFROM:+0300
TZOFFSETTO:+0200
TZNAME:EET
DTSTART:20251026T010000
END:STANDARD
BEGIN:DAYLIGHT
TZOFFSETFROM:+0200
TZOFFSETTO:+0300
TZNAME:EEST
DTSTART:20260329T010000
END:DAYLIGHT
BEGIN:STANDARD
TZOFFSETFROM:+0300
TZOFFSETTO:+0200
TZNAME:EET
DTSTART:20261025T010000
END:STANDARD
BEGIN:DAYLIGHT
TZOFFSETFROM:+0200
TZOFFSETTO:+0300
TZNAME:EEST
DTSTART:20270328T010000
END:DAYLIGHT
BEGIN:STANDARD
TZOFFSETFROM:+0300
TZOFFSETTO:+0200
TZNAME:EET
DTSTART:20271031T010000
END:STANDARD
END:VTIMEZONE
BEGIN:VEVENT
DTSTART;TZID=Europe/Helsinki:20260326T080000
DTEND;TZID=Europe/Helsinki:20260326T180000
DTSTAMP:20260419T173423
CREATED:20260224T091044Z
LAST-MODIFIED:20260224T091157Z
UID:39355-1774512000-1774548000@infostargard.pl
SUMMARY:Dni Otwarte ZS5
DESCRIPTION:Zespół Szkół nr 5 w Stargardzie zaprasza uczniów klas ósmych oraz ich rodziców na Dni Otwarte\, które odbędą się w czwartek\, 26 marca w godz. 8-18 w siedzibie szkoły przy ul. Jana Śniadeckiego 4-6. \nTo doskonała okazja\, aby poznać ofertę edukacyjną placówki\, zobaczyć pracownie oraz porozmawiać z nauczycielami i uczniami. Szkoła zachęca zainteresowanych do odwiedzin i wspólnego odkrycia swojej przyszłej ścieżki zawodowej.
URL:https://infostargard.pl/event/dni-otwarte-zs5/
LOCATION:Zespół Szkół nr 5 w Stargardzie
END:VEVENT
BEGIN:VEVENT
DTSTART;TZID=Europe/Helsinki:20260326T100000
DTEND;TZID=Europe/Helsinki:20260326T131500
DTSTAMP:20260419T173423
CREATED:20260302T061512Z
LAST-MODIFIED:20260302T061512Z
UID:39805-1774519200-1774530900@infostargard.pl
SUMMARY:Konferencja - "Biblioteka wspierająca edukację obywatelską i patriotyczną" 
DESCRIPTION:Książnica Stargardzka oraz Powiatowy Ośrodek Doskonalenia Nauczycieli w Stargardzie informują\, że w dniu 26 marca 2026 roku w godz. 10.00–13.15 w siedzibie Książnicy Stargardzkiej (Pracownia Kreatywności) odbędzie się konferencja pt. „Biblioteka wspierająca edukację obywatelską i patriotyczną”. \nCelem wydarzenia jest podkreślenie roli bibliotek w kształtowaniu postaw obywatelskich i patriotycznych\, a także wymiana doświadczeń i dobrych praktyk w zakresie działań edukacyjnych prowadzonych przez biblioteki. \n \nProgram: \n10:00–10:10 \nPowitanie uczestników konferencji \n10.10-10.40 \nAgnieszka Kraińska\, WOS na Głowie \nBiblioteka jako laboratorium postaw \n10.40-11.00 \ndr hab.\, prof. US\, Małgorzata Machałek\, Uniwersytet Szczeciński \nMiędzy biblioteką\, szkołą a małą ojczyzną. O potrzebach\, szansach i barierach w edukacji regionalnej \n11.00-11.20 \ndr Katarzyna Rembacka\, Zachodniopomorskie Centrum Doskonalenia Nauczycieli  \nBiblioteka – miejsce zaangażowane \n11.20-11.30 Dyskusja \n11.30-11.50 Przerwa kawowa \n11.50-12.10 \nIrena Zalewska\, Powiatowy Ośrodek Doskonalenia Nauczycieli w Stargardzie \nBiblioteka szkolna jako przestrzeń odkrywania historii lokalnej i dziedzictwa kulturowego. Dobre praktyki projektowe \n12.10-12.20 \nKacper Mierzyński\, Książnica Stargardzka \nMiędzy historią a teraźniejszością – edukacja patriotyczna w działaniach Książnicy Stargardzkiej \n12.20-12.40 \nAgnieszka Peplińska-Kot\, Biblioteka Publiczna Gminy Wolin \nPatriotyzm codzienności: biblioteka w sercu wspólnoty \n12.40-13.00 \nMonika Kwaśniak\, Książnica Pomorska \nLuka do wypełnienia: biblioteka jako inkubator postaw obywatelskich \n13.00-13.15 \nDyskusja i zakończenie konferencji \n 
URL:https://infostargard.pl/event/konferencja-biblioteka-wspierajaca-edukacje-obywatelska-i-patriotyczna/
LOCATION:Książnica Stargardzka – Pracownia Kreatywności (wejście od ul. Pocztowej)
END:VEVENT
BEGIN:VEVENT
DTSTART;TZID=Europe/Helsinki:20260326T120000
DTEND;TZID=Europe/Helsinki:20260326T120000
DTSTAMP:20260419T173423
CREATED:20260325T085220Z
LAST-MODIFIED:20260325T085309Z
UID:41879-1774526400-1774526400@infostargard.pl
SUMMARY:Boboteka - spotkanie dla rodziców z małymi dziećmi z doradcą chustowym Adą Stefańską
DESCRIPTION:W najbliższy czwartek\, 26 marca o godz. 12\, odbędzie się kolejne spotkanie w z cyklu „Boboteka” – miejsca stworzonego dla rodziców i najmłodszych.  \nSpotkanie poprowadzi doradczyni noszenia – Ada Stefańska. \n– Jeśli macie ochotę na spokojne spotkanie w przyjaznej atmosferze\, będzie nam bardzo miło Was zobaczyć – zachęcają organizatorzy. – Zabierzcie maluchy i dołączcie do nas!
URL:https://infostargard.pl/event/boboteka-spotkanie-dla-rodzicow-z-malymi-dziecmi-z-doradca-chustowym-ada-stefanska/
LOCATION:Strefa Dzieci i Młodzieży w Książnicy Stargardzkiej
END:VEVENT
BEGIN:VEVENT
DTSTART;TZID=Europe/Helsinki:20260326T180000
DTEND;TZID=Europe/Helsinki:20260326T180000
DTSTAMP:20260419T173423
CREATED:20260324T075649Z
LAST-MODIFIED:20260324T075649Z
UID:41788-1774548000-1774548000@infostargard.pl
SUMMARY:Miejsca piórkiem utrwalone - wernisaż wystawy Jerzego Dobrzyńskiego
DESCRIPTION:
URL:https://infostargard.pl/event/miejsca-piorkiem-utrwalone-wernisaz-wystawy-jerzego-dobrzynskiego/
LOCATION:Brama Wałowa w Stargardzie
END:VEVENT
END:VCALENDAR