BEGIN:VCALENDAR
VERSION:2.0
PRODID:-//Info Stargard - ECPv6.15.20//NONSGML v1.0//EN
CALSCALE:GREGORIAN
METHOD:PUBLISH
X-WR-CALNAME:Info Stargard
X-ORIGINAL-URL:https://infostargard.pl
X-WR-CALDESC:Wydarzenia dla Info Stargard
REFRESH-INTERVAL;VALUE=DURATION:PT1H
X-Robots-Tag:noindex
X-PUBLISHED-TTL:PT1H
BEGIN:VTIMEZONE
TZID:Europe/Helsinki
BEGIN:DAYLIGHT
TZOFFSETFROM:+0200
TZOFFSETTO:+0300
TZNAME:EEST
DTSTART:20250330T010000
END:DAYLIGHT
BEGIN:STANDARD
TZOFFSETFROM:+0300
TZOFFSETTO:+0200
TZNAME:EET
DTSTART:20251026T010000
END:STANDARD
BEGIN:DAYLIGHT
TZOFFSETFROM:+0200
TZOFFSETTO:+0300
TZNAME:EEST
DTSTART:20260329T010000
END:DAYLIGHT
BEGIN:STANDARD
TZOFFSETFROM:+0300
TZOFFSETTO:+0200
TZNAME:EET
DTSTART:20261025T010000
END:STANDARD
BEGIN:DAYLIGHT
TZOFFSETFROM:+0200
TZOFFSETTO:+0300
TZNAME:EEST
DTSTART:20270328T010000
END:DAYLIGHT
BEGIN:STANDARD
TZOFFSETFROM:+0300
TZOFFSETTO:+0200
TZNAME:EET
DTSTART:20271031T010000
END:STANDARD
END:VTIMEZONE
BEGIN:VEVENT
DTSTART;TZID=Europe/Helsinki:20260321T090000
DTEND;TZID=Europe/Helsinki:20260321T090000
DTSTAMP:20260419T173427
CREATED:20260311T111813Z
LAST-MODIFIED:20260311T111853Z
UID:40754-1774083600-1774083600@infostargard.pl
SUMMARY:Wiosenny rajd pieszy z PTTK
DESCRIPTION:
URL:https://infostargard.pl/event/wiosenny-rajd-pieszy-z-pttk/
LOCATION:Szkoła Podstawowa nr 1 w Stargardzie\, ul. Kwiatowa
END:VEVENT
BEGIN:VEVENT
DTSTART;TZID=Europe/Helsinki:20260321T110000
DTEND;TZID=Europe/Helsinki:20260321T150000
DTSTAMP:20260419T173427
CREATED:20260305T122548Z
LAST-MODIFIED:20260319T075614Z
UID:40158-1774090800-1774105200@infostargard.pl
SUMMARY:Filarowe Laboratorium Rodzinne - "Wiosenne tworzenie"
DESCRIPTION:21 marca w Stargardzkim Centrum Nauki Filary odbędzie się Filarowe Laboratorium Rodzinne. Pod hasłem „Wiosenne tworzenie”\, dzieci od 5. roku życia wraz z opiekunami wezmą udział w kreatywnych warsztatach. \nW cenie jednego biletu zawarto kompleksowy pakiet: warsztaty\, zwiedzanie wystawy interaktywnej i multimedialnej oraz udział w  FILA[G]RACH. Liczba miejsc jest ograniczona\, warto więc kupić bilety wcześniej.
URL:https://infostargard.pl/event/filarowe-laboratorium-rodzinne-wiosenne-tworzenie/
LOCATION:SCN Filary
END:VEVENT
BEGIN:VEVENT
DTSTART;TZID=Europe/Helsinki:20260321T120000
DTEND;TZID=Europe/Helsinki:20260321T180000
DTSTAMP:20260419T173427
CREATED:20260305T122834Z
LAST-MODIFIED:20260311T085526Z
UID:40161-1774094400-1774116000@infostargard.pl
SUMMARY:FILA[G]RY - w SCN Filary
DESCRIPTION:21 marca FILARY zamienią się w wielką pracownię artystyczną. Tym razem popularne spotkanie planszówkowe FILA[G]RY zyska wyjątkową oprawę. We współpracy ze szczecińską firmą Titan Forge – specjalistami od figurek kolekcjonerskich – zorganizowane zostaną warsztaty malowania modeli. \n– Uczestnicy będą mogli wybrać własną figurkę fantasy i pod okiem ekspertów nadać jej unikalny charakter. To atrakcja zarówno dla weteranów wargamingu\, jak i tych\, którzy pędzel trzymają w ręku po raz pierwszy – informuje Joanna Cupak\, zastępca kierownika SCN FILARY. – Oczywiście nie zabraknie też samej gry – biblioteka gier jest teraz dostępna w sali\, gdzie odbywa się wydarzenie – dodaje Joanna Cupak.
URL:https://infostargard.pl/event/filagry-w-scn-filary/
LOCATION:SCN Filary
END:VEVENT
BEGIN:VEVENT
DTSTART;TZID=Europe/Helsinki:20260321T160000
DTEND;TZID=Europe/Helsinki:20260321T160000
DTSTAMP:20260419T173427
CREATED:20260319T115430Z
LAST-MODIFIED:20260319T115501Z
UID:41391-1774108800-1774108800@infostargard.pl
SUMMARY:Powitanie Wiosny w Krępcewie
DESCRIPTION:
URL:https://infostargard.pl/event/powitanie-wiosny-w-krepcewie/
LOCATION:Plac Integracyjny w Krępcewie
END:VEVENT
BEGIN:VEVENT
DTSTART;TZID=Europe/Helsinki:20260321T180000
DTEND;TZID=Europe/Helsinki:20260321T180000
DTSTAMP:20260419T173427
CREATED:20260314T105639Z
LAST-MODIFIED:20260314T105639Z
UID:40949-1774116000-1774116000@infostargard.pl
SUMMARY:Piosenka jest dobra na wszystko - koncert Julity Kożuszek
DESCRIPTION:
URL:https://infostargard.pl/event/piosenka-jest-dobra-na-wszystko-koncert-julity-kozuszek/
LOCATION:Piwnica TPS
END:VEVENT
END:VCALENDAR