BEGIN:VCALENDAR
VERSION:2.0
PRODID:-//Info Stargard - ECPv6.15.20//NONSGML v1.0//EN
CALSCALE:GREGORIAN
METHOD:PUBLISH
X-ORIGINAL-URL:https://infostargard.pl
X-WR-CALDESC:Wydarzenia dla Info Stargard
REFRESH-INTERVAL;VALUE=DURATION:PT1H
X-Robots-Tag:noindex
X-PUBLISHED-TTL:PT1H
BEGIN:VTIMEZONE
TZID:Europe/Helsinki
BEGIN:DAYLIGHT
TZOFFSETFROM:+0200
TZOFFSETTO:+0300
TZNAME:EEST
DTSTART:20250330T010000
END:DAYLIGHT
BEGIN:STANDARD
TZOFFSETFROM:+0300
TZOFFSETTO:+0200
TZNAME:EET
DTSTART:20251026T010000
END:STANDARD
BEGIN:DAYLIGHT
TZOFFSETFROM:+0200
TZOFFSETTO:+0300
TZNAME:EEST
DTSTART:20260329T010000
END:DAYLIGHT
BEGIN:STANDARD
TZOFFSETFROM:+0300
TZOFFSETTO:+0200
TZNAME:EET
DTSTART:20261025T010000
END:STANDARD
BEGIN:DAYLIGHT
TZOFFSETFROM:+0200
TZOFFSETTO:+0300
TZNAME:EEST
DTSTART:20270328T010000
END:DAYLIGHT
BEGIN:STANDARD
TZOFFSETFROM:+0300
TZOFFSETTO:+0200
TZNAME:EET
DTSTART:20271031T010000
END:STANDARD
END:VTIMEZONE
BEGIN:VEVENT
DTSTART;TZID=Europe/Helsinki:20260320T000000
DTEND;TZID=Europe/Helsinki:20260321T000000
DTSTAMP:20260419T173519
CREATED:20260311T112629Z
LAST-MODIFIED:20260311T112849Z
UID:40758-1773964800-1774051200@infostargard.pl
SUMMARY:Wielkanocna Zbiórka Żywności
DESCRIPTION:Już wkrótce rusza Wielkanocna Zbiórka Żywności organizowana przez Bank Żywności Szczecin im. Jacka Kuronia. \nZbiórka będzie prowadzona przy współpracy z Fundacją Region Powiat Gmina\, która wspiera jej realizację na terenie Stargardu. Zebrana w Stargardzie żywność trafi do osób najbardziej potrzebujących właśnie z terenu\, gdzie zbiórka będzie przeprowadzana. \nZapraszamy Wolontariuszy do włączenia się w tę wyjątkową akcję. Do udziału zachęcamy szczególnie szkoły\, organizacje oraz wszystkich ludzi o wielkich sercach\, którzy chcą pomóc innym przed nadchodzącymi Świętami Wielkanocnymi. \nWielkanocna zbiórka w sklepach odbędzie się w dniach 20–21 marca. Wolontariuszy prosimy o zgłaszanie się do 16 marca. Wszelkich informacji udzielamy telefonicznie: 722 005 063. \nPokażmy\, że potrafimy się dzielić dobrem. Razem możemy podarować potrzebującym nie tylko żywność\, ale także nadzieję i radość na Święta Wielkanocne. \nInf. organizatora
URL:https://infostargard.pl/event/wielkanocna-zbiorka-zywnosci/
LOCATION:Stargard
END:VEVENT
BEGIN:VEVENT
DTSTART;TZID=Europe/Helsinki:20260320T090000
DTEND;TZID=Europe/Helsinki:20260320T130000
DTSTAMP:20260419T173519
CREATED:20260225T090623Z
LAST-MODIFIED:20260225T091000Z
UID:39505-1773997200-1774011600@infostargard.pl
SUMMARY:XVIII Spotkania z edukacją
DESCRIPTION:W piątek\, 20 marca w godz. 9-13 w hali sportowej Zespołu Szkół Budowlano-Technicznych Centrum Kształcenia Zawodowego w Stargard odbędą się XVIII Spotkania z Edukacją.  \nWydarzenie skierowane jest przede wszystkim do uczniów klas ósmych szkół podstawowych\, którzy stoją przed wyborem dalszej ścieżki kształcenia. \nW programie zaplanowano prezentacje szkół ponadpodstawowych\, promocję szkolnictwa zawodowego oraz wymianę doświadczeń edukacyjnych. Uczniowie i ich rodzice będą mogli zapoznać się z ofertą edukacyjną na rok szkolny 2026/2027\, porozmawiać z nauczycielami i uczniami starszych klas\, a także uzyskać szczegółowe informacje dotyczące kierunków kształcenia oraz możliwości rozwoju zawodowego. \nSpotkania z Edukacją to coroczna inicjatywa\, która od lat cieszy się dużym zainteresowaniem wśród młodzieży i środowiska oświatowego. Organizatorzy podkreślają\, że wydarzenie ma pomóc młodym ludziom w podjęciu jednej z najważniejszych decyzji edukacyjnych oraz świadomym zaplanowaniu swojej przyszłości. Na wydarzenie zaproszeni są uczniowie\, rodzice\, nauczyciele oraz wszyscy zainteresowani tematyką edukacyjną. \nOrganizatorami przedsięwzięcia są Centrum Kształcenia Zawodowego w Stargardzie\, Poradnia Psychologiczno-Pedagogiczna w Stargardzie oraz Zespół Szkół Budowlano-Technicznych w Stargardzie. Wydarzenie odbywa się pod patronatem Zachodniopomorskiego Kuratora Oświaty\, Starosty Stargardzkiego oraz Prezydenta Miasta Stargard.
URL:https://infostargard.pl/event/xviii-spotkania-z-edukacja/
LOCATION:Hala Sportowa Zespołu Szkół Budowlano-Technicznych Centrum Kształcenia Zawodowego w Stargardzie ul. Pierwszej Brygady 35
END:VEVENT
BEGIN:VEVENT
DTSTART;TZID=Europe/Helsinki:20260320T170000
DTEND;TZID=Europe/Helsinki:20260320T170000
DTSTAMP:20260419T173519
CREATED:20260306T081825Z
LAST-MODIFIED:20260311T113110Z
UID:40233-1774026000-1774026000@infostargard.pl
SUMMARY:Warsztaty Wielkanocne w Kobylance
DESCRIPTION:
URL:https://infostargard.pl/event/warsztaty-wielkanocne-w-kobylance/
LOCATION:Centrum Kultury i Rekreacji w Kobylance
END:VEVENT
BEGIN:VEVENT
DTSTART;TZID=Europe/Helsinki:20260320T170000
DTEND;TZID=Europe/Helsinki:20260320T170000
DTSTAMP:20260419T173519
CREATED:20260319T093518Z
LAST-MODIFIED:20260319T094100Z
UID:41300-1774026000-1774026000@infostargard.pl
SUMMARY:Spotkanie z trychologiem w Książnicy Stargardzkiej
DESCRIPTION:Książnica Stargardzka zaprasza na spotkanie z trychologiem\, Anną Liwosz w ramach cyklu Biblioteka Dorosłego Człowieka. To doskonała okazja\, by dowiedzieć się\, jak dbać o włosy i skórę głowy\, jakie błędy pielęgnacyjne popełniamy najczęściej i kiedy warto skonsultować się ze specjalistą.  \nWydarzenie odbędzie się w piątek\, 20 marca o godz. 17\, w Filii nr 2 na os. Lotnisko. \n– Jeśli chcesz zadbać o swoje włosy i skórę głowy\, poznać praktyczne wskazówki od specjalisty i rozwiać wątpliwości dotyczące codziennej pielęgnacji\, to spotkanie jest właśnie dla ciebie – zachęcają organizatorzy. – Wstęp jest bezpłatny.  \nPodczas spotkania Anna Liwosz opowie m.in. o: \n\nczym jest trychologia i na czym polega praca trychologa\,\njak zmienia się skóra głowy i włosy po 50 roku życia\,\njakie są najczęstsze błędy w codziennej pielęgnacji\,\njak wygląda prawidłowa pielęgnacja i na co zwracać uwagę\,\nkiedy warto udać się do specjalisty\, aby uniknąć problemów.
URL:https://infostargard.pl/event/spotkanie-z-trychologiem-w-ksiaznicy-stargardzkiej/
LOCATION:Filia nr 2\, Książnica Stargardzka
END:VEVENT
END:VCALENDAR